BEGIN:VCALENDAR
VERSION:2.0
PRODID:-//The Mad River Valley Village - ECPv6.0.13//NONSGML v1.0//EN
CALSCALE:GREGORIAN
METHOD:PUBLISH
X-WR-CALNAME:The Mad River Valley Village
X-ORIGINAL-URL:https://mrvvillage.com
X-WR-CALDESC:Events for The Mad River Valley Village
REFRESH-INTERVAL;VALUE=DURATION:PT1H
X-Robots-Tag:noindex
X-PUBLISHED-TTL:PT1H
BEGIN:VTIMEZONE
TZID:America/New_York
BEGIN:DAYLIGHT
TZOFFSETFROM:-0500
TZOFFSETTO:-0400
TZNAME:EDT
DTSTART:20260308T070000
END:DAYLIGHT
BEGIN:STANDARD
TZOFFSETFROM:-0400
TZOFFSETTO:-0500
TZNAME:EST
DTSTART:20261101T060000
END:STANDARD
END:VTIMEZONE
BEGIN:VEVENT
DTSTART;TZID=America/New_York:20260330T160000
DTEND;TZID=America/New_York:20260531T203000
DTSTAMP:20260422T012831
CREATED:20260328T182342Z
LAST-MODIFIED:20260328T182342Z
UID:10010043-1774886400-1780259400@mrvvillage.com
SUMMARY:Iconic Sunday — Sugarbush & Ikon Passholder Night
DESCRIPTION:Wrap up your weekend with 10% off food every Sunday when you show your Sugarbush or Ikon pass. Whether you spent the day chasing corn snow or just soaking up the longer daylight\, we’ve got your après covered. \nCome in\, warm up\, grab a bite\, and enjoy a little spring perk from all of us at Déco.
URL:https://mrvvillage.com/event/iconic-sunday-sugarbush-ikon-passholder-night/
LOCATION:Déco Restaurant and Bar\, 203 Powderhound Rd\, Warren\, 05674\, United States
ATTACH;FMTTYPE=image/jpeg:https://mrvvillage.com/wp-content/uploads/2026/03/compressedImage-231-J6a7PD.jpg
GEO:44.1341626;-72.8481813
X-APPLE-STRUCTURED-LOCATION;VALUE=URI;X-ADDRESS=Déco Restaurant and Bar 203 Powderhound Rd Warren 05674 United States;X-APPLE-RADIUS=500;X-TITLE=203 Powderhound Rd:geo:-72.8481813,44.1341626
END:VEVENT
BEGIN:VEVENT
DTSTART;TZID=America/New_York:20260401T160000
DTEND;TZID=America/New_York:20260527T203000
DTSTAMP:20260422T012831
CREATED:20260328T182359Z
LAST-MODIFIED:20260401T192327Z
UID:10010045-1775059200-1779913800@mrvvillage.com
SUMMARY:Ski You Wednesday — Mad River Glen Passholder Night
DESCRIPTION:As a thank you to the Mad River Glen season passholders Every Wednesday in April and May\, get 10% off all food. \nIt’s our midweek nod to the Single Chair faithful as we shift from powder turns to spring adventures. \nMake sure you bring your pass and show to your server to get the discount.
URL:https://mrvvillage.com/event/ski-you-wednesday-mad-river-glen-passholder-night/
LOCATION:Déco Restaurant and Bar\, 203 Powderhound Rd\, Warren\, 05674\, United States
CATEGORIES:Aprés,Food & Drink
ATTACH;FMTTYPE=image/jpeg:https://mrvvillage.com/wp-content/uploads/2026/03/compressedImage-23-LlPDcC.jpg
GEO:44.1341626;-72.8481813
X-APPLE-STRUCTURED-LOCATION;VALUE=URI;X-ADDRESS=Déco Restaurant and Bar 203 Powderhound Rd Warren 05674 United States;X-APPLE-RADIUS=500;X-TITLE=203 Powderhound Rd:geo:-72.8481813,44.1341626
END:VEVENT
BEGIN:VEVENT
DTSTART;TZID=America/New_York:20260416T193000
DTEND;TZID=America/New_York:20260426T140000
DTSTAMP:20260422T012831
CREATED:20260328T182557Z
LAST-MODIFIED:20260416T213821Z
UID:10010051-1776367800-1777212000@mrvvillage.com
SUMMARY:OUR TOWN (FOR OUR COMMUNITY)
DESCRIPTION:Experience Thornton Wilder’s Pulitzer Prize and Tony Winner up close and personal. \nSurprisingly modern\, ordinary moments become unforgettable in Our Town.This beloved American classic wowed Broadway audiences as recently as 2024! \nOur production of this funny & touching masterwork features local actors and ‘characters’ – some of whom may have been “born to play the part.” Join LNT founder Kim Bent as The Stage Manager George Woodard as the Milkman\, Bill Pelton as the choirmaster and many more wonderful artists & community members. Our Town is humorous\, poignant\, and profound. It may be just the thing we need now. \nCOST: $15 – $44\, depending on day/type of ticket. Center reserved guarantee seats available for additional fee.\nINFO & TICKETS: WWW.LOSTNATIONTHEATER.ORG\nCity Hall’s elevator inoperable\, requiring patrons to climb 37 total steps to attend in person. The play will be available digitally to make the show accessible for those unable to physically join us. Call (802-229-0492) or email info@lostnationtheater.org to discuss alternative viewing options. \nSPONSORS: City of Montpelier\, Greenway Institute\, Eternity\, The Estate of Ted Richards\, The Mary Shriver Fund of the Alan Weiss Estate\, The Point -FM! \nABOUT LNT: Lost Nation Theater winner “Theater of the Decade” – Broadway World (2020);\n“Best of New England”\, Yankee Magazine\, was named “One of the Best regional theaters in America” by the New York Drama League\, “Outstanding Achievement Award” – New England Theatre Conference; and has won multiple People’s Choice “Best Theater” awards from Seven Days and The Times Argus.
URL:https://mrvvillage.com/event/our-town-for-our-community/
LOCATION:Lost Nation Theater\, 39 Main Street\, Montpelier\, 05602
CATEGORIES:Arts & Entertainment
ATTACH;FMTTYPE=image/png:https://mrvvillage.com/wp-content/uploads/2026/03/2026-Web-Cover-OUr-Town-6.67-x-8-in.9e05cb05.31712343-YiuPHn.png
ORGANIZER;CN="Lost%20Nation%20Theater":MAILTO:boxoffice@lostnationtheater.org
GEO:44.2591817;-72.5755222
X-APPLE-STRUCTURED-LOCATION;VALUE=URI;X-ADDRESS=Lost Nation Theater 39 Main Street Montpelier 05602;X-APPLE-RADIUS=500;X-TITLE=39 Main Street:geo:-72.5755222,44.2591817
END:VEVENT
BEGIN:VEVENT
DTSTART;TZID=America/New_York:20260417T090000
DTEND;TZID=America/New_York:20260531T170000
DTSTAMP:20260422T012831
CREATED:20260409T153922Z
LAST-MODIFIED:20260417T215323Z
UID:10010095-1776416400-1780246800@mrvvillage.com
SUMMARY:Saving Summer Spring Sales Event
DESCRIPTION:The Save Your Summer – Spring Sales Event is your opportunity to get ahead of the boating season with exclusive spring pricing on pontoons\, fishing boats\, runabouts\, and personal watercraft. With strong inventory\, limited-time savings\, and over 65 years of trusted experience\, our team will help you find the right boat for Vermont lakes. \nSecure your setup early and enjoy more time on the water this summer.
URL:https://mrvvillage.com/event/saving-summer-spring-sales-event/
LOCATION:Woodard  Marine\, 53 East Creek Dr.\, Castleton\, Vermont\, 05750\, United States
CATEGORIES:Sports & Recreation
ATTACH;FMTTYPE=image/jpeg:https://mrvvillage.com/wp-content/uploads/2026/04/WM26_SpringSaleSocial_1080x1080-Ef0fjU.jpg
ORGANIZER;CN="Woodard%20Marine":MAILTO:info@woodardmarine.com
GEO:43.605978;-73.2326259
X-APPLE-STRUCTURED-LOCATION;VALUE=URI;X-ADDRESS=Woodard  Marine 53 East Creek Dr. Castleton Vermont 05750 United States;X-APPLE-RADIUS=500;X-TITLE=53 East Creek Dr.:geo:-73.2326259,43.605978
END:VEVENT
BEGIN:VEVENT
DTSTART;TZID=America/New_York:20260422T120000
DTEND;TZID=America/New_York:20260422T200000
DTSTAMP:20260422T012831
CREATED:20260324T122549Z
LAST-MODIFIED:20260421T223822Z
UID:10010016-1776859200-1776888000@mrvvillage.com
SUMMARY:Sunshine Brat Wednesdays
DESCRIPTION:About the Event\nEvery Wednesday come to Lawson’s Finest Liquids for some big time flavor: A massive jalapeño cheddar beer bratwurst made with Sip of Sunshine by our friends at 5th Quarter Butcher\, served on a pretzel bun with a side of crispy greens and a side of German potato salad\, and your choice of draft beer! All of this for just $20! Are we kidding?! Never. We’re all business\, baby. \n \n\n\n\n\n\n\n                  Details\n                 \n\n                    Date: Time:\n                   \n \n\n\n\n\n\n                  Organizer\n                 \n \n\n\n\n\n\n                  Venue\n                 \n \n\n\n\n\n\n\n     \n      Add to Calendar\n     \n\n      \n        \n        Google Calendar\n      \n      \n        \n        Outlook\n      \n      \n        \n        Yahoo Calendar\n      \n      \n        \n        Download (.ics)
URL:https://mrvvillage.com/event/sunshine-brat-wednesdays-31/
LOCATION:Lawson’s Finest Taproom\, 155 Carroll Rd\, Waitsfield\, VT\, 05673\, United States
CATEGORIES:Taproom Events
ATTACH;FMTTYPE=image/jpeg:https://mrvvillage.com/wp-content/uploads/2025/12/LFL_Taproom_Slideshow-6-scaled-DiKZaj-3Odgjy.jpg
ORGANIZER;CN="Lawson%26%238217%3Bs%20Finest%20Liquids":MAILTO:hello@lawsonsfinest.com
GEO:44.1878744;-72.835237
X-APPLE-STRUCTURED-LOCATION;VALUE=URI;X-ADDRESS=Lawson’s Finest Taproom 155 Carroll Rd Waitsfield VT 05673 United States;X-APPLE-RADIUS=500;X-TITLE=155 Carroll Rd:geo:-72.835237,44.1878744
END:VEVENT
BEGIN:VEVENT
DTSTART;TZID=America/New_York:20260422T130000
DTEND;TZID=America/New_York:20260422T170000
DTSTAMP:20260422T012831
CREATED:20260122T021524Z
LAST-MODIFIED:20260421T223822Z
UID:10009784-1776862800-1776877200@mrvvillage.com
SUMMARY:Zero Celsius
DESCRIPTION:ZERO CELSIUS takes place at Mad Arts and Sugarbush Resort\, and gathers artists who explore the textures\, tensions\, and transformations of winter. \nFrom the hush of frozen landscapes to the volatility of a warming climate\, the exhibition reflects on how the cold season shapes—and is reshaped by—human and environmental relationships. \nBringing together sculpture\, installation\, sound\, photography\, and digital media\, ZERO CELSIUS examines winter as material\, concept\, and metaphor: crystalline\, fleeting\, and ecologically vital. The exhibition invites visitors to consider the fragility of snow in a changing world\, to reconnect with winter’s wonder and silence\, and to share their own stories and memories of a season both timeless and increasingly imperiled.
URL:https://mrvvillage.com/event/zero-celsius-78/
LOCATION:Mad River Valley Arts\, 5031 Main Street #2 Village Square\, Waitsfield\, 05673
CATEGORIES:Arts & Entertainment
ATTACH;FMTTYPE=image/png:https://mrvvillage.com/wp-content/uploads/2025/12/Screenshot-2025-12-29-at-2.15.47-PM-wAnLAh.png
ORGANIZER;CN="Mad%20River%20ValleyArts":MAILTO:info@madrivervalleyarts.org
GEO:44.1926386;-72.7798479
X-APPLE-STRUCTURED-LOCATION;VALUE=URI;X-ADDRESS=Mad River Valley Arts 5031 Main Street #2 Village Square Waitsfield 05673;X-APPLE-RADIUS=500;X-TITLE=5031 Main Street #2 Village Square:geo:-72.7798479,44.1926386
END:VEVENT
BEGIN:VEVENT
DTSTART;TZID=America/New_York:20260422T180000
DTEND;TZID=America/New_York:20260422T190000
DTSTAMP:20260422T012831
CREATED:20260313T213832Z
LAST-MODIFIED:20260421T223822Z
UID:10009996-1776880800-1776884400@mrvvillage.com
SUMMARY:MRV Chamber Short Term Rental Collaborative Meeting
DESCRIPTION:Short-Term Rentals Are Here to Stay – Make Sure Your Voice Shapes the Future of the MRV Visitor Economy\nJoin the MRV Chamber’s new Short-Term Rental Collaborative to connect with fellow hosts\, share perspectives\, and help guide the Valley’s tourism future.\n\nWhen: Wednesday April 22 at 7-8 pm\nWhere: MRV Chamber Welcome Center\nIn-Person & Remote Option \nAn Initial Informational Meeting\nOver the past decade\, the lodging landscape in the Mad River Valley has changed dramatically. Traditional inns\, hotels\, and lodges have gradually declined\, while short-term rentals (STRs) now make up a significant portion of the Valley’s visitor bed base. \nAt the same time\, municipalities are actively discussing housing pressures\, STR regulations\, and how to balance tourism with community needs. These shifts have created both opportunities and tensions\, and it’s more important than ever that the STR sector engages constructively in shaping the Valley’s visitor economy. \nThe Mad River Valley Chamber of Commerce is convening an initial meeting to begin building a collaborative table for dialogue and action. \nWhy This Conversation Matters\nFor decades\, traditional lodging properties carried much of the responsibility for promoting the Valley as a visitor destination. STRs are now an established and growing part of that lodging mix — a fact of life in today’s tourism economy. \nAs STRs continue to grow\, it is vital that this sector pulls its weight in promoting the Valley\, helping share the responsibility for sustaining the visitor economy and supporting local businesses that depend on tourism. \nLocal municipalities are also paying close attention to housing\, STR regulations\, and community impacts. The most effective way for STR owners and dependent businesses to have a voice in these discussions is to organize\, communicate openly\, and engage collaboratively. Participating now ensures your perspectives help shape the future.  \nLearn more about the STR issue in the MRV – the Mad River Valley Planning District created a Short Term Rentals in the MRV White Paper. Created in 2021 it is somewhat dated but the most pertinent facts remain generally unchanged.
URL:https://mrvvillage.com/event/mrv-chamber-short-term-rental-collaborative-meeting/
LOCATION:MRV Chamber Welcome Center\, 9 Route 17\, Waitsfield\, VT\, 05673\, United States
CATEGORIES:Chamber Events,Community
ATTACH;FMTTYPE=image/png:https://mrvvillage.com/wp-content/uploads/2026/03/Screenshot-2026-03-13-at-2.32.38-PM-Qq4RAF.png
ORGANIZER;CN="Mad%20River%20Valley%20Chamber%20of%20Commerce":MAILTO:eric@madrivervalley.com
GEO:44.1808649;-72.8405908
X-APPLE-STRUCTURED-LOCATION;VALUE=URI;X-ADDRESS=MRV Chamber Welcome Center 9 Route 17 Waitsfield VT 05673 United States;X-APPLE-RADIUS=500;X-TITLE=9 Route 17:geo:-72.8405908,44.1808649
END:VEVENT
BEGIN:VEVENT
DTSTART;TZID=America/New_York:20260422T181500
DTEND;TZID=America/New_York:20260422T201500
DTSTAMP:20260422T012831
CREATED:20260127T224529Z
LAST-MODIFIED:20260421T223822Z
UID:10009816-1776881700-1776888900@mrvvillage.com
SUMMARY:Life Drawing Wednesdays
DESCRIPTION:✍🏻 Life Drawing Wednesdays presented by The Valley Artists Guild \nThe very popular Wednesday Night Drawing Sessions will resume on Feb\, 4\, 2025. This is a self-directed session. No instruction or critiques are offered but conversations and sharing within the group are sure to inspire 😎 \nSubjects vary every two weeks: two weeks of Live Models\, two weeks of Still Life or equivalent. All media are welcome except\nphotography. \nWHEN\nEvery Wednesday Evening from 6:15 – 8:15 pm. Classes begin on Feb 4th. \nWHERE\nThe UCC Waitsfield Village Meeting House. Located in Historic Waitsfield Village across from the VG. Parking is in back. \nCOST\nThe cost is $15/visit. Cash only Please. \n#madrivervalley #vermontartist #livedrawing #madriverartists #vtlivedrawing \nPhoto / drawing courtesy Loida Alvarez (@Loida.art) — copyright 2026
URL:https://mrvvillage.com/event/life-drawing-wednesdays-12/
LOCATION:Waitsfield Church Village Meeting Room\, Route 100\, Waitsfield\, VT\, 05673
CATEGORIES:Arts & Entertainment
ATTACH;FMTTYPE=image/jpeg:https://mrvvillage.com/wp-content/uploads/2026/01/sketch-loida-alvarez-GUILD-web-T2l9NL.jpg
ORGANIZER;CN="Valley%20Artists%20Guild":MAILTO:info@valleyartistsguild.com
GEO:44.2017815;-72.8121321
X-APPLE-STRUCTURED-LOCATION;VALUE=URI;X-ADDRESS=Waitsfield Church Village Meeting Room Route 100 Waitsfield VT 05673;X-APPLE-RADIUS=500;X-TITLE=Route 100:geo:-72.8121321,44.2017815
END:VEVENT
BEGIN:VEVENT
DTSTART;TZID=America/New_York:20260422T183000
DTEND;TZID=America/New_York:20260422T200000
DTSTAMP:20260422T012831
CREATED:20260309T134325Z
LAST-MODIFIED:20260421T223822Z
UID:10009991-1776882600-1776888000@mrvvillage.com
SUMMARY:Preservation Policy and Tools for Improved Resiliency & Performance of Historic Buildings (Yestermorrow Spring Speaker Series)
DESCRIPTION:Yestermorrow Spring 2026 Speaker Series\nHistoric Preservation: Meaning\, Memory\, and Stewardship \nPreservation Policy and Tools for Improved Resiliency & Performance of Historic Buildings with Jamie Duggan \nThis presentation will discuss emerging policies and tools that are being developed at national\, state and local levels to support and improve the resiliency and performance of historic buildings. Featuring case studies that explore flood-proofing and armouring historic buildings for climate change\, increasing energy efficiency and performance of conditioned spaces\, as well as other topics that help overcome misperceptions about how to treat a historic building and the give-and-take of making improvements without diminishing historic character. Information and materials will be shared on new survey and mapping projects\, education and advocacy efforts at the Vermont Division for Historic Preservation and works in progress at State-owned Historic Sites. \nThis talk is presented as part of our Spring 2026 Speaker Series. All talks are free and open to the public\, and take place Wednesday evenings from 6:30 – 8 pm. No registration required\, just drop by. Join us in person or online via livestream on our YouTube channel.
URL:https://mrvvillage.com/event/preservation-policy-and-tools-for-improved-resiliency-performance-of-historic-buildings-yestermorrow-spring-speaker-series/
LOCATION:Yestermorrow Design/Build School\, 7865 Main Street\, Waitsfield\, 05673
CATEGORIES:Community
ATTACH;FMTTYPE=image/jpeg:https://mrvvillage.com/wp-content/uploads/2026/03/photo-by-john-herrick-QO0bME.jpg
ORGANIZER;CN="Yestermorrow%20Design%2FBuild%20School":MAILTO:info@yestermorrow.org
GEO:44.1490529;-72.8380281
X-APPLE-STRUCTURED-LOCATION;VALUE=URI;X-ADDRESS=Yestermorrow Design/Build School 7865 Main Street Waitsfield 05673;X-APPLE-RADIUS=500;X-TITLE=7865 Main Street:geo:-72.8380281,44.1490529
END:VEVENT
END:VCALENDAR