BEGIN:VCALENDAR
VERSION:2.0
PRODID:-//The Mad River Valley Village - ECPv6.0.13//NONSGML v1.0//EN
CALSCALE:GREGORIAN
METHOD:PUBLISH
X-WR-CALNAME:The Mad River Valley Village
X-ORIGINAL-URL:https://mrvvillage.com
X-WR-CALDESC:Events for The Mad River Valley Village
REFRESH-INTERVAL;VALUE=DURATION:PT1H
X-Robots-Tag:noindex
X-PUBLISHED-TTL:PT1H
BEGIN:VTIMEZONE
TZID:America/New_York
BEGIN:DAYLIGHT
TZOFFSETFROM:-0500
TZOFFSETTO:-0400
TZNAME:EDT
DTSTART:20250309T070000
END:DAYLIGHT
BEGIN:STANDARD
TZOFFSETFROM:-0400
TZOFFSETTO:-0500
TZNAME:EST
DTSTART:20251102T060000
END:STANDARD
END:VTIMEZONE
BEGIN:VEVENT
DTSTART;TZID=America/New_York:20250104T093000
DTEND;TZID=America/New_York:20250104T150000
DTSTAMP:20260425T090842
CREATED:20241007T122515Z
LAST-MODIFIED:20250104T235321Z
UID:10007120-1735983000-1736002800@mrvvillage.com
SUMMARY:Women’s Alpine Ski Clinic
DESCRIPTION:Alpine ski clinics by women\, and for women using positive attitudes\, tactics and techniques to help you achieve your skiing goals. The price per day includes the clinic and lunch. \nDates: Saturdays – January 4\, February 1 & March 1 \nTime: 9:30 am until 3:00 pm \nCost: $249/day or $309/day with lift ticket \nRESERVE NOW
URL:https://mrvvillage.com/event/womens-alpine-ski-clinic-4/
CATEGORIES:Adult Ski School
END:VEVENT
BEGIN:VEVENT
DTSTART;TZID=America/New_York:20250107T100000
DTEND;TZID=America/New_York:20250107T120000
DTSTAMP:20260425T090842
CREATED:20241010T012542Z
LAST-MODIFIED:20250107T225324Z
UID:10007144-1736244000-1736251200@mrvvillage.com
SUMMARY:Women’s Telemark Tuesday Clinic
DESCRIPTION:Telemark ski programs by women\, for women using positive attitudes\, tactics and techniques to help you achieve your skiing goals. This program is designed for intermediate telemark skiers and above. Eight 2-hour lessons on Tuesday mornings. Space is limited. \nDates: Tuesdays – January 7\, 14\, 21\, 28 February 4\, 11\, 25 & March 4 \nTime: 10:00 am – 12:00 pm \nCost: $349 – 8 Week Session (Valid Pass or Ticket required) \nRESERVE NOW
URL:https://mrvvillage.com/event/womens-telemark-tuesday-clinic-10/
CATEGORIES:Adult Ski School
ATTACH;FMTTYPE=image/jpeg:https://mrvvillage.com/wp-content/uploads/2024/12/Cath-Kalkstein-female-women-telemark-scaled-e1734547751474-wpEQQI.tmp_-8wmMlG.tmp_.jpg
END:VEVENT
BEGIN:VEVENT
DTSTART;TZID=America/New_York:20250109T100000
DTEND;TZID=America/New_York:20250109T120000
DTSTAMP:20260425T090842
CREATED:20241012T012512Z
LAST-MODIFIED:20250109T232324Z
UID:10007146-1736416800-1736424000@mrvvillage.com
SUMMARY:Women’s Mid-Week Alpine Clinic
DESCRIPTION:The Women’s Mid-Week clinics are for women and taught by women using positive attitude\, tactics and techniques to help you achieve your skiing goals. This eight-week program meets for 2-hour sessions on Thursday mornings. \nDates: Thursdays – January 9\, 16\, 23\, 30 February 6\, 13\, 27 & March 6 (No session 02.20.25) \nTime: 10:00 am until 12:00 pm \nCost: $349 – 8 week session \nRESERVE NOW
URL:https://mrvvillage.com/event/womens-mid-week-alpine-clinic-9/
CATEGORIES:Adult Ski School
END:VEVENT
BEGIN:VEVENT
DTSTART;TZID=America/New_York:20250111T093000
DTEND;TZID=America/New_York:20250111T150000
DTSTAMP:20260425T090842
CREATED:20241229T222401Z
LAST-MODIFIED:20250111T235324Z
UID:10007478-1736587800-1736607600@mrvvillage.com
SUMMARY:Women’s Telemark Clinic
DESCRIPTION:Telemark ski clinics by women\, and for women use positive attitude\, tactics and techniques to help you achieve your skiing goals. \nDates: Saturdays – January 11\, February 8\, March 8\nTime: 9:30 am to 3:00 pm\nCost: $249/day ($309/day with lift ticket)
URL:https://mrvvillage.com/event/womens-telemark-clinic-5/
CATEGORIES:Adult Ski School
ATTACH;FMTTYPE=image/jpeg:https://mrvvillage.com/wp-content/uploads/2024/12/0I9A1157-scaled-e1735486313119-p2U8sM.tmp_-Q9Lth2.tmp_.jpg
END:VEVENT
BEGIN:VEVENT
DTSTART;TZID=America/New_York:20250114T100000
DTEND;TZID=America/New_York:20250114T120000
DTSTAMP:20260425T090842
CREATED:20241017T020959Z
LAST-MODIFIED:20250114T122325Z
UID:10007154-1736848800-1736856000@mrvvillage.com
SUMMARY:Women’s Telemark Tuesday Clinic
DESCRIPTION:Telemark ski programs by women\, for women using positive attitudes\, tactics and techniques to help you achieve your skiing goals. This program is designed for intermediate telemark skiers and above. Eight 2-hour lessons on Tuesday mornings. Space is limited. \nDates: Tuesdays – January 7\, 14\, 21\, 28 February 4\, 11\, 25 & March 4 \nTime: 10:00 am – 12:00 pm \nCost: $349 – 8 Week Session (Valid Pass or Ticket required) \nRESERVE NOW
URL:https://mrvvillage.com/event/womens-telemark-tuesday-clinic-11/
CATEGORIES:Adult Ski School
ATTACH;FMTTYPE=image/jpeg:https://mrvvillage.com/wp-content/uploads/2024/12/Cath-Kalkstein-female-women-telemark-scaled-e1734547751474-wpEQQI.tmp_-8wmMlG.tmp_.jpg
END:VEVENT
BEGIN:VEVENT
DTSTART;TZID=America/New_York:20250116T100000
DTEND;TZID=America/New_York:20250116T120000
DTSTAMP:20260425T090842
CREATED:20241019T020947Z
LAST-MODIFIED:20250116T125324Z
UID:10007155-1737021600-1737028800@mrvvillage.com
SUMMARY:Women’s Mid-Week Alpine Clinic
DESCRIPTION:The Women’s Mid-Week clinics are for women and taught by women using positive attitude\, tactics and techniques to help you achieve your skiing goals. This eight-week program meets for 2-hour sessions on Thursday mornings. \nDates: Thursdays – January 9\, 16\, 23\, 30 February 6\, 13\, 27 & March 6 (No session 02.20.25) \nTime: 10:00 am until 12:00 pm \nCost: $349 – 8 week session \nRESERVE NOW
URL:https://mrvvillage.com/event/womens-mid-week-alpine-clinic-10/
CATEGORIES:Adult Ski School
END:VEVENT
BEGIN:VEVENT
DTSTART;TZID=America/New_York:20250121T100000
DTEND;TZID=America/New_York:20250121T120000
DTSTAMP:20260425T090842
CREATED:20241024T025441Z
LAST-MODIFIED:20250121T140822Z
UID:10007168-1737453600-1737460800@mrvvillage.com
SUMMARY:Women’s Telemark Tuesday Clinic
DESCRIPTION:Telemark ski programs by women\, for women using positive attitudes\, tactics and techniques to help you achieve your skiing goals. This program is designed for intermediate telemark skiers and above. Eight 2-hour lessons on Tuesday mornings. Space is limited. \nDates: Tuesdays – January 7\, 14\, 21\, 28 February 4\, 11\, 25 & March 4 \nTime: 10:00 am – 12:00 pm \nCost: $349 – 8 Week Session (Valid Pass or Ticket required) \nRESERVE NOW
URL:https://mrvvillage.com/event/womens-telemark-tuesday-clinic-12/
CATEGORIES:Adult Ski School
ATTACH;FMTTYPE=image/jpeg:https://mrvvillage.com/wp-content/uploads/2024/12/Cath-Kalkstein-female-women-telemark-scaled-e1734547751474-wpEQQI.tmp_-8wmMlG.tmp_.jpg
END:VEVENT
BEGIN:VEVENT
DTSTART;TZID=America/New_York:20250123T100000
DTEND;TZID=America/New_York:20250123T120000
DTSTAMP:20260425T090842
CREATED:20241026T030929Z
LAST-MODIFIED:20250123T143820Z
UID:10007169-1737626400-1737633600@mrvvillage.com
SUMMARY:Women’s Mid-Week Alpine Clinic
DESCRIPTION:The Women’s Mid-Week clinics are for women and taught by women using positive attitude\, tactics and techniques to help you achieve your skiing goals. This eight-week program meets for 2-hour sessions on Thursday mornings. \nDates: Thursdays – January 9\, 16\, 23\, 30 February 6\, 13\, 27 & March 6 (No session 02.20.25) \nTime: 10:00 am until 12:00 pm \nCost: $349 – 8 week session \nRESERVE NOW
URL:https://mrvvillage.com/event/womens-mid-week-alpine-clinic-11/
CATEGORIES:Adult Ski School
END:VEVENT
BEGIN:VEVENT
DTSTART;TZID=America/New_York:20250125T000000
DTEND;TZID=America/New_York:20250125T235959
DTSTAMP:20260425T090842
CREATED:20250122T040836Z
LAST-MODIFIED:20250125T150820Z
UID:10007561-1737763200-1737849599@mrvvillage.com
SUMMARY:Women’s Discovery Camp
DESCRIPTION:Elevate your skills and confidence with our Women’s Discovery Camps\, a transformative 2-day experience designed to meet the unique needs of every participant \nLed by expert coaches\, these camps strike the perfect balance of skill-building\, camaraderie\, and time on the slopes\, whether you’re new to Sugarbush and looking to build confidence or a seasoned skier eager to refine your technique. \nWith a focus on progression and connection\, you’ll leave feeling more capable and inspired than ever\, ready to embrace the mountain with newfound confidence.
URL:https://mrvvillage.com/event/womens-discovery-camp/
LOCATION:Sugarbush Resort\, 102 Forest Drive Warren\, VT 05674\, Warren\, 05674
CATEGORIES:Adult Ski School,Sports & Recreation,Sugarbush
ATTACH;FMTTYPE=image/jpeg:https://mrvvillage.com/wp-content/uploads/2025/01/Time-Warp-11-x-17-in-VMevBf.tmp_.jpg
GEO:44.1272818;-72.9284492
X-APPLE-STRUCTURED-LOCATION;VALUE=URI;X-ADDRESS=Sugarbush Resort 102 Forest Drive Warren VT 05674 Warren 05674;X-APPLE-RADIUS=500;X-TITLE=102 Forest Drive Warren\, VT 05674:geo:-72.9284492,44.1272818
END:VEVENT
BEGIN:VEVENT
DTSTART;TZID=America/New_York:20250126T000000
DTEND;TZID=America/New_York:20250126T235959
DTSTAMP:20260425T090842
CREATED:20250122T040850Z
LAST-MODIFIED:20250126T152319Z
UID:10007562-1737849600-1737935999@mrvvillage.com
SUMMARY:Women’s Discovery Camp
DESCRIPTION:Elevate your skills and confidence with our Women’s Discovery Camps\, a transformative 2-day experience designed to meet the unique needs of every participant \nLed by expert coaches\, these camps strike the perfect balance of skill-building\, camaraderie\, and time on the slopes\, whether you’re new to Sugarbush and looking to build confidence or a seasoned skier eager to refine your technique. \nWith a focus on progression and connection\, you’ll leave feeling more capable and inspired than ever\, ready to embrace the mountain with newfound confidence.
URL:https://mrvvillage.com/event/womens-discovery-camp-2/
LOCATION:Sugarbush Resort\, 102 Forest Drive Warren\, VT 05674\, Warren\, 05674
CATEGORIES:Adult Ski School,Sports & Recreation,Sugarbush
ATTACH;FMTTYPE=image/jpeg:https://mrvvillage.com/wp-content/uploads/2025/01/Time-Warp-11-x-17-in-VMevBf.tmp_.jpg
GEO:44.1272818;-72.9284492
X-APPLE-STRUCTURED-LOCATION;VALUE=URI;X-ADDRESS=Sugarbush Resort 102 Forest Drive Warren VT 05674 Warren 05674;X-APPLE-RADIUS=500;X-TITLE=102 Forest Drive Warren\, VT 05674:geo:-72.9284492,44.1272818
END:VEVENT
BEGIN:VEVENT
DTSTART;TZID=America/New_York:20250127T093000
DTEND;TZID=America/New_York:20250127T120000
DTSTAMP:20260425T090842
CREATED:20241030T032446Z
LAST-MODIFIED:20250127T153823Z
UID:10007180-1737970200-1737979200@mrvvillage.com
SUMMARY:Graybeard’s Clinic
DESCRIPTION:The Graybeard’s Clinic is designed for men who are intermediate to advanced skiers. The clinic will focus on learning to fully enjoy the Mad River Glen skiing experience by deepening fundamental skills and then applying those skills to the varied terrain that makes Mad River special. Participants will learn to ski groomers and the bumps better and with more confidence – making it more fun and joyful. We will also focus on specific mechanics that are a bit easier on your body\, thus enhancing your overall ski experience here at Mad River Glen and wherever your skis may take you. \nThe clinic will be led by Rick Ruback who has been coaching ski racing at Mad River for over twenty years. Rick is excited to bring some racing skills and drills into adult teaching as a way to help the participants improve their skiing. Joining Rick will be a collection of some of the most experienced members of the Mad River Glen Ski School. \nDates: Mondays January 27 February 3\, 10 & 24\, March 3\, 10 & 17 \nTime: 9:30 am – 12:00 pm \nCost: $349 7 week session (valid ticket or pass required) \nREQUEST A RESERVATION
URL:https://mrvvillage.com/event/graybeards-clinic-15/
CATEGORIES:Adult Ski School
END:VEVENT
BEGIN:VEVENT
DTSTART;TZID=America/New_York:20250128T100000
DTEND;TZID=America/New_York:20250128T120000
DTSTAMP:20260425T090842
CREATED:20241031T032441Z
LAST-MODIFIED:20250128T153821Z
UID:10007183-1738058400-1738065600@mrvvillage.com
SUMMARY:Women’s Telemark Tuesday Clinic
DESCRIPTION:Telemark ski programs by women\, for women using positive attitudes\, tactics and techniques to help you achieve your skiing goals. This program is designed for intermediate telemark skiers and above. Eight 2-hour lessons on Tuesday mornings. Space is limited. \nDates: Tuesdays – January 7\, 14\, 21\, 28 February 4\, 11\, 25 & March 4 \nTime: 10:00 am – 12:00 pm \nCost: $349 – 8 Week Session (Valid Pass or Ticket required) \nRESERVE NOW
URL:https://mrvvillage.com/event/womens-telemark-tuesday-clinic-13/
CATEGORIES:Adult Ski School
ATTACH;FMTTYPE=image/jpeg:https://mrvvillage.com/wp-content/uploads/2024/12/Cath-Kalkstein-female-women-telemark-scaled-e1734547751474-wpEQQI.tmp_-8wmMlG.tmp_.jpg
END:VEVENT
BEGIN:VEVENT
DTSTART;TZID=America/New_York:20250130T100000
DTEND;TZID=America/New_York:20250130T120000
DTSTAMP:20260425T090842
CREATED:20241102T032444Z
LAST-MODIFIED:20250130T155322Z
UID:10007184-1738231200-1738238400@mrvvillage.com
SUMMARY:Women’s Mid-Week Alpine Clinic
DESCRIPTION:The Women’s Mid-Week clinics are for women and taught by women using positive attitude\, tactics and techniques to help you achieve your skiing goals. This eight-week program meets for 2-hour sessions on Thursday mornings. \nDates: Thursdays – January 9\, 16\, 23\, 30 February 6\, 13\, 27 & March 6 (No session 02.20.25) \nTime: 10:00 am until 12:00 pm \nCost: $349 – 8 week session \nRESERVE NOW
URL:https://mrvvillage.com/event/womens-mid-week-alpine-clinic-12/
CATEGORIES:Adult Ski School
END:VEVENT
END:VCALENDAR