BEGIN:VCALENDAR
VERSION:2.0
PRODID:-//The Mad River Valley Village - ECPv6.0.13//NONSGML v1.0//EN
CALSCALE:GREGORIAN
METHOD:PUBLISH
X-WR-CALNAME:The Mad River Valley Village
X-ORIGINAL-URL:https://mrvvillage.com
X-WR-CALDESC:Events for The Mad River Valley Village
REFRESH-INTERVAL;VALUE=DURATION:PT1H
X-Robots-Tag:noindex
X-PUBLISHED-TTL:PT1H
BEGIN:VTIMEZONE
TZID:America/New_York
BEGIN:DAYLIGHT
TZOFFSETFROM:-0500
TZOFFSETTO:-0400
TZNAME:EDT
DTSTART:20250309T070000
END:DAYLIGHT
BEGIN:STANDARD
TZOFFSETFROM:-0400
TZOFFSETTO:-0500
TZNAME:EST
DTSTART:20251102T060000
END:STANDARD
END:VTIMEZONE
BEGIN:VEVENT
DTSTART;TZID=America/New_York:20250201T093000
DTEND;TZID=America/New_York:20250201T150000
DTSTAMP:20260425T123227
CREATED:20241104T032429Z
LAST-MODIFIED:20250201T160825Z
UID:10007186-1738402200-1738422000@mrvvillage.com
SUMMARY:Women’s Alpine Ski Clinic
DESCRIPTION:Alpine ski clinics by women\, and for women using positive attitudes\, tactics and techniques to help you achieve your skiing goals. The price per day includes the clinic and lunch. \nDates: Saturdays – January 4\, February 1 & March 1 \nTime: 9:30 am until 3:00 pm \nCost: $249/day or $309/day with lift ticket \nRESERVE NOW
URL:https://mrvvillage.com/event/womens-alpine-ski-clinic-5/
CATEGORIES:Adult Ski School
END:VEVENT
END:VCALENDAR