BEGIN:VCALENDAR
VERSION:2.0
PRODID:-//The Mad River Valley Village - ECPv6.0.13//NONSGML v1.0//EN
CALSCALE:GREGORIAN
METHOD:PUBLISH
X-WR-CALNAME:The Mad River Valley Village
X-ORIGINAL-URL:https://mrvvillage.com
X-WR-CALDESC:Events for The Mad River Valley Village
REFRESH-INTERVAL;VALUE=DURATION:PT1H
X-Robots-Tag:noindex
X-PUBLISHED-TTL:PT1H
BEGIN:VTIMEZONE
TZID:America/New_York
BEGIN:DAYLIGHT
TZOFFSETFROM:-0500
TZOFFSETTO:-0400
TZNAME:EDT
DTSTART:20250309T070000
END:DAYLIGHT
BEGIN:STANDARD
TZOFFSETFROM:-0400
TZOFFSETTO:-0500
TZNAME:EST
DTSTART:20251102T060000
END:STANDARD
END:VTIMEZONE
BEGIN:VEVENT
DTSTART;TZID=America/New_York:20250206T100000
DTEND;TZID=America/New_York:20250206T120000
DTSTAMP:20260425T123228
CREATED:20241109T033933Z
LAST-MODIFIED:20250206T172320Z
UID:10007199-1738836000-1738843200@mrvvillage.com
SUMMARY:Women’s Mid-Week Alpine Clinic
DESCRIPTION:The Women’s Mid-Week clinics are for women and taught by women using positive attitude\, tactics and techniques to help you achieve your skiing goals. This eight-week program meets for 2-hour sessions on Thursday mornings. \nDates: Thursdays – January 9\, 16\, 23\, 30 February 6\, 13\, 27 & March 6 (No session 02.20.25) \nTime: 10:00 am until 12:00 pm \nCost: $349 – 8 week session \nRESERVE NOW
URL:https://mrvvillage.com/event/womens-mid-week-alpine-clinic-13/
CATEGORIES:Adult Ski School
END:VEVENT
END:VCALENDAR