BEGIN:VCALENDAR
VERSION:2.0
PRODID:-//The Mad River Valley Village - ECPv6.0.13//NONSGML v1.0//EN
CALSCALE:GREGORIAN
METHOD:PUBLISH
X-WR-CALNAME:The Mad River Valley Village
X-ORIGINAL-URL:https://mrvvillage.com
X-WR-CALDESC:Events for The Mad River Valley Village
REFRESH-INTERVAL;VALUE=DURATION:PT1H
X-Robots-Tag:noindex
X-PUBLISHED-TTL:PT1H
BEGIN:VTIMEZONE
TZID:America/New_York
BEGIN:DAYLIGHT
TZOFFSETFROM:-0500
TZOFFSETTO:-0400
TZNAME:EDT
DTSTART:20250309T070000
END:DAYLIGHT
BEGIN:STANDARD
TZOFFSETFROM:-0400
TZOFFSETTO:-0500
TZNAME:EST
DTSTART:20251102T060000
END:STANDARD
END:VTIMEZONE
BEGIN:VEVENT
DTSTART;TZID=America/New_York:20250304T100000
DTEND;TZID=America/New_York:20250304T120000
DTSTAMP:20260425T091251
CREATED:20241209T182545Z
LAST-MODIFIED:20250304T212313Z
UID:10007269-1741082400-1741089600@mrvvillage.com
SUMMARY:Women’s Telemark Tuesday Clinic
DESCRIPTION:Telemark ski programs by women\, for women using positive attitudes\, tactics and techniques to help you achieve your skiing goals. This program is designed for intermediate telemark skiers and above. Eight 2-hour lessons on Tuesday mornings. Space is limited. \nDates: Tuesdays – January 7\, 14\, 21\, 28 February 4\, 11\, 25 & March 4 \nTime: 10:00 am – 12:00 pm \nCost: $349 – 8 Week Session (Valid Pass or Ticket required) \nRESERVE NOW
URL:https://mrvvillage.com/event/womens-telemark-tuesday-clinic-17/
CATEGORIES:Adult Ski School
ATTACH;FMTTYPE=image/jpeg:https://mrvvillage.com/wp-content/uploads/2024/12/Cath-Kalkstein-female-women-telemark-scaled-e1734547751474-wpEQQI.tmp_-8wmMlG.tmp_.jpg
END:VEVENT
END:VCALENDAR