BEGIN:VCALENDAR
VERSION:2.0
PRODID:-//The Mad River Valley Village - ECPv6.0.13//NONSGML v1.0//EN
CALSCALE:GREGORIAN
METHOD:PUBLISH
X-WR-CALNAME:The Mad River Valley Village
X-ORIGINAL-URL:https://mrvvillage.com
X-WR-CALDESC:Events for The Mad River Valley Village
REFRESH-INTERVAL;VALUE=DURATION:PT1H
X-Robots-Tag:noindex
X-PUBLISHED-TTL:PT1H
BEGIN:VTIMEZONE
TZID:America/New_York
BEGIN:DAYLIGHT
TZOFFSETFROM:-0500
TZOFFSETTO:-0400
TZNAME:EDT
DTSTART:20260308T070000
END:DAYLIGHT
BEGIN:STANDARD
TZOFFSETFROM:-0400
TZOFFSETTO:-0500
TZNAME:EST
DTSTART:20261101T060000
END:STANDARD
END:VTIMEZONE
BEGIN:VEVENT
DTSTART;TZID=America/New_York:20260203T100000
DTEND;TZID=America/New_York:20260203T120000
DTSTAMP:20260421T222034
CREATED:20260105T171132Z
LAST-MODIFIED:20260203T120837Z
UID:10009626-1770112800-1770120000@mrvvillage.com
SUMMARY:We Can! Women’s Telemark Tuesday Program
DESCRIPTION:A program for women and coached by women! This program is designed for the advanced novice to the all-mountain skier. Participants are placed in groups with skiers of similar ability and pace. Your coach will focus on technique\, tactics and mental attitude to help you achieve your goals. Telemark in a supportive environment that will definitely build your confidence! \nDates: Tuesdays – January 20\, January 27 & February 3 \nTime: 10:00 am – 12:00 pm \nCost: $149 (Valid Pass or Ticket required) \nREQUEST NOW
URL:https://mrvvillage.com/event/we-can-womens-telemark-tuesday-program-3/
CATEGORIES:Adult Ski School
ATTACH;FMTTYPE=image/jpeg:https://mrvvillage.com/wp-content/uploads/2026/01/Rachel-Seymour-scaled-e1767548970379-fjD1Lc-gyvasG.jpg
END:VEVENT
END:VCALENDAR