BEGIN:VCALENDAR
VERSION:2.0
PRODID:-//The Mad River Valley Village - ECPv6.0.13//NONSGML v1.0//EN
CALSCALE:GREGORIAN
METHOD:PUBLISH
X-WR-CALNAME:The Mad River Valley Village
X-ORIGINAL-URL:https://mrvvillage.com
X-WR-CALDESC:Events for The Mad River Valley Village
REFRESH-INTERVAL;VALUE=DURATION:PT1H
X-Robots-Tag:noindex
X-PUBLISHED-TTL:PT1H
BEGIN:VTIMEZONE
TZID:America/New_York
BEGIN:DAYLIGHT
TZOFFSETFROM:-0500
TZOFFSETTO:-0400
TZNAME:EDT
DTSTART:20260308T070000
END:DAYLIGHT
BEGIN:STANDARD
TZOFFSETFROM:-0400
TZOFFSETTO:-0500
TZNAME:EST
DTSTART:20261101T060000
END:STANDARD
END:VTIMEZONE
BEGIN:VEVENT
DTSTART;TZID=America/New_York:20260207T093000
DTEND;TZID=America/New_York:20260207T150000
DTSTAMP:20260421T222035
CREATED:20260109T231158Z
LAST-MODIFIED:20260207T130831Z
UID:10009708-1770456600-1770476400@mrvvillage.com
SUMMARY:We Can! Women’s Telemark Clinic
DESCRIPTION:Join us for a full day of telemark skiing and fun while being coached by some of Mad River Glen’s most experienced female coaches. Our women’s programs are taught in a supportive and encouraging environment so that students can build confidence\, overcome fears and learn new tactics and techniques. Coaches use a student-centered\, designing the day around your individual skiing goals. Whether you are looking to challenge yourself off-piste or wanting to feel more confident in your abilities\, we’ve got you covered! \nPrice includes lunch. \nDates: Saturdays – February 7\, March 7\n \nTime: 9:30 am to 3:00 pm\n \nCost: $259/day ($319/day with lift ticket) \nREQUEST NOW
URL:https://mrvvillage.com/event/we-can-womens-telemark-clinic-4/
CATEGORIES:Adult Ski School
ATTACH;FMTTYPE=image/jpeg:https://mrvvillage.com/wp-content/uploads/2026/01/1E7A7597-scaled-e1767549687928-HPgmb2-TcHB5C.jpg
END:VEVENT
BEGIN:VEVENT
DTSTART;TZID=America/New_York:20260207T094500
DTEND;TZID=America/New_York:20260207T150000
DTSTAMP:20260421T222035
CREATED:20260105T171147Z
LAST-MODIFIED:20260207T130831Z
UID:10009629-1770457500-1770476400@mrvvillage.com
SUMMARY:We Can! Women’s Telemark Clinic
DESCRIPTION:Join us for a full day of telemark skiing and fun while being coached by some of Mad River Glen’s most experienced female coaches. Our women’s programs are taught in a supportive and encouraging environment so that students can build confidence\, overcome fears and learn new tactics and techniques. Coaches use a student-centered\, designing the day around your individual skiing goals. Whether you are looking to challenge yourself off-piste or wanting to feel more confident in your abilities\, we’ve got you covered! \nPrice includes lunch. \nDates: Saturdays – January 10\, February 7\, March 7\n \nTime: 9:30 am to 3:00 pm\n \nCost: $259/day ($319/day with lift ticket) \nREQUEST NOW
URL:https://mrvvillage.com/event/we-can-womens-telemark-clinic-2/
CATEGORIES:Adult Ski School
ATTACH;FMTTYPE=image/jpeg:https://mrvvillage.com/wp-content/uploads/2026/01/1E7A7597-scaled-e1767549687928-HPgmb2-TcHB5C.jpg
END:VEVENT
END:VCALENDAR