BEGIN:VCALENDAR
VERSION:2.0
PRODID:-//The Mad River Valley Village - ECPv6.0.13//NONSGML v1.0//EN
CALSCALE:GREGORIAN
METHOD:PUBLISH
X-WR-CALNAME:The Mad River Valley Village
X-ORIGINAL-URL:https://mrvvillage.com
X-WR-CALDESC:Events for The Mad River Valley Village
REFRESH-INTERVAL;VALUE=DURATION:PT1H
X-Robots-Tag:noindex
X-PUBLISHED-TTL:PT1H
BEGIN:VTIMEZONE
TZID:America/New_York
BEGIN:DAYLIGHT
TZOFFSETFROM:-0500
TZOFFSETTO:-0400
TZNAME:EDT
DTSTART:20260308T070000
END:DAYLIGHT
BEGIN:STANDARD
TZOFFSETFROM:-0400
TZOFFSETTO:-0500
TZNAME:EST
DTSTART:20261101T060000
END:STANDARD
END:VTIMEZONE
BEGIN:VEVENT
DTSTART;TZID=America/New_York:20260212T093000
DTEND;TZID=America/New_York:20260212T113000
DTSTAMP:20260421T222034
CREATED:20260105T171216Z
LAST-MODIFIED:20260212T142334Z
UID:10009634-1770888600-1770895800@mrvvillage.com
SUMMARY:We Can! Women’s Mid-Week Alpine Clinic
DESCRIPTION:The Women’s Mid-Week clinic is sold out for 2026. These clinics are our most popular adult ski school offerings\, if you are interested in joining for the 2027 ski season please contact the Ski School Desk.  \nThe Women’s Mid-Week Alpine Clinic is designed for women and taught by women using positive attitude\, tactics and techniques to help you achieve your skiing goals. This eight-week program meets for 2-hour sessions on Thursday mornings.  \nDates: Thursdays – January 8\, 15\, 22\, 29 February 5\, 12\, 26 & March 5 (No session 02.19.26) \nTime: 9:30 am until 11:30 pm \nMore Info: Click Here
URL:https://mrvvillage.com/event/we-can-womens-mid-week-alpine-clinic-6/
CATEGORIES:Adult Ski School
ATTACH;FMTTYPE=image/jpeg:https://mrvvillage.com/wp-content/uploads/2026/01/Vermont-Flag-Pole-scaled-e1767547684605-GmxTii-tR1evs.jpg
END:VEVENT
END:VCALENDAR