BEGIN:VCALENDAR
VERSION:2.0
PRODID:-//The Mad River Valley Village - ECPv6.0.13//NONSGML v1.0//EN
CALSCALE:GREGORIAN
METHOD:PUBLISH
X-WR-CALNAME:The Mad River Valley Village
X-ORIGINAL-URL:https://mrvvillage.com
X-WR-CALDESC:Events for The Mad River Valley Village
REFRESH-INTERVAL;VALUE=DURATION:PT1H
X-Robots-Tag:noindex
X-PUBLISHED-TTL:PT1H
BEGIN:VTIMEZONE
TZID:America/New_York
BEGIN:DAYLIGHT
TZOFFSETFROM:-0500
TZOFFSETTO:-0400
TZNAME:EDT
DTSTART:20260308T070000
END:DAYLIGHT
BEGIN:STANDARD
TZOFFSETFROM:-0400
TZOFFSETTO:-0500
TZNAME:EST
DTSTART:20261101T060000
END:STANDARD
END:VTIMEZONE
BEGIN:VEVENT
DTSTART;TZID=America/New_York:20260306T000000
DTEND;TZID=America/New_York:20260306T235959
DTSTAMP:20260421T205030
CREATED:20260106T172823Z
LAST-MODIFIED:20260306T195335Z
UID:10009666-1772755200-1772841599@mrvvillage.com
SUMMARY:Free Heel Fridays
DESCRIPTION:This telemark clinic meets every Friday throughout the season. Not available during holiday periods. \nTime: 10:00 – 12:00 or 1:00 – 3:00 \nCost: 2-hour clinic $109 (with lift ticket $149) \nREQUEST NOW
URL:https://mrvvillage.com/event/free-heel-fridays-19/
CATEGORIES:Adult Ski School
ATTACH;FMTTYPE=image/jpeg:https://mrvvillage.com/wp-content/uploads/2026/01/6B3A3162-1-scaled-e1767623307255-Krdyb1-DhsfTe.jpg
END:VEVENT
END:VCALENDAR