BEGIN:VCALENDAR
VERSION:2.0
PRODID:-//The Mad River Valley Village - ECPv6.0.13//NONSGML v1.0//EN
CALSCALE:GREGORIAN
METHOD:PUBLISH
X-ORIGINAL-URL:https://mrvvillage.com
X-WR-CALDESC:Events for The Mad River Valley Village
REFRESH-INTERVAL;VALUE=DURATION:PT1H
X-Robots-Tag:noindex
X-PUBLISHED-TTL:PT1H
BEGIN:VTIMEZONE
TZID:America/New_York
BEGIN:DAYLIGHT
TZOFFSETFROM:-0500
TZOFFSETTO:-0400
TZNAME:EDT
DTSTART:20250309T070000
END:DAYLIGHT
BEGIN:STANDARD
TZOFFSETFROM:-0400
TZOFFSETTO:-0500
TZNAME:EST
DTSTART:20251102T060000
END:STANDARD
END:VTIMEZONE
BEGIN:VEVENT
DTSTART;TZID=America/New_York:20250210T093000
DTEND;TZID=America/New_York:20250210T120000
DTSTAMP:20260425T105106
CREATED:20241113T173949Z
LAST-MODIFIED:20250210T182319Z
UID:10007211-1739179800-1739188800@mrvvillage.com
SUMMARY:Graybeard’s Clinic
DESCRIPTION:The Graybeard’s Clinic is designed for men who are intermediate to advanced skiers. The clinic will focus on learning to fully enjoy the Mad River Glen skiing experience by deepening fundamental skills and then applying those skills to the varied terrain that makes Mad River special. Participants will learn to ski groomers and the bumps better and with more confidence – making it more fun and joyful. We will also focus on specific mechanics that are a bit easier on your body\, thus enhancing your overall ski experience here at Mad River Glen and wherever your skis may take you. \nThe clinic will be led by Rick Ruback who has been coaching ski racing at Mad River for over twenty years. Rick is excited to bring some racing skills and drills into adult teaching as a way to help the participants improve their skiing. Joining Rick will be a collection of some of the most experienced members of the Mad River Glen Ski School. \nDates: Mondays January 27 February 3\, 10 & 24\, March 3\, 10 & 17 \nTime: 9:30 am – 12:00 pm \nCost: $349 7 week session (valid ticket or pass required) \nREQUEST A RESERVATION
URL:https://mrvvillage.com/event/graybeards-clinic-17/
CATEGORIES:Adult Ski School
END:VEVENT
BEGIN:VEVENT
DTSTART;TZID=America/New_York:20250211T100000
DTEND;TZID=America/New_York:20250211T120000
DTSTAMP:20260425T105106
CREATED:20241114T175448Z
LAST-MODIFIED:20250211T182317Z
UID:10007218-1739268000-1739275200@mrvvillage.com
SUMMARY:Women’s Telemark Tuesday Clinic
DESCRIPTION:Telemark ski programs by women\, for women using positive attitudes\, tactics and techniques to help you achieve your skiing goals. This program is designed for intermediate telemark skiers and above. Eight 2-hour lessons on Tuesday mornings. Space is limited. \nDates: Tuesdays – January 7\, 14\, 21\, 28 February 4\, 11\, 25 & March 4 \nTime: 10:00 am – 12:00 pm \nCost: $349 – 8 Week Session (Valid Pass or Ticket required) \nRESERVE NOW
URL:https://mrvvillage.com/event/womens-telemark-tuesday-clinic-15/
CATEGORIES:Adult Ski School
ATTACH;FMTTYPE=image/jpeg:https://mrvvillage.com/wp-content/uploads/2024/12/Cath-Kalkstein-female-women-telemark-scaled-e1734547751474-wpEQQI.tmp_-8wmMlG.tmp_.jpg
END:VEVENT
BEGIN:VEVENT
DTSTART;TZID=America/New_York:20250213T100000
DTEND;TZID=America/New_York:20250213T120000
DTSTAMP:20260425T105106
CREATED:20241116T175442Z
LAST-MODIFIED:20250213T183816Z
UID:10007221-1739440800-1739448000@mrvvillage.com
SUMMARY:Women’s Mid-Week Alpine Clinic
DESCRIPTION:The Women’s Mid-Week clinics are for women and taught by women using positive attitude\, tactics and techniques to help you achieve your skiing goals. This eight-week program meets for 2-hour sessions on Thursday mornings. \nDates: Thursdays – January 9\, 16\, 23\, 30 February 6\, 13\, 27 & March 6 (No session 02.20.25) \nTime: 10:00 am until 12:00 pm \nCost: $349 – 8 week session \nRESERVE NOW
URL:https://mrvvillage.com/event/womens-mid-week-alpine-clinic-14/
CATEGORIES:Adult Ski School
END:VEVENT
END:VCALENDAR