BEGIN:VCALENDAR
VERSION:2.0
PRODID:-//The Mad River Valley Village - ECPv6.0.13//NONSGML v1.0//EN
CALSCALE:GREGORIAN
METHOD:PUBLISH
X-ORIGINAL-URL:https://mrvvillage.com
X-WR-CALDESC:Events for The Mad River Valley Village
REFRESH-INTERVAL;VALUE=DURATION:PT1H
X-Robots-Tag:noindex
X-PUBLISHED-TTL:PT1H
BEGIN:VTIMEZONE
TZID:America/New_York
BEGIN:DAYLIGHT
TZOFFSETFROM:-0500
TZOFFSETTO:-0400
TZNAME:EDT
DTSTART:20260308T070000
END:DAYLIGHT
BEGIN:STANDARD
TZOFFSETFROM:-0400
TZOFFSETTO:-0500
TZNAME:EST
DTSTART:20261101T060000
END:STANDARD
END:VTIMEZONE
BEGIN:VEVENT
DTSTART;TZID=America/New_York:20260223T093000
DTEND;TZID=America/New_York:20260223T113000
DTSTAMP:20260421T204935
CREATED:20260105T171257Z
LAST-MODIFIED:20260223T170833Z
UID:10009640-1771839000-1771846200@mrvvillage.com
SUMMARY:Men’s Monday Alpine Program
DESCRIPTION:Formerly known as the Graybeard’s Clinic\, this program is re-designed for men of all ages who are intermediate to advanced skiers. The program’s focus will be on learning how to fully enjoy the Mad River Glen skiing experience by deepening fundamental skills and then applying them to the mountain’s legendary terrain. Participants will learn to ski groomers\, bumps and trees better and with more confidence. Participants are placed in groups with skiers of similar ability and pace. \nDates: Mondays – January 12\, 19\, 26\, February 2\, 9\, 23 & March 2\, 9 \nTime: 9:30 am – 11:30 am \nCost: $389 – 8 Week Session \nREQUEST NOW
URL:https://mrvvillage.com/event/mens-monday-alpine-program-6/
CATEGORIES:Adult Ski School
ATTACH;FMTTYPE=image/jpeg:https://mrvvillage.com/wp-content/uploads/2026/01/Jeff-Doemland-2-scaled-e1767547395819-UQ89Mn-UHqkvY.jpg
END:VEVENT
BEGIN:VEVENT
DTSTART;TZID=America/New_York:20260226T093000
DTEND;TZID=America/New_York:20260226T113000
DTSTAMP:20260421T204935
CREATED:20260105T171258Z
LAST-MODIFIED:20260226T175341Z
UID:10009641-1772098200-1772105400@mrvvillage.com
SUMMARY:We Can! Women’s Mid-Week Alpine Clinic
DESCRIPTION:The Women’s Mid-Week clinic is sold out for 2026. These clinics are our most popular adult ski school offerings\, if you are interested in joining for the 2027 ski season please contact the Ski School Desk.  \nThe Women’s Mid-Week Alpine Clinic is designed for women and taught by women using positive attitude\, tactics and techniques to help you achieve your skiing goals. This eight-week program meets for 2-hour sessions on Thursday mornings.  \nDates: Thursdays – January 8\, 15\, 22\, 29 February 5\, 12\, 26 & March 5 (No session 02.19.26) \nTime: 9:30 am until 11:30 pm \nMore Info: Click Here
URL:https://mrvvillage.com/event/we-can-womens-mid-week-alpine-clinic-7/
CATEGORIES:Adult Ski School
ATTACH;FMTTYPE=image/jpeg:https://mrvvillage.com/wp-content/uploads/2026/01/Vermont-Flag-Pole-scaled-e1767547684605-GmxTii-tR1evs.jpg
END:VEVENT
BEGIN:VEVENT
DTSTART;TZID=America/New_York:20260227T000000
DTEND;TZID=America/New_York:20260227T235959
DTSTAMP:20260421T204935
CREATED:20260106T172755Z
LAST-MODIFIED:20260227T180840Z
UID:10009665-1772150400-1772236799@mrvvillage.com
SUMMARY:Free Heel Fridays
DESCRIPTION:This telemark clinic meets every Friday throughout the season. Not available during holiday periods. \nTime: 10:00 – 12:00 or 1:00 – 3:00 \nCost: 2-hour clinic $109 (with lift ticket $149) \nREQUEST NOW
URL:https://mrvvillage.com/event/free-heel-fridays-18/
CATEGORIES:Adult Ski School
ATTACH;FMTTYPE=image/jpeg:https://mrvvillage.com/wp-content/uploads/2026/01/6B3A3162-1-scaled-e1767623307255-Krdyb1-DhsfTe.jpg
END:VEVENT
BEGIN:VEVENT
DTSTART;TZID=America/New_York:20260228T093000
DTEND;TZID=America/New_York:20260228T150000
DTSTAMP:20260421T204935
CREATED:20260105T171312Z
LAST-MODIFIED:20260228T182331Z
UID:10009642-1772271000-1772290800@mrvvillage.com
SUMMARY:We Can! Women’s Alpine Ski Clinic
DESCRIPTION:Join us for a full day of skiing and fun while being coached by some of Mad River Glen’s most experienced female coaches. Our women’s programs are taught in a supportive and encouraging environment so that students can build confidence\, overcome fears and learn new tactics and techniques. Coaches use a student-centered approach\, designing the day around your skiing goals. Whether you are looking to challenge yourself off-piste or wanting to feel more confident in your abilities\, we’ve got you covered! \nDates: Saturdays – January 3\, January 31 & February 28 \nTime: 9:30 am until 3:00 pm \nCost: $259/day or $319/day with lift ticket \nREQUEST NOW
URL:https://mrvvillage.com/event/we-can-womens-alpine-ski-clinic-2/
CATEGORIES:Adult Ski School
END:VEVENT
END:VCALENDAR