BEGIN:VCALENDAR
VERSION:2.0
PRODID:-//The Mad River Valley Village - ECPv6.0.13//NONSGML v1.0//EN
CALSCALE:GREGORIAN
METHOD:PUBLISH
X-WR-CALNAME:The Mad River Valley Village
X-ORIGINAL-URL:https://mrvvillage.com
X-WR-CALDESC:Events for The Mad River Valley Village
REFRESH-INTERVAL;VALUE=DURATION:PT1H
X-Robots-Tag:noindex
X-PUBLISHED-TTL:PT1H
BEGIN:VTIMEZONE
TZID:America/New_York
BEGIN:DAYLIGHT
TZOFFSETFROM:-0500
TZOFFSETTO:-0400
TZNAME:EDT
DTSTART:20230312T070000
END:DAYLIGHT
BEGIN:STANDARD
TZOFFSETFROM:-0400
TZOFFSETTO:-0500
TZNAME:EST
DTSTART:20231105T060000
END:STANDARD
END:VTIMEZONE
BEGIN:VEVENT
DTSTART;TZID=America/New_York:20230926T160000
DTEND;TZID=America/New_York:20231031T170000
DTSTAMP:20260422T113814
CREATED:20230914T115444Z
LAST-MODIFIED:20230926T160835Z
UID:10005224-1695744000-1698771600@mrvvillage.com
SUMMARY:Five Week Writing Workshop
DESCRIPTION:Join Mary Kathleen Mehuron and Lee Hall Delfausse in a 5 Week Writing Workshop\, starting September 26- October 31st\nTuesdays\, 4-5pm\nExcept not Oct.10th\n$50\nbenefits go to MRVArts\nScholarhships are available \nParticipants will work on developing writing skills. Each session will have a theme\, such as parallel structures. After an introduction\, approximately one third of each class will be devoted to writing on a specific topic\, followed by reading that day’s work and a brief critique of the essays. See workshop details at https://www.madrivervalleyarts.org/madrivervalleyarts/workshop
URL:https://mrvvillage.com/event/five-week-writing-workshop/
LOCATION:Mad River Valley Arts\, 5031 Main Street #2 Village Square\, Waitsfield\, 05673
CATEGORIES:Arts & Entertainment,Community
ATTACH;FMTTYPE=image/png:https://mrvvillage.com/wp-content/uploads/2023/09/mrva-logo-4-6tLcgG.tmp_.png
ORGANIZER;CN="Mad%20River%20Valley%20Arts":MAILTO:director@madrivervalleyarts.org
GEO:44.1926386;-72.7798479
X-APPLE-STRUCTURED-LOCATION;VALUE=URI;X-ADDRESS=Mad River Valley Arts 5031 Main Street #2 Village Square Waitsfield 05673;X-APPLE-RADIUS=500;X-TITLE=5031 Main Street #2 Village Square:geo:-72.7798479,44.1926386
END:VEVENT
BEGIN:VEVENT
DTSTART;TZID=America/New_York:20231003T160000
DTEND;TZID=America/New_York:20231107T160000
DTSTAMP:20260422T113814
CREATED:20230914T115551Z
LAST-MODIFIED:20231003T170825Z
UID:10005225-1696348800-1699372800@mrvvillage.com
SUMMARY:Five Week Writing Workshop
DESCRIPTION:Join Mary Kathleen Mehuron and Lee Hall Delfausse in a 5 Week Writing Workshop\, starting September 26- October 31st\nTuesdays\, 4-5pm\nExcept not Oct.10th\n$50\nbenefits go to MRVArts\nScholarhships are available \nParticipants will work on developing writing skills. Each session will have a theme\, such as parallel structures. After an introduction\, approximately one third of each class will be devoted to writing on a specific topic\, followed by reading that day’s work and a brief critique of the essays. See workshop details at https://www.madrivervalleyarts.org/madrivervalleyarts/workshop
URL:https://mrvvillage.com/event/five-week-writing-workshop-2/
LOCATION:Mad River Valley Arts\, 5031 Main Street #2 Village Square\, Waitsfield\, 05673
CATEGORIES:Arts & Entertainment,Community
ATTACH;FMTTYPE=image/png:https://mrvvillage.com/wp-content/uploads/2023/09/mrva-logo-4-6tLcgG.tmp_.png
ORGANIZER;CN="Mad%20River%20Valley%20Arts":MAILTO:director@madrivervalleyarts.org
GEO:44.1926386;-72.7798479
X-APPLE-STRUCTURED-LOCATION;VALUE=URI;X-ADDRESS=Mad River Valley Arts 5031 Main Street #2 Village Square Waitsfield 05673;X-APPLE-RADIUS=500;X-TITLE=5031 Main Street #2 Village Square:geo:-72.7798479,44.1926386
END:VEVENT
BEGIN:VEVENT
DTSTART;TZID=America/New_York:20231005T160000
DTEND;TZID=America/New_York:20231116T170000
DTSTAMP:20260422T113814
CREATED:20230920T144010Z
LAST-MODIFIED:20231005T172319Z
UID:10005242-1696521600-1700154000@mrvvillage.com
SUMMARY:Clown Class for Ages 4 & 5
DESCRIPTION:Ages 4 & 5\nOctober 5th – November 16th (6 week session; no class Nov 2nd)\nThursday’s 4:00-5:00pm\nWaitsfield United Church of Christ – 4355 Main Street \nStructured silliness! Led by Kolleen & Bobby Kintz\, this class will explore creative movement\, comedic expression and ensemble creation. Students will play games\, move their bodies\, make soundtracks and find their funny. Students will share some of what they’ve learned at a showing for parents during the final class. \nThis is a drop-off class: we will help create a comfortable transition for your child when they arrive each week.
URL:https://mrvvillage.com/event/clown-class-for-ages-4-5/
LOCATION:Waitsfield United Church Village Meeting House\, 4355 Main St\, Waitsfield\, 05673
CATEGORIES:Arts & Entertainment,Community,Family Friendly
ATTACH;FMTTYPE=image/jpeg:https://mrvvillage.com/wp-content/uploads/2023/09/0I9A2219-1-2ZH0V7.tmp_.jpg
ORGANIZER;CN="Kolleen%20%26amp%3B%20Bobby%20Kintz":MAILTO:kolleenkintz@gmail.com
GEO:44.1905725;-72.8237868
X-APPLE-STRUCTURED-LOCATION;VALUE=URI;X-ADDRESS=Waitsfield United Church Village Meeting House 4355 Main St Waitsfield 05673;X-APPLE-RADIUS=500;X-TITLE=4355 Main St:geo:-72.8237868,44.1905725
END:VEVENT
BEGIN:VEVENT
DTSTART;TZID=America/New_York:20231005T160000
DTEND;TZID=America/New_York:20231116T170000
DTSTAMP:20260422T113814
CREATED:20230920T144011Z
LAST-MODIFIED:20231005T172319Z
UID:10005243-1696521600-1700154000@mrvvillage.com
SUMMARY:Parent & Child Clown Class for Ages 2 & 3
DESCRIPTION:Kolleen & Bobby Kintz are Offering a New Class! \nIn addition to our ongoing preschool age clown class\, we are excited to announce our newest class: Parent & Child Clown for Ages 2 & 3!\nStudents and their parents will play games\, move their bodies\, explore soundtracks and find their funny. We will use tools like songs\, puppets\, parachutes and more\, to help us teach the basic fundamentals of circus and performance through play. The journey starts here! \nParent & Child Clown\nAges 2 & 3\nOct 5th – Nov 16th (6 week session; no class Nov 2nd)\nThursday’s 10:00-11:00am\nWaitsfield United Church of Christ – 4355 Main Street\nCopy/paste the following link to learn more and register your little clown: https://forms.gle/Dm35UyGBHQE3oDCp8
URL:https://mrvvillage.com/event/parent-child-clown-class-for-ages-2-3/
LOCATION:Waitsfield United Church Village Meeting House\, 4355 Main St\, Waitsfield\, 05673
CATEGORIES:Arts & Entertainment,Community,Family Friendly
ATTACH;FMTTYPE=image/jpeg:https://mrvvillage.com/wp-content/uploads/2023/09/0I9A2159-1-kvpM6Y.tmp_.jpg
GEO:44.1905725;-72.8237868
X-APPLE-STRUCTURED-LOCATION;VALUE=URI;X-ADDRESS=Waitsfield United Church Village Meeting House 4355 Main St Waitsfield 05673;X-APPLE-RADIUS=500;X-TITLE=4355 Main St:geo:-72.8237868,44.1905725
END:VEVENT
BEGIN:VEVENT
DTSTART;TZID=America/New_York:20231006T000000
DTEND;TZID=America/New_York:20231006T050000
DTSTAMP:20260422T113814
CREATED:20230822T064609Z
LAST-MODIFIED:20230822T064609Z
UID:10004994-1696550400-1696568400@mrvvillage.com
SUMMARY:The 33rd Annual Green Mountain Photo Show
DESCRIPTION:It would be a privilege to have you join our event and/or attend the reception.\nAt the The Red Barn Galleries at Lareau Farm – Route 100 – Waitsfield\, Vermon \nShow Hours\nThurs/ Fri – 4 to 9 pm\nSat/ Sun – noon to 9 pm\nReception: Sept. 10\, 5-7pm
URL:https://mrvvillage.com/event/the-33rd-annual-green-mountain-photo-show-16/
LOCATION:Big Red Barn at Lareau Farm\, 48 Lareau Road\, Waitsfield\, 05673
CATEGORIES:Arts & Entertainment
ATTACH;FMTTYPE=image/png:https://mrvvillage.com/wp-content/uploads/2023/08/Screen-Shot-2023-08-21-at-2.54.21-PM-0KayLZ.tmp_.png
ORGANIZER;CN="Mad%20River%20Valley%20Arts":MAILTO:director@madrivervalleyarts.org
GEO:44.172559;-72.833919
X-APPLE-STRUCTURED-LOCATION;VALUE=URI;X-ADDRESS=Big Red Barn at Lareau Farm 48 Lareau Road Waitsfield 05673;X-APPLE-RADIUS=500;X-TITLE=48 Lareau Road:geo:-72.833919,44.172559
END:VEVENT
BEGIN:VEVENT
DTSTART;TZID=America/New_York:20231006T000000
DTEND;TZID=America/New_York:20231006T050000
DTSTAMP:20260422T113814
CREATED:20230822T064610Z
LAST-MODIFIED:20230827T194509Z
UID:10004995-1696550400-1696568400@mrvvillage.com
SUMMARY:Opening Reception – 33rd Annual Green Mountain Photo Show
DESCRIPTION:Join us for the Opening reception of this year’s show. \nIt would be a privilege to have you join our event and/or attend the reception.\nAt the The Red Barn Galleries at Lareau Farm – Route 100 – Waitsfield\, Vermon \nShow Hours\nThurs/ Fri – 4 to 9 pm\nSat/ Sun – noon to 9 pm\nReception: Sept. 10\, 5-7pm
URL:https://mrvvillage.com/event/opening-reception-33rd-annual-green-mountain-photo-show-8/
LOCATION:Big Red Barn at Lareau Farm\, 48 Lareau Road\, Waitsfield\, 05673
CATEGORIES:Arts & Entertainment
ATTACH;FMTTYPE=image/png:https://mrvvillage.com/wp-content/uploads/2023/08/Screen-Shot-2023-08-21-at-2.54.21-PM-0KayLZ.tmp_.png
ORGANIZER;CN="Mad%20River%20Valley%20Arts":MAILTO:director@madrivervalleyarts.org
GEO:44.172559;-72.833919
X-APPLE-STRUCTURED-LOCATION;VALUE=URI;X-ADDRESS=Big Red Barn at Lareau Farm 48 Lareau Road Waitsfield 05673;X-APPLE-RADIUS=500;X-TITLE=48 Lareau Road:geo:-72.833919,44.172559
END:VEVENT
BEGIN:VEVENT
DTSTART;TZID=America/New_York:20231006T160000
DTEND;TZID=America/New_York:20231006T210000
DTSTAMP:20260422T113814
CREATED:20230822T183110Z
LAST-MODIFIED:20231006T173817Z
UID:10005019-1696608000-1696626000@mrvvillage.com
SUMMARY:The 33rd Annual Green Mountain Photo Show
DESCRIPTION:It would be a privilege to have you join our event and/or attend the reception.\nAt the The Red Barn Galleries at Lareau Farm – Route 100 – Waitsfield\, Vermon \nShow Hours\nThurs/ Fri – 4 to 9 pm\nSat/ Sun – noon to 9 pm\nReception: Sept. 10\, 5-7pm
URL:https://mrvvillage.com/event/the-33rd-annual-green-mountain-photo-show-26/
LOCATION:Big Red Barn at Lareau Farm\, 48 Lareau Road\, Waitsfield\, 05673
CATEGORIES:Arts & Entertainment
ATTACH;FMTTYPE=image/png:https://mrvvillage.com/wp-content/uploads/2023/08/Screen-Shot-2023-08-21-at-2.54.21-PM-0KayLZ.tmp_.png
ORGANIZER;CN="Mad%20River%20Valley%20Arts":MAILTO:director@madrivervalleyarts.org
GEO:44.172559;-72.833919
X-APPLE-STRUCTURED-LOCATION;VALUE=URI;X-ADDRESS=Big Red Barn at Lareau Farm 48 Lareau Road Waitsfield 05673;X-APPLE-RADIUS=500;X-TITLE=48 Lareau Road:geo:-72.833919,44.172559
END:VEVENT
BEGIN:VEVENT
DTSTART;TZID=America/New_York:20231006T170000
DTEND;TZID=America/New_York:20231006T193000
DTSTAMP:20260422T113814
CREATED:20231001T143900Z
LAST-MODIFIED:20231006T173818Z
UID:10005277-1696611600-1696620600@mrvvillage.com
SUMMARY:Special Pop Up Event Featuring Reid Parsons
DESCRIPTION:Join us for a special pop up event featuring the beautiful music of Reid Parsons. For one night only\, grab a Red Hen Wood-Fired Pizza from the outdoor turtle oven and it’s your final chance to grab a burrito and craft beer from the All Good Burrito Bar! Doors open at 5PM and music starts at 5:30PM.
URL:https://mrvvillage.com/event/special-pop-up-event-featuring-reid-parsons/
LOCATION:Camp Meade\, 961 ROUTE 2\, middlesex\, 05602
CATEGORIES:Arts & Entertainment,Community
ATTACH;FMTTYPE=image/jpeg:https://mrvvillage.com/wp-content/uploads/2023/10/IMG_4338-fpVkvc.tmp_.jpg
ORGANIZER;CN="Camp%20Meade":MAILTO:info@campmeade.today
GEO:44.2412437;-72.5366148
X-APPLE-STRUCTURED-LOCATION;VALUE=URI;X-ADDRESS=Camp Meade 961 ROUTE 2 middlesex 05602;X-APPLE-RADIUS=500;X-TITLE=961 ROUTE 2:geo:-72.5366148,44.2412437
END:VEVENT
BEGIN:VEVENT
DTSTART;TZID=America/New_York:20231006T190000
DTEND;TZID=America/New_York:20231006T210000
DTSTAMP:20260422T113814
CREATED:20230925T130941Z
LAST-MODIFIED:20231006T173818Z
UID:10005255-1696618800-1696626000@mrvvillage.com
SUMMARY:Valley Players Presents The Glass Menagerie
DESCRIPTION:The Valley Players will present a classic of the American theater this fall. This hauntingly poetic play tells of a single mother and her two adult children struggling to get by in Depression-era St. Louis. Amanda Wingfield (Kitty Coyne\, Waterbury)\, raised in Southern gentility and abandoned by her husband\, now tries desperately to provide for her disabled daughter Laura (Lindsay Repka\, Middlebury) and adventure-seeking son Tom (Matthew Grant Winston\, Montpelier). The cast also includes Michael Smith (Cambridge\, VT) as Jim\, a high school acquaintance of Laura’s. \nShows: Sept. 29 – Oct. 15\nFridays and Saturdays at 7 pm – tickets $18\nSundays at 2 pm – $14 \n\nBUY TICKETS\nCLICK HERE for more info\n\nT
URL:https://mrvvillage.com/event/valley-players-presents-the-glass-menagerie-4/
LOCATION:Valley Players Theater\, 4254 Main Street\, Route 100\, Waitsfield\, VT\, 05673\, United States
CATEGORIES:Arts & Entertainment,Community
ATTACH;FMTTYPE=image/png:https://mrvvillage.com/wp-content/uploads/2023/09/Screen-Shot-2023-09-25-at-8.08.02-AM-dXUFpL.tmp_.png
ORGANIZER;CN="Valley%20Players":MAILTO:valleyplayers@madriver.com
GEO:44.2017815;-72.8121321
X-APPLE-STRUCTURED-LOCATION;VALUE=URI;X-ADDRESS=Valley Players Theater 4254 Main Street Route 100 Waitsfield VT 05673 United States;X-APPLE-RADIUS=500;X-TITLE=4254 Main Street\, Route 100:geo:-72.8121321,44.2017815
END:VEVENT
END:VCALENDAR