BEGIN:VCALENDAR
VERSION:2.0
PRODID:-//The Mad River Valley Village - ECPv6.0.13//NONSGML v1.0//EN
CALSCALE:GREGORIAN
METHOD:PUBLISH
X-WR-CALNAME:The Mad River Valley Village
X-ORIGINAL-URL:https://mrvvillage.com
X-WR-CALDESC:Events for The Mad River Valley Village
REFRESH-INTERVAL;VALUE=DURATION:PT1H
X-Robots-Tag:noindex
X-PUBLISHED-TTL:PT1H
BEGIN:VTIMEZONE
TZID:America/New_York
BEGIN:DAYLIGHT
TZOFFSETFROM:-0500
TZOFFSETTO:-0400
TZNAME:EDT
DTSTART:20250309T070000
END:DAYLIGHT
BEGIN:STANDARD
TZOFFSETFROM:-0400
TZOFFSETTO:-0500
TZNAME:EST
DTSTART:20251102T060000
END:STANDARD
END:VTIMEZONE
BEGIN:VEVENT
DTSTART;TZID=America/New_York:20250628T000000
DTEND;TZID=America/New_York:20250901T235959
DTSTAMP:20260423T004511
CREATED:20250623T063910Z
LAST-MODIFIED:20250628T153822Z
UID:10008411-1751068800-1756771199@mrvvillage.com
SUMMARY:Unity Revolution: The Color is the Message
DESCRIPTION:Abstract artists and sculptors Diana Pumpelly Bates and Peter Bradley on view at The Bundy Modern\, Waitsfield VT. \nLarge-scale non-representational work that uses color\, texture and form to provoke thought and emotion. \nPumpelly Bates exhibited at the Bundy in 1969\, so full circle back to 2025. \nOpen Friday – Sunday\, 12-5 or by appointment – text 802-777-2713
URL:https://mrvvillage.com/event/unity-revolution-the-color-is-the-message/
LOCATION:Bundy Modern\, 361 Bundy Rd\, Waitsfield\, VT\, United States
CATEGORIES:Arts & Entertainment
ATTACH;FMTTYPE=image/png:https://mrvvillage.com/wp-content/uploads/2025/06/Unknown-XU1YqL.png
GEO:44.1489265;-72.8329111
X-APPLE-STRUCTURED-LOCATION;VALUE=URI;X-ADDRESS=Bundy Modern 361 Bundy Rd Waitsfield VT United States;X-APPLE-RADIUS=500;X-TITLE=361 Bundy Rd:geo:-72.8329111,44.1489265
END:VEVENT
BEGIN:VEVENT
DTSTART;TZID=America/New_York:20250821T080000
DTEND;TZID=America/New_York:20251031T170000
DTSTAMP:20260423T004511
CREATED:20250802T121030Z
LAST-MODIFIED:20250821T210825Z
UID:10008791-1755763200-1761930000@mrvvillage.com
SUMMARY:Stardust
DESCRIPTION:The Mad Collective is proud to share ‘Stardust’\, an exhibition about The Quantum World. \nThe Quantum World is one of uncertainty. One can’t really talk about where a quantum object is\, we can only talk about where we might find it. Yet\, our seemingly solid reality is built upon this tiny world of possibilities\, stuff has form\, the universe has form and we are solid. \nThis show looks at the behavior of photons\, particles and mysterious patterns of quantum phenomena. It inspires us to think about the magic of the quantum fundamental basis to reality and asks us to be curious about where the human species is going. Artists open up to their interpretation of the immaterial while engaging with the scales of the unimaginable tiny to the infinitely large.
URL:https://mrvvillage.com/event/stardust/
LOCATION:Mad River Valley Arts\, 5031 Main Street #2 Village Square\, Waitsfield\, 05673
CATEGORIES:Arts & Entertainment
ATTACH;FMTTYPE=image/jpeg:https://mrvvillage.com/wp-content/uploads/2025/08/Chart-9-copy-sajD0f.jpg
ORGANIZER;CN="Mad%20River%20Valley%20Arts":MAILTO:director@madrivervalleyarts.org
GEO:44.1926386;-72.7798479
X-APPLE-STRUCTURED-LOCATION;VALUE=URI;X-ADDRESS=Mad River Valley Arts 5031 Main Street #2 Village Square Waitsfield 05673;X-APPLE-RADIUS=500;X-TITLE=5031 Main Street #2 Village Square:geo:-72.7798479,44.1926386
END:VEVENT
BEGIN:VEVENT
DTSTART;TZID=America/New_York:20250901T100000
DTEND;TZID=America/New_York:20250901T160000
DTSTAMP:20260423T004511
CREATED:20250813T145551Z
LAST-MODIFIED:20250825T220924Z
UID:10008855-1756720800-1756742400@mrvvillage.com
SUMMARY:Fluid Impressions: Barrie Fisher and Susie Conrad
DESCRIPTION:The Planetary Art Institute at Camp Meade is delighted to present these meditations as a conversation between two creators and friends-Barrie Fisher and Susie Conrad\, in keeping with our mission to support creativity\, collaboration\, and community in central Vermont. \nMonday – Friday 10am to 4pm\nSunday – 2pm to 6pm\nSelect Saturdays
URL:https://mrvvillage.com/event/fluid-impressions-barrie-fisher-and-susie-conrad-17/
LOCATION:Planetary Art Institute\, 961 Route 2\, Middlesex\, Vermont\, 05602\, United States
CATEGORIES:Arts & Entertainment
ATTACH;FMTTYPE=image/jpeg:https://mrvvillage.com/wp-content/uploads/2025/08/Fluid-Impressions-poster-MiMut0.jpg
ORGANIZER;CN="Susie%20Conrad":MAILTO:susiekconrad@gmail.com
GEO:44.2412437;-72.5366148
X-APPLE-STRUCTURED-LOCATION;VALUE=URI;X-ADDRESS=Planetary Art Institute 961 Route 2 Middlesex Vermont 05602 United States;X-APPLE-RADIUS=500;X-TITLE=961 Route 2:geo:-72.5366148,44.2412437
END:VEVENT
END:VCALENDAR