BEGIN:VCALENDAR
VERSION:2.0
PRODID:-//The Mad River Valley Village - ECPv6.0.13//NONSGML v1.0//EN
CALSCALE:GREGORIAN
METHOD:PUBLISH
X-WR-CALNAME:The Mad River Valley Village
X-ORIGINAL-URL:https://mrvvillage.com
X-WR-CALDESC:Events for The Mad River Valley Village
REFRESH-INTERVAL;VALUE=DURATION:PT1H
X-Robots-Tag:noindex
X-PUBLISHED-TTL:PT1H
BEGIN:VTIMEZONE
TZID:America/New_York
BEGIN:DAYLIGHT
TZOFFSETFROM:-0500
TZOFFSETTO:-0400
TZNAME:EDT
DTSTART:20250309T070000
END:DAYLIGHT
BEGIN:STANDARD
TZOFFSETFROM:-0400
TZOFFSETTO:-0500
TZNAME:EST
DTSTART:20251102T060000
END:STANDARD
END:VTIMEZONE
BEGIN:VEVENT
DTSTART;TZID=America/New_York:20250821T080000
DTEND;TZID=America/New_York:20251031T170000
DTSTAMP:20260423T021827
CREATED:20250802T121030Z
LAST-MODIFIED:20250821T210825Z
UID:10008791-1755763200-1761930000@mrvvillage.com
SUMMARY:Stardust
DESCRIPTION:The Mad Collective is proud to share ‘Stardust’\, an exhibition about The Quantum World. \nThe Quantum World is one of uncertainty. One can’t really talk about where a quantum object is\, we can only talk about where we might find it. Yet\, our seemingly solid reality is built upon this tiny world of possibilities\, stuff has form\, the universe has form and we are solid. \nThis show looks at the behavior of photons\, particles and mysterious patterns of quantum phenomena. It inspires us to think about the magic of the quantum fundamental basis to reality and asks us to be curious about where the human species is going. Artists open up to their interpretation of the immaterial while engaging with the scales of the unimaginable tiny to the infinitely large.
URL:https://mrvvillage.com/event/stardust/
LOCATION:Mad River Valley Arts\, 5031 Main Street #2 Village Square\, Waitsfield\, 05673
CATEGORIES:Arts & Entertainment
ATTACH;FMTTYPE=image/jpeg:https://mrvvillage.com/wp-content/uploads/2025/08/Chart-9-copy-sajD0f.jpg
ORGANIZER;CN="Mad%20River%20Valley%20Arts":MAILTO:director@madrivervalleyarts.org
GEO:44.1926386;-72.7798479
X-APPLE-STRUCTURED-LOCATION;VALUE=URI;X-ADDRESS=Mad River Valley Arts 5031 Main Street #2 Village Square Waitsfield 05673;X-APPLE-RADIUS=500;X-TITLE=5031 Main Street #2 Village Square:geo:-72.7798479,44.1926386
END:VEVENT
BEGIN:VEVENT
DTSTART;TZID=America/New_York:20251024T180000
DTEND;TZID=America/New_York:20251024T200000
DTSTAMP:20260423T021827
CREATED:20250731T161417Z
LAST-MODIFIED:20251024T153822Z
UID:10008789-1761328800-1761336000@mrvvillage.com
SUMMARY:Feel the Wheel Pottery Workshop
DESCRIPTION:Here’s your chance to try your hand at the potter’s wheel! This workshop will be offered the last Friday of every month (most months). \nThis is a one time\, two hour introduction to learn the basics of wheel throwing. \nYou will be guided from a ball of clay to your first bowl or cup. Using a simple to understand process\, you will learn the foundational techniques needed to enjoy this meditative and somewhat magical craft. Most students will successfully throw at least 2 pots which will be fired and finished by us\, ready to pick up in approximately 3 weeks. \nIf you throw more than 2 that you would like to keep we can finish them as well for $15/pot (first 2 are included). Shipping is available for additional fees.
URL:https://mrvvillage.com/event/feel-the-wheel-pottery-workshop-3/
LOCATION:Blockhouse Studio\, 5031 Main Street\, Waitsfield\, VT\, 05673
CATEGORIES:Arts & Entertainment
ATTACH;FMTTYPE=image/jpeg:https://mrvvillage.com/wp-content/uploads/2025/07/untitled-3262-PrXkbV.jpg
GEO:44.1926386;-72.7798479
X-APPLE-STRUCTURED-LOCATION;VALUE=URI;X-ADDRESS=Blockhouse Studio 5031 Main Street Waitsfield VT 05673;X-APPLE-RADIUS=500;X-TITLE=5031 Main Street:geo:-72.7798479,44.1926386
END:VEVENT
BEGIN:VEVENT
DTSTART;TZID=America/New_York:20251024T190000
DTEND;TZID=America/New_York:20251024T230000
DTSTAMP:20260423T021827
CREATED:20251022T073838Z
LAST-MODIFIED:20251024T153823Z
UID:10009146-1761332400-1761346800@mrvvillage.com
SUMMARY:Rocky Horror Picture Show
DESCRIPTION:Movie playing October 23rd\, 24th\, 25th\, 26th\, 27th\, 30th. \nSpecial Sing-a-long October 30th @ 7pm. Come join us for a special screening of Rocky Horror Picture Show sing-along! Audience participation\, costumes encouraged. \nAdult $11\nChild/Senior $9 \nTime & Location\nOct 30\, 2025\, 7:00 PM – 11:00 PM\nWaitsfield\, 48 Carroll Rd\, Waitsfield\, VT 05673\, USA
URL:https://mrvvillage.com/event/rocky-horror-picture-show-2/
LOCATION:Big Picture Theater\, 44 Carroll Road\, Waitsfield\, 05673
CATEGORIES:Arts & Entertainment
ATTACH;FMTTYPE=image/png:https://mrvvillage.com/wp-content/uploads/2025/10/Screenshot-2025-10-21-at-3.11.22-PM-OHOSOy.png
ORGANIZER;CN="Big%20Picture%20Theater":MAILTO:beths@madriver.com
GEO:44.1874779;-72.8335286
X-APPLE-STRUCTURED-LOCATION;VALUE=URI;X-ADDRESS=Big Picture Theater 44 Carroll Road Waitsfield 05673;X-APPLE-RADIUS=500;X-TITLE=44 Carroll Road:geo:-72.8335286,44.1874779
END:VEVENT
END:VCALENDAR