BEGIN:VCALENDAR
VERSION:2.0
PRODID:-//The Mad River Valley Village - ECPv6.0.13//NONSGML v1.0//EN
CALSCALE:GREGORIAN
METHOD:PUBLISH
X-WR-CALNAME:The Mad River Valley Village
X-ORIGINAL-URL:https://mrvvillage.com
X-WR-CALDESC:Events for The Mad River Valley Village
REFRESH-INTERVAL;VALUE=DURATION:PT1H
X-Robots-Tag:noindex
X-PUBLISHED-TTL:PT1H
BEGIN:VTIMEZONE
TZID:America/New_York
BEGIN:DAYLIGHT
TZOFFSETFROM:-0500
TZOFFSETTO:-0400
TZNAME:EDT
DTSTART:20250309T070000
END:DAYLIGHT
BEGIN:STANDARD
TZOFFSETFROM:-0400
TZOFFSETTO:-0500
TZNAME:EST
DTSTART:20251102T060000
END:STANDARD
END:VTIMEZONE
BEGIN:VEVENT
DTSTART;TZID=America/New_York:20250628T000000
DTEND;TZID=America/New_York:20250901T235959
DTSTAMP:20260423T013958
CREATED:20250623T063910Z
LAST-MODIFIED:20250628T153822Z
UID:10008411-1751068800-1756771199@mrvvillage.com
SUMMARY:Unity Revolution: The Color is the Message
DESCRIPTION:Abstract artists and sculptors Diana Pumpelly Bates and Peter Bradley on view at The Bundy Modern\, Waitsfield VT. \nLarge-scale non-representational work that uses color\, texture and form to provoke thought and emotion. \nPumpelly Bates exhibited at the Bundy in 1969\, so full circle back to 2025. \nOpen Friday – Sunday\, 12-5 or by appointment – text 802-777-2713
URL:https://mrvvillage.com/event/unity-revolution-the-color-is-the-message/
LOCATION:Bundy Modern\, 361 Bundy Rd\, Waitsfield\, VT\, United States
CATEGORIES:Arts & Entertainment
ATTACH;FMTTYPE=image/png:https://mrvvillage.com/wp-content/uploads/2025/06/Unknown-XU1YqL.png
GEO:44.1489265;-72.8329111
X-APPLE-STRUCTURED-LOCATION;VALUE=URI;X-ADDRESS=Bundy Modern 361 Bundy Rd Waitsfield VT United States;X-APPLE-RADIUS=500;X-TITLE=361 Bundy Rd:geo:-72.8329111,44.1489265
END:VEVENT
BEGIN:VEVENT
DTSTART;TZID=America/New_York:20250821T080000
DTEND;TZID=America/New_York:20251031T170000
DTSTAMP:20260423T013958
CREATED:20250802T121030Z
LAST-MODIFIED:20250821T210825Z
UID:10008791-1755763200-1761930000@mrvvillage.com
SUMMARY:Stardust
DESCRIPTION:The Mad Collective is proud to share ‘Stardust’\, an exhibition about The Quantum World. \nThe Quantum World is one of uncertainty. One can’t really talk about where a quantum object is\, we can only talk about where we might find it. Yet\, our seemingly solid reality is built upon this tiny world of possibilities\, stuff has form\, the universe has form and we are solid. \nThis show looks at the behavior of photons\, particles and mysterious patterns of quantum phenomena. It inspires us to think about the magic of the quantum fundamental basis to reality and asks us to be curious about where the human species is going. Artists open up to their interpretation of the immaterial while engaging with the scales of the unimaginable tiny to the infinitely large.
URL:https://mrvvillage.com/event/stardust/
LOCATION:Mad River Valley Arts\, 5031 Main Street #2 Village Square\, Waitsfield\, 05673
CATEGORIES:Arts & Entertainment
ATTACH;FMTTYPE=image/jpeg:https://mrvvillage.com/wp-content/uploads/2025/08/Chart-9-copy-sajD0f.jpg
ORGANIZER;CN="Mad%20River%20Valley%20Arts":MAILTO:director@madrivervalleyarts.org
GEO:44.1926386;-72.7798479
X-APPLE-STRUCTURED-LOCATION;VALUE=URI;X-ADDRESS=Mad River Valley Arts 5031 Main Street #2 Village Square Waitsfield 05673;X-APPLE-RADIUS=500;X-TITLE=5031 Main Street #2 Village Square:geo:-72.7798479,44.1926386
END:VEVENT
BEGIN:VEVENT
DTSTART;TZID=America/New_York:20250901T100000
DTEND;TZID=America/New_York:20250901T160000
DTSTAMP:20260423T013958
CREATED:20250813T145551Z
LAST-MODIFIED:20250825T220924Z
UID:10008855-1756720800-1756742400@mrvvillage.com
SUMMARY:Fluid Impressions: Barrie Fisher and Susie Conrad
DESCRIPTION:The Planetary Art Institute at Camp Meade is delighted to present these meditations as a conversation between two creators and friends-Barrie Fisher and Susie Conrad\, in keeping with our mission to support creativity\, collaboration\, and community in central Vermont. \nMonday – Friday 10am to 4pm\nSunday – 2pm to 6pm\nSelect Saturdays
URL:https://mrvvillage.com/event/fluid-impressions-barrie-fisher-and-susie-conrad-17/
LOCATION:Planetary Art Institute\, 961 Route 2\, Middlesex\, Vermont\, 05602\, United States
CATEGORIES:Arts & Entertainment
ATTACH;FMTTYPE=image/jpeg:https://mrvvillage.com/wp-content/uploads/2025/08/Fluid-Impressions-poster-MiMut0.jpg
ORGANIZER;CN="Susie%20Conrad":MAILTO:susiekconrad@gmail.com
GEO:44.2412437;-72.5366148
X-APPLE-STRUCTURED-LOCATION;VALUE=URI;X-ADDRESS=Planetary Art Institute 961 Route 2 Middlesex Vermont 05602 United States;X-APPLE-RADIUS=500;X-TITLE=961 Route 2:geo:-72.5366148,44.2412437
END:VEVENT
BEGIN:VEVENT
DTSTART;TZID=America/New_York:20250902T100000
DTEND;TZID=America/New_York:20250902T160000
DTSTAMP:20260423T013958
CREATED:20250813T145551Z
LAST-MODIFIED:20250825T220924Z
UID:10008856-1756807200-1756828800@mrvvillage.com
SUMMARY:Fluid Impressions: Barrie Fisher and Susie Conrad
DESCRIPTION:The Planetary Art Institute at Camp Meade is delighted to present these meditations as a conversation between two creators and friends-Barrie Fisher and Susie Conrad\, in keeping with our mission to support creativity\, collaboration\, and community in central Vermont. \nMonday – Friday 10am to 4pm\nSunday – 2pm to 6pm\nSelect Saturdays
URL:https://mrvvillage.com/event/fluid-impressions-barrie-fisher-and-susie-conrad-18/
LOCATION:Planetary Art Institute\, 961 Route 2\, Middlesex\, Vermont\, 05602\, United States
CATEGORIES:Arts & Entertainment
ATTACH;FMTTYPE=image/jpeg:https://mrvvillage.com/wp-content/uploads/2025/08/Fluid-Impressions-poster-MiMut0.jpg
ORGANIZER;CN="Susie%20Conrad":MAILTO:susiekconrad@gmail.com
GEO:44.2412437;-72.5366148
X-APPLE-STRUCTURED-LOCATION;VALUE=URI;X-ADDRESS=Planetary Art Institute 961 Route 2 Middlesex Vermont 05602 United States;X-APPLE-RADIUS=500;X-TITLE=961 Route 2:geo:-72.5366148,44.2412437
END:VEVENT
BEGIN:VEVENT
DTSTART;TZID=America/New_York:20250903T100000
DTEND;TZID=America/New_York:20250903T160000
DTSTAMP:20260423T013958
CREATED:20250813T145551Z
LAST-MODIFIED:20250825T220924Z
UID:10008857-1756893600-1756915200@mrvvillage.com
SUMMARY:Fluid Impressions: Barrie Fisher and Susie Conrad
DESCRIPTION:The Planetary Art Institute at Camp Meade is delighted to present these meditations as a conversation between two creators and friends-Barrie Fisher and Susie Conrad\, in keeping with our mission to support creativity\, collaboration\, and community in central Vermont. \nMonday – Friday 10am to 4pm\nSunday – 2pm to 6pm\nSelect Saturdays
URL:https://mrvvillage.com/event/fluid-impressions-barrie-fisher-and-susie-conrad-19/
LOCATION:Planetary Art Institute\, 961 Route 2\, Middlesex\, Vermont\, 05602\, United States
CATEGORIES:Arts & Entertainment
ATTACH;FMTTYPE=image/jpeg:https://mrvvillage.com/wp-content/uploads/2025/08/Fluid-Impressions-poster-MiMut0.jpg
ORGANIZER;CN="Susie%20Conrad":MAILTO:susiekconrad@gmail.com
GEO:44.2412437;-72.5366148
X-APPLE-STRUCTURED-LOCATION;VALUE=URI;X-ADDRESS=Planetary Art Institute 961 Route 2 Middlesex Vermont 05602 United States;X-APPLE-RADIUS=500;X-TITLE=961 Route 2:geo:-72.5366148,44.2412437
END:VEVENT
BEGIN:VEVENT
DTSTART;TZID=America/New_York:20250904T100000
DTEND;TZID=America/New_York:20250904T160000
DTSTAMP:20260423T013958
CREATED:20250813T145551Z
LAST-MODIFIED:20250825T220937Z
UID:10008858-1756980000-1757001600@mrvvillage.com
SUMMARY:Fluid Impressions: Barrie Fisher and Susie Conrad
DESCRIPTION:The Planetary Art Institute at Camp Meade is delighted to present these meditations as a conversation between two creators and friends-Barrie Fisher and Susie Conrad\, in keeping with our mission to support creativity\, collaboration\, and community in central Vermont. \nMonday – Friday 10am to 4pm\nSunday – 2pm to 6pm\nSelect Saturdays
URL:https://mrvvillage.com/event/fluid-impressions-barrie-fisher-and-susie-conrad-20/
LOCATION:Planetary Art Institute\, 961 Route 2\, Middlesex\, Vermont\, 05602\, United States
CATEGORIES:Arts & Entertainment
ATTACH;FMTTYPE=image/jpeg:https://mrvvillage.com/wp-content/uploads/2025/08/Fluid-Impressions-poster-MiMut0.jpg
ORGANIZER;CN="Susie%20Conrad":MAILTO:susiekconrad@gmail.com
GEO:44.2412437;-72.5366148
X-APPLE-STRUCTURED-LOCATION;VALUE=URI;X-ADDRESS=Planetary Art Institute 961 Route 2 Middlesex Vermont 05602 United States;X-APPLE-RADIUS=500;X-TITLE=961 Route 2:geo:-72.5366148,44.2412437
END:VEVENT
BEGIN:VEVENT
DTSTART;TZID=America/New_York:20250905T100000
DTEND;TZID=America/New_York:20250905T110000
DTSTAMP:20260423T013958
CREATED:20250718T204305Z
LAST-MODIFIED:20250905T195319Z
UID:10008695-1757066400-1757070000@mrvvillage.com
SUMMARY:Fall Toddler Time Art Class at Inklings!
DESCRIPTION:It’s Fall Toddler Time Art Class at Inklings Children’s Books! Friday mornings from 10am – 11am. \nCaregivers and their little ones are invited to explore the colors & shapes of the season\, and develop those fine motor skills; all while having some creative fun! \nActivities will include painting on torn newspaper\, craft pumpkins\, and colorful watercolor felt leaves. \nSIGN UP using the EVENT LINK\nBegins Friday\, Sept. 5th and goes for 6 weeks.\nAges: 18mo – 4yrs\nPrice: $85 (all six classes) Drop-in Price: $15/per class
URL:https://mrvvillage.com/event/fall-toddler-time-art-class-at-inklings/
LOCATION:Inklings Children’s Books\, 106 Mad River Greeen\, Waitsfield\, VT\, 05673\, United States
CATEGORIES:Arts & Entertainment
ATTACH;FMTTYPE=image/jpeg:https://mrvvillage.com/wp-content/uploads/2025/07/Fall-2025-Toddler-Art-Flyer-MRV-OQzeHO.jpg
ORGANIZER;CN="Inklings%20Children%26%238217%3Bs%20Books":MAILTO:inklingschildrensbooks@gmail.com
GEO:44.1844899;-72.839037
X-APPLE-STRUCTURED-LOCATION;VALUE=URI;X-ADDRESS=Inklings Children’s Books 106 Mad River Greeen Waitsfield VT 05673 United States;X-APPLE-RADIUS=500;X-TITLE=106 Mad River Greeen:geo:-72.839037,44.1844899
END:VEVENT
BEGIN:VEVENT
DTSTART;TZID=America/New_York:20250905T100000
DTEND;TZID=America/New_York:20250905T160000
DTSTAMP:20260423T013958
CREATED:20250813T145605Z
LAST-MODIFIED:20250825T220937Z
UID:10008859-1757066400-1757088000@mrvvillage.com
SUMMARY:Fluid Impressions: Barrie Fisher and Susie Conrad
DESCRIPTION:The Planetary Art Institute at Camp Meade is delighted to present these meditations as a conversation between two creators and friends-Barrie Fisher and Susie Conrad\, in keeping with our mission to support creativity\, collaboration\, and community in central Vermont. \nMonday – Friday 10am to 4pm\nSunday – 2pm to 6pm\nSelect Saturdays
URL:https://mrvvillage.com/event/fluid-impressions-barrie-fisher-and-susie-conrad-21/
LOCATION:Planetary Art Institute\, 961 Route 2\, Middlesex\, Vermont\, 05602\, United States
CATEGORIES:Arts & Entertainment
ATTACH;FMTTYPE=image/jpeg:https://mrvvillage.com/wp-content/uploads/2025/08/Fluid-Impressions-poster-MiMut0.jpg
ORGANIZER;CN="Susie%20Conrad":MAILTO:susiekconrad@gmail.com
GEO:44.2412437;-72.5366148
X-APPLE-STRUCTURED-LOCATION;VALUE=URI;X-ADDRESS=Planetary Art Institute 961 Route 2 Middlesex Vermont 05602 United States;X-APPLE-RADIUS=500;X-TITLE=961 Route 2:geo:-72.5366148,44.2412437
END:VEVENT
BEGIN:VEVENT
DTSTART;TZID=America/New_York:20250905T170000
DTEND;TZID=America/New_York:20250905T190000
DTSTAMP:20260423T013958
CREATED:20250722T214226Z
LAST-MODIFIED:20250905T195319Z
UID:10008713-1757091600-1757098800@mrvvillage.com
SUMMARY:ARTful Justice: Art Auction with music Fundraiser
DESCRIPTION:ARTFul Justice 2025 \nWhat it is: A Silent Auction and Celebration of an Activated Community. All Proceeds from the Auction go to The Vermont Immigration Legal Defense Fund. Enjoy the Art Sale\, Raise Awareness\, Meet Like Minded People\, and Celebrate Hope over Despair! \nPresented by: Indivisible Mad River Valley and Camel’s Hump Indivisible \nBeneficiary: The Vermont Immigration Legal Defense Fund. The Fund supports and expands legal resources available to organizations that protect asylum seekers\, immigrants\, and marginalized people facing deportation or detention. \nAfterThoughts 8 VT 17\, Waitsfield\, Vermont\nFood (Peace Burger) and drinks available for purchase\nLive Music by Granville Daze \nOverview: The event showcases creatives including: crafters\, painters\, photographers\, ceramicists\, fiber artists\, sculptors\, and conceptual artists. These artists and artisans have donated their work to raise funds for the Vermont Immigration Legal Defense Fund. \nFor information or to register\, please visit: https://www.mobilize.us/indivisiblemadrivervalley/event/810698/
URL:https://mrvvillage.com/event/artful-justice-art-auction-with-music-fundraiser/
LOCATION:afterthoughts\, 8 Vt Route 17 200\, Waitsfield\, Vermont\, 05673\, United States
CATEGORIES:Arts & Entertainment,Food & Drink
ATTACH;FMTTYPE=image/png:https://mrvvillage.com/wp-content/uploads/2025/07/Screenshot-2025-07-21-at-10.27.07-AM-WKQ2MX.png
ORGANIZER;CN="Indivisible%20Mad%20River%20Valley":MAILTO:IndivisibleMRV@gmail.com
GEO:44.181648;-72.8405231
X-APPLE-STRUCTURED-LOCATION;VALUE=URI;X-ADDRESS=afterthoughts 8 Vt Route 17 200 Waitsfield Vermont 05673 United States;X-APPLE-RADIUS=500;X-TITLE=8 Vt Route 17 200:geo:-72.8405231,44.181648
END:VEVENT
BEGIN:VEVENT
DTSTART;TZID=America/New_York:20250906T203000
DTEND;TZID=America/New_York:20250906T235900
DTSTAMP:20260423T013958
CREATED:20250902T192350Z
LAST-MODIFIED:20250906T200815Z
UID:10008944-1757190600-1757203140@mrvvillage.com
SUMMARY:DJ MYTH SUMMER SEND-OFF DANCE PARTY @ AFTERTHOUGHTS
DESCRIPTION:Join us as we say “see ya” to the summer of 2025\, with DJ Myth\nPlaying the best in hip-hop\, soul\, R&B\, pop\, funk and more…\n8PM!\nFREE! \nAfterthoughts\n8 VT 17\nWaitsfield\, VT 05673
URL:https://mrvvillage.com/event/dj-myth-summer-send-off-dance-party-afterthoughts/
LOCATION:afterthoughts\, 8 Vt Route 17 200\, Waitsfield\, Vermont\, 05673\, United States
CATEGORIES:Aprés,Arts & Entertainment
ATTACH;FMTTYPE=image/jpeg:https://mrvvillage.com/wp-content/uploads/2025/09/myth-TXq7KY.jpg
ORGANIZER;CN="afterthoughts":MAILTO:hello@afterthoughtsvt.com
GEO:44.181648;-72.8405231
X-APPLE-STRUCTURED-LOCATION;VALUE=URI;X-ADDRESS=afterthoughts 8 Vt Route 17 200 Waitsfield Vermont 05673 United States;X-APPLE-RADIUS=500;X-TITLE=8 Vt Route 17 200:geo:-72.8405231,44.181648
END:VEVENT
BEGIN:VEVENT
DTSTART;TZID=America/New_York:20250907T130000
DTEND;TZID=America/New_York:20251012T203000
DTSTAMP:20260423T013958
CREATED:20250714T115740Z
LAST-MODIFIED:20250907T202319Z
UID:10008642-1757250000-1760301000@mrvvillage.com
SUMMARY:35th Annual Green Mountain Photo Show
DESCRIPTION:Photographs ranging from black and white to color and from realism to abstract are featured in this popular annual show. \nThe spacious galleries\, located in the historic Red Barn\, are the perfect venue for viewing the large format photographs and small intimate images that reflect the diverse contemporary practices of both amateur and professional photographers. The show is especially appealing to children who search out diverse subjects such as animals\, birds and flowers. Assorted subject matter and conceptual experimentation are continuing to enter the foreground of the Vermont vernacular to show the ever-evolving nature of photography with new technologies and formats along with technical manipulation. \nThis exhibition is grounded in the Valley community and continues to inspire all who visit during the leaf-peeping season.
URL:https://mrvvillage.com/event/35th-annual-green-mountain-photo-show/
LOCATION:Mad River Valley Arts\, 5031 Main Street #2 Village Square\, Waitsfield\, 05673
CATEGORIES:Arts & Entertainment
ATTACH;FMTTYPE=image/jpeg:https://mrvvillage.com/wp-content/uploads/2025/07/7L6A9807-Enhanced-NR-10-scaled-dP50Hw.jpg
ORGANIZER;CN="Mad%20River%20Valley%20Arts":MAILTO:director@madrivervalleyarts.org
GEO:44.1926386;-72.7798479
X-APPLE-STRUCTURED-LOCATION;VALUE=URI;X-ADDRESS=Mad River Valley Arts 5031 Main Street #2 Village Square Waitsfield 05673;X-APPLE-RADIUS=500;X-TITLE=5031 Main Street #2 Village Square:geo:-72.7798479,44.1926386
END:VEVENT
BEGIN:VEVENT
DTSTART;TZID=America/New_York:20250907T140000
DTEND;TZID=America/New_York:20250907T180000
DTSTAMP:20260423T013958
CREATED:20250813T145619Z
LAST-MODIFIED:20250825T221003Z
UID:10008860-1757253600-1757268000@mrvvillage.com
SUMMARY:Fluid Impressions: Barrie Fisher and Susie Conrad
DESCRIPTION:The Planetary Art Institute at Camp Meade is delighted to present these meditations as a conversation between two creators and friends-Barrie Fisher and Susie Conrad\, in keeping with our mission to support creativity\, collaboration\, and community in central Vermont. \nMonday – Friday 10am to 4pm\nSunday – 2pm to 6pm\nSelect Saturdays
URL:https://mrvvillage.com/event/fluid-impressions-barrie-fisher-and-susie-conrad-22/
LOCATION:Planetary Art Institute\, 961 Route 2\, Middlesex\, Vermont\, 05602\, United States
CATEGORIES:Arts & Entertainment
ATTACH;FMTTYPE=image/jpeg:https://mrvvillage.com/wp-content/uploads/2025/08/Fluid-Impressions-poster-MiMut0.jpg
ORGANIZER;CN="Susie%20Conrad":MAILTO:susiekconrad@gmail.com
GEO:44.2412437;-72.5366148
X-APPLE-STRUCTURED-LOCATION;VALUE=URI;X-ADDRESS=Planetary Art Institute 961 Route 2 Middlesex Vermont 05602 United States;X-APPLE-RADIUS=500;X-TITLE=961 Route 2:geo:-72.5366148,44.2412437
END:VEVENT
BEGIN:VEVENT
DTSTART;TZID=America/New_York:20250907T140000
DTEND;TZID=America/New_York:20250928T160000
DTSTAMP:20260423T013958
CREATED:20250825T175504Z
LAST-MODIFIED:20250907T202320Z
UID:10008910-1757253600-1759075200@mrvvillage.com
SUMMARY:Made in the Mountains Art Show
DESCRIPTION:The Third Made in the Mountains Art Show features oils\, watercolors\, mosaics\, blown glass\, mixed media and photography created by artists in the from the Green Mountains including the Mad River Valley and White River Valley. \nMeet them at the Opening Reception on September 7!
URL:https://mrvvillage.com/event/made-in-the-mountains-art-show-5/
LOCATION:Corner School Resource Center of Granville Vermont\, 75 Post Office Hill 75 Post Office Hill\, Granville\, Vermont\, 05747\, United States
CATEGORIES:Arts & Entertainment
ATTACH;FMTTYPE=image/png:https://mrvvillage.com/wp-content/uploads/2025/08/MiM-Art-Show-Poster-2025-a6hEUB.png
ORGANIZER;CN="Corner%20School%20Resource%20Center":MAILTO:k8izwrite@gmail.com
GEO:43.9859901;-72.8465845
X-APPLE-STRUCTURED-LOCATION;VALUE=URI;X-ADDRESS=Corner School Resource Center of Granville Vermont 75 Post Office Hill 75 Post Office Hill Granville Vermont 05747 United States;X-APPLE-RADIUS=500;X-TITLE=75 Post Office Hill 75 Post Office Hill:geo:-72.8465845,43.9859901
END:VEVENT
BEGIN:VEVENT
DTSTART;TZID=America/New_York:20250907T160000
DTEND;TZID=America/New_York:20250907T173000
DTSTAMP:20260423T013958
CREATED:20250825T175506Z
LAST-MODIFIED:20250907T202320Z
UID:10008911-1757260800-1757266200@mrvvillage.com
SUMMARY:“Music and Poetry” Concert at First Congregational Church of Berlin
DESCRIPTION:On Sunday September 7 at 4 pm\, Christopher McWilliams and friends will present  “Music and Poetry” at First Congregational Church of Berlin (1808 Scott Hill Road\, Berlin VT 05602) where Christopher is Music Director. \nJoining Christopher for the concert are Denise Ricker (flute)\, Kailea Silvers (cello)\, Lotta Suter (violin)\, Arthur Zorn (baritone) and Stuart Williams (bass). The program celebrates summer and the coming change of seasons with music ranging from Yukie Smith’s “Scent of Summer” to “Fisherman’s Song” by Jean Sibelius. Other composers whose music is featured in the concert include Robert Schumann\, Isaac Albeniz\, Felix Mendelssohn and Franz Liszt. \nThe musicians will also present two pieces by Christopher McWilliams: “En Septembre” from his “Tableaux d’une exposition”\, and his two-movement “Trio for Flute\, Violin and Piano based on two poems by France Preseren”. Admission is free\, with donations to benefit Capstone Community Action. The concert will be followed by a reception in the FCCB Community Hall\, including the opportunity to view the new exhibition of photographs by Nancy Fowler and Nancie Austin-Bradley. \nFor more information\, see the FCCB website (fccbvt.org) or contact Rob Griffin at griffinsuter@hotmail.com
URL:https://mrvvillage.com/event/music-and-poetry-concert-at-first-congregational-church-of-berlin/
LOCATION:First Congregational Church Berlin\, 1808 Scott Hill Road\, Berlin\, Vermont\, 05602\, United States
CATEGORIES:Arts & Entertainment,Live Music
ATTACH;FMTTYPE=image/jpeg:https://mrvvillage.com/wp-content/uploads/2025/08/Poster-Septconcert-3Z5Qt2.jpg
ORGANIZER;CN="First%20Congregational%20Church%20Berlin":MAILTO:vermontartmusic@gmail.com
GEO:44.2080209;-72.5768656
X-APPLE-STRUCTURED-LOCATION;VALUE=URI;X-ADDRESS=First Congregational Church Berlin 1808 Scott Hill Road Berlin Vermont 05602 United States;X-APPLE-RADIUS=500;X-TITLE=1808 Scott Hill Road:geo:-72.5768656,44.2080209
END:VEVENT
END:VCALENDAR