BEGIN:VCALENDAR
VERSION:2.0
PRODID:-//The Mad River Valley Village - ECPv6.0.13//NONSGML v1.0//EN
CALSCALE:GREGORIAN
METHOD:PUBLISH
X-ORIGINAL-URL:https://mrvvillage.com
X-WR-CALDESC:Events for The Mad River Valley Village
REFRESH-INTERVAL;VALUE=DURATION:PT1H
X-Robots-Tag:noindex
X-PUBLISHED-TTL:PT1H
BEGIN:VTIMEZONE
TZID:America/New_York
BEGIN:DAYLIGHT
TZOFFSETFROM:-0500
TZOFFSETTO:-0400
TZNAME:EDT
DTSTART:20250309T070000
END:DAYLIGHT
BEGIN:STANDARD
TZOFFSETFROM:-0400
TZOFFSETTO:-0500
TZNAME:EST
DTSTART:20251102T060000
END:STANDARD
END:VTIMEZONE
BEGIN:VEVENT
DTSTART;TZID=America/New_York:20250821T080000
DTEND;TZID=America/New_York:20251031T170000
DTSTAMP:20260423T070041
CREATED:20250802T121030Z
LAST-MODIFIED:20250821T210825Z
UID:10008791-1755763200-1761930000@mrvvillage.com
SUMMARY:Stardust
DESCRIPTION:The Mad Collective is proud to share ‘Stardust’\, an exhibition about The Quantum World. \nThe Quantum World is one of uncertainty. One can’t really talk about where a quantum object is\, we can only talk about where we might find it. Yet\, our seemingly solid reality is built upon this tiny world of possibilities\, stuff has form\, the universe has form and we are solid. \nThis show looks at the behavior of photons\, particles and mysterious patterns of quantum phenomena. It inspires us to think about the magic of the quantum fundamental basis to reality and asks us to be curious about where the human species is going. Artists open up to their interpretation of the immaterial while engaging with the scales of the unimaginable tiny to the infinitely large.
URL:https://mrvvillage.com/event/stardust/
LOCATION:Mad River Valley Arts\, 5031 Main Street #2 Village Square\, Waitsfield\, 05673
CATEGORIES:Arts & Entertainment
ATTACH;FMTTYPE=image/jpeg:https://mrvvillage.com/wp-content/uploads/2025/08/Chart-9-copy-sajD0f.jpg
ORGANIZER;CN="Mad%20River%20Valley%20Arts":MAILTO:director@madrivervalleyarts.org
GEO:44.1926386;-72.7798479
X-APPLE-STRUCTURED-LOCATION;VALUE=URI;X-ADDRESS=Mad River Valley Arts 5031 Main Street #2 Village Square Waitsfield 05673;X-APPLE-RADIUS=500;X-TITLE=5031 Main Street #2 Village Square:geo:-72.7798479,44.1926386
END:VEVENT
BEGIN:VEVENT
DTSTART;TZID=America/New_York:20250907T130000
DTEND;TZID=America/New_York:20251012T203000
DTSTAMP:20260423T070041
CREATED:20250714T115740Z
LAST-MODIFIED:20250907T202319Z
UID:10008642-1757250000-1760301000@mrvvillage.com
SUMMARY:35th Annual Green Mountain Photo Show
DESCRIPTION:Photographs ranging from black and white to color and from realism to abstract are featured in this popular annual show. \nThe spacious galleries\, located in the historic Red Barn\, are the perfect venue for viewing the large format photographs and small intimate images that reflect the diverse contemporary practices of both amateur and professional photographers. The show is especially appealing to children who search out diverse subjects such as animals\, birds and flowers. Assorted subject matter and conceptual experimentation are continuing to enter the foreground of the Vermont vernacular to show the ever-evolving nature of photography with new technologies and formats along with technical manipulation. \nThis exhibition is grounded in the Valley community and continues to inspire all who visit during the leaf-peeping season.
URL:https://mrvvillage.com/event/35th-annual-green-mountain-photo-show/
LOCATION:Mad River Valley Arts\, 5031 Main Street #2 Village Square\, Waitsfield\, 05673
CATEGORIES:Arts & Entertainment
ATTACH;FMTTYPE=image/jpeg:https://mrvvillage.com/wp-content/uploads/2025/07/7L6A9807-Enhanced-NR-10-scaled-dP50Hw.jpg
ORGANIZER;CN="Mad%20River%20Valley%20Arts":MAILTO:director@madrivervalleyarts.org
GEO:44.1926386;-72.7798479
X-APPLE-STRUCTURED-LOCATION;VALUE=URI;X-ADDRESS=Mad River Valley Arts 5031 Main Street #2 Village Square Waitsfield 05673;X-APPLE-RADIUS=500;X-TITLE=5031 Main Street #2 Village Square:geo:-72.7798479,44.1926386
END:VEVENT
BEGIN:VEVENT
DTSTART;TZID=America/New_York:20250907T140000
DTEND;TZID=America/New_York:20250928T160000
DTSTAMP:20260423T070041
CREATED:20250825T175504Z
LAST-MODIFIED:20250907T202320Z
UID:10008910-1757253600-1759075200@mrvvillage.com
SUMMARY:Made in the Mountains Art Show
DESCRIPTION:The Third Made in the Mountains Art Show features oils\, watercolors\, mosaics\, blown glass\, mixed media and photography created by artists in the from the Green Mountains including the Mad River Valley and White River Valley. \nMeet them at the Opening Reception on September 7!
URL:https://mrvvillage.com/event/made-in-the-mountains-art-show-5/
LOCATION:Corner School Resource Center of Granville Vermont\, 75 Post Office Hill 75 Post Office Hill\, Granville\, Vermont\, 05747\, United States
CATEGORIES:Arts & Entertainment
ATTACH;FMTTYPE=image/png:https://mrvvillage.com/wp-content/uploads/2025/08/MiM-Art-Show-Poster-2025-a6hEUB.png
ORGANIZER;CN="Corner%20School%20Resource%20Center":MAILTO:k8izwrite@gmail.com
GEO:43.9859901;-72.8465845
X-APPLE-STRUCTURED-LOCATION;VALUE=URI;X-ADDRESS=Corner School Resource Center of Granville Vermont 75 Post Office Hill 75 Post Office Hill Granville Vermont 05747 United States;X-APPLE-RADIUS=500;X-TITLE=75 Post Office Hill 75 Post Office Hill:geo:-72.8465845,43.9859901
END:VEVENT
BEGIN:VEVENT
DTSTART;TZID=America/New_York:20250908T100000
DTEND;TZID=America/New_York:20250908T160000
DTSTAMP:20260423T070041
CREATED:20250813T145632Z
LAST-MODIFIED:20250825T221004Z
UID:10008861-1757325600-1757347200@mrvvillage.com
SUMMARY:Fluid Impressions: Barrie Fisher and Susie Conrad
DESCRIPTION:The Planetary Art Institute at Camp Meade is delighted to present these meditations as a conversation between two creators and friends-Barrie Fisher and Susie Conrad\, in keeping with our mission to support creativity\, collaboration\, and community in central Vermont. \nMonday – Friday 10am to 4pm\nSunday – 2pm to 6pm\nSelect Saturdays
URL:https://mrvvillage.com/event/fluid-impressions-barrie-fisher-and-susie-conrad-23/
LOCATION:Planetary Art Institute\, 961 Route 2\, Middlesex\, Vermont\, 05602\, United States
CATEGORIES:Arts & Entertainment
ATTACH;FMTTYPE=image/jpeg:https://mrvvillage.com/wp-content/uploads/2025/08/Fluid-Impressions-poster-MiMut0.jpg
ORGANIZER;CN="Susie%20Conrad":MAILTO:susiekconrad@gmail.com
GEO:44.2412437;-72.5366148
X-APPLE-STRUCTURED-LOCATION;VALUE=URI;X-ADDRESS=Planetary Art Institute 961 Route 2 Middlesex Vermont 05602 United States;X-APPLE-RADIUS=500;X-TITLE=961 Route 2:geo:-72.5366148,44.2412437
END:VEVENT
BEGIN:VEVENT
DTSTART;TZID=America/New_York:20250908T190000
DTEND;TZID=America/New_York:20250908T203000
DTSTAMP:20260423T070041
CREATED:20250907T010832Z
LAST-MODIFIED:20250908T203818Z
UID:10008957-1757358000-1757363400@mrvvillage.com
SUMMARY:PUPPY LOVE – Special Screening
DESCRIPTION:Director Gail Gilbert’s inspiring tale of special needs puppies touches audience’s hearts. \nWaitsfield\, VT – September 8th\, 2025 PUPPY LOVE tells a personal story with a universal message. “My puppy and his litter mates suddenly became paralyzed and the vet told us to put them down” explains writer-director Gail Gilbert. The documentary follows a literal “life and death” struggle as every from Chinese herbs to chicken soup to nurse the pups back to health. \n“PUPPY LOVE is more than a movie about dogs – it’s a story about power of the human spirit to conquer things seem unconquerable.” Said Gilbert.
URL:https://mrvvillage.com/event/puppy-love-special-screening/
LOCATION:Big Picture Theater\, 44 Carroll Road\, Waitsfield\, 05673
CATEGORIES:Arts & Entertainment
ATTACH;FMTTYPE=image/png:https://mrvvillage.com/wp-content/uploads/2025/09/Puppy-Love-Small-yu8m3f.png
ORGANIZER;CN="Big%20Picture%20Theater":MAILTO:beths@madriver.com
GEO:44.1874779;-72.8335286
X-APPLE-STRUCTURED-LOCATION;VALUE=URI;X-ADDRESS=Big Picture Theater 44 Carroll Road Waitsfield 05673;X-APPLE-RADIUS=500;X-TITLE=44 Carroll Road:geo:-72.8335286,44.1874779
END:VEVENT
BEGIN:VEVENT
DTSTART;TZID=America/New_York:20250909T100000
DTEND;TZID=America/New_York:20250909T160000
DTSTAMP:20260423T070041
CREATED:20250813T145632Z
LAST-MODIFIED:20250825T221016Z
UID:10008862-1757412000-1757433600@mrvvillage.com
SUMMARY:Fluid Impressions: Barrie Fisher and Susie Conrad
DESCRIPTION:The Planetary Art Institute at Camp Meade is delighted to present these meditations as a conversation between two creators and friends-Barrie Fisher and Susie Conrad\, in keeping with our mission to support creativity\, collaboration\, and community in central Vermont. \nMonday – Friday 10am to 4pm\nSunday – 2pm to 6pm\nSelect Saturdays
URL:https://mrvvillage.com/event/fluid-impressions-barrie-fisher-and-susie-conrad-24/
LOCATION:Planetary Art Institute\, 961 Route 2\, Middlesex\, Vermont\, 05602\, United States
CATEGORIES:Arts & Entertainment
ATTACH;FMTTYPE=image/jpeg:https://mrvvillage.com/wp-content/uploads/2025/08/Fluid-Impressions-poster-MiMut0.jpg
ORGANIZER;CN="Susie%20Conrad":MAILTO:susiekconrad@gmail.com
GEO:44.2412437;-72.5366148
X-APPLE-STRUCTURED-LOCATION;VALUE=URI;X-ADDRESS=Planetary Art Institute 961 Route 2 Middlesex Vermont 05602 United States;X-APPLE-RADIUS=500;X-TITLE=961 Route 2:geo:-72.5366148,44.2412437
END:VEVENT
BEGIN:VEVENT
DTSTART;TZID=America/New_York:20250910T100000
DTEND;TZID=America/New_York:20250910T160000
DTSTAMP:20260423T070041
CREATED:20250813T145645Z
LAST-MODIFIED:20250825T221016Z
UID:10008863-1757498400-1757520000@mrvvillage.com
SUMMARY:Fluid Impressions: Barrie Fisher and Susie Conrad
DESCRIPTION:The Planetary Art Institute at Camp Meade is delighted to present these meditations as a conversation between two creators and friends-Barrie Fisher and Susie Conrad\, in keeping with our mission to support creativity\, collaboration\, and community in central Vermont. \nMonday – Friday 10am to 4pm\nSunday – 2pm to 6pm\nSelect Saturdays
URL:https://mrvvillage.com/event/fluid-impressions-barrie-fisher-and-susie-conrad-25/
LOCATION:Planetary Art Institute\, 961 Route 2\, Middlesex\, Vermont\, 05602\, United States
CATEGORIES:Arts & Entertainment
ATTACH;FMTTYPE=image/jpeg:https://mrvvillage.com/wp-content/uploads/2025/08/Fluid-Impressions-poster-MiMut0.jpg
ORGANIZER;CN="Susie%20Conrad":MAILTO:susiekconrad@gmail.com
GEO:44.2412437;-72.5366148
X-APPLE-STRUCTURED-LOCATION;VALUE=URI;X-ADDRESS=Planetary Art Institute 961 Route 2 Middlesex Vermont 05602 United States;X-APPLE-RADIUS=500;X-TITLE=961 Route 2:geo:-72.5366148,44.2412437
END:VEVENT
BEGIN:VEVENT
DTSTART;TZID=America/New_York:20250911T100000
DTEND;TZID=America/New_York:20250911T160000
DTSTAMP:20260423T070041
CREATED:20250813T145647Z
LAST-MODIFIED:20250825T221030Z
UID:10008865-1757584800-1757606400@mrvvillage.com
SUMMARY:Fluid Impressions: Barrie Fisher and Susie Conrad
DESCRIPTION:The Planetary Art Institute at Camp Meade is delighted to present these meditations as a conversation between two creators and friends-Barrie Fisher and Susie Conrad\, in keeping with our mission to support creativity\, collaboration\, and community in central Vermont. \nMonday – Friday 10am to 4pm\nSunday – 2pm to 6pm\nSelect Saturdays
URL:https://mrvvillage.com/event/fluid-impressions-barrie-fisher-and-susie-conrad-26/
LOCATION:Planetary Art Institute\, 961 Route 2\, Middlesex\, Vermont\, 05602\, United States
CATEGORIES:Arts & Entertainment
ATTACH;FMTTYPE=image/jpeg:https://mrvvillage.com/wp-content/uploads/2025/08/Fluid-Impressions-poster-MiMut0.jpg
ORGANIZER;CN="Susie%20Conrad":MAILTO:susiekconrad@gmail.com
GEO:44.2412437;-72.5366148
X-APPLE-STRUCTURED-LOCATION;VALUE=URI;X-ADDRESS=Planetary Art Institute 961 Route 2 Middlesex Vermont 05602 United States;X-APPLE-RADIUS=500;X-TITLE=961 Route 2:geo:-72.5366148,44.2412437
END:VEVENT
BEGIN:VEVENT
DTSTART;TZID=America/New_York:20250912T100000
DTEND;TZID=America/New_York:20250912T110000
DTSTAMP:20260423T070041
CREATED:20250718T204320Z
LAST-MODIFIED:20250912T210821Z
UID:10008696-1757671200-1757674800@mrvvillage.com
SUMMARY:Fall Toddler Time Art Class at Inklings!
DESCRIPTION:It’s Fall Toddler Time Art Class at Inklings Children’s Books! Friday mornings from 10am – 11am. \nCaregivers and their little ones are invited to explore the colors & shapes of the season\, and develop those fine motor skills; all while having some creative fun! \nActivities will include painting on torn newspaper\, craft pumpkins\, and colorful watercolor felt leaves. \nSIGN UP using the EVENT LINK\nBegins Friday\, Sept. 5th and goes for 6 weeks.\nAges: 18mo – 4yrs\nPrice: $85 (all six classes) Drop-in Price: $15/per class
URL:https://mrvvillage.com/event/fall-toddler-time-art-class-at-inklings-2/
LOCATION:Inklings Children’s Books\, 106 Mad River Greeen\, Waitsfield\, VT\, 05673\, United States
CATEGORIES:Arts & Entertainment
ATTACH;FMTTYPE=image/jpeg:https://mrvvillage.com/wp-content/uploads/2025/07/Fall-2025-Toddler-Art-Flyer-MRV-OQzeHO.jpg
ORGANIZER;CN="Inklings%20Children%26%238217%3Bs%20Books":MAILTO:inklingschildrensbooks@gmail.com
GEO:44.1844899;-72.839037
X-APPLE-STRUCTURED-LOCATION;VALUE=URI;X-ADDRESS=Inklings Children’s Books 106 Mad River Greeen Waitsfield VT 05673 United States;X-APPLE-RADIUS=500;X-TITLE=106 Mad River Greeen:geo:-72.839037,44.1844899
END:VEVENT
BEGIN:VEVENT
DTSTART;TZID=America/New_York:20250912T100000
DTEND;TZID=America/New_York:20250912T160000
DTSTAMP:20260423T070041
CREATED:20250813T145647Z
LAST-MODIFIED:20250825T221030Z
UID:10008867-1757671200-1757692800@mrvvillage.com
SUMMARY:Fluid Impressions: Barrie Fisher and Susie Conrad
DESCRIPTION:The Planetary Art Institute at Camp Meade is delighted to present these meditations as a conversation between two creators and friends-Barrie Fisher and Susie Conrad\, in keeping with our mission to support creativity\, collaboration\, and community in central Vermont. \nMonday – Friday 10am to 4pm\nSunday – 2pm to 6pm\nSelect Saturdays
URL:https://mrvvillage.com/event/fluid-impressions-barrie-fisher-and-susie-conrad-27/
LOCATION:Planetary Art Institute\, 961 Route 2\, Middlesex\, Vermont\, 05602\, United States
CATEGORIES:Arts & Entertainment
ATTACH;FMTTYPE=image/jpeg:https://mrvvillage.com/wp-content/uploads/2025/08/Fluid-Impressions-poster-MiMut0.jpg
ORGANIZER;CN="Susie%20Conrad":MAILTO:susiekconrad@gmail.com
GEO:44.2412437;-72.5366148
X-APPLE-STRUCTURED-LOCATION;VALUE=URI;X-ADDRESS=Planetary Art Institute 961 Route 2 Middlesex Vermont 05602 United States;X-APPLE-RADIUS=500;X-TITLE=961 Route 2:geo:-72.5366148,44.2412437
END:VEVENT
BEGIN:VEVENT
DTSTART;TZID=America/New_York:20250914T150000
DTEND;TZID=America/New_York:20250914T160000
DTSTAMP:20260423T070041
CREATED:20250907T010916Z
LAST-MODIFIED:20250912T210839Z
UID:10008959-1757862000-1757865600@mrvvillage.com
SUMMARY:Bread and Puppet presents: Autumn Screams and Possibilitarian Hallelujahs of the Servants of the Abyss
DESCRIPTION:September 14th\, 21st and 28th at 3 p.m. \nJoin us in the Paper Maché Cathedral for a brand new\, urgently-needed puppet show. Keeping the work up-to-the-minute\, the show will evolve over the course of the month. \nIn Peter Schumann’s words: “We the involuntary servants of the abyss\, both: the wounded universe abyss and the abysmal empire abyss\, are charged with the possibilitarian task of revolutionizing the human abyss – not to allow the empire’s rotten apples to spoil the Autumn’s applesauce\, because of the invincible because! Because we children of mother dirt need to be nourished by real applesauce while spreading poppy flag wisdom throughout the hills and valleys of the here\, not succumbing to empire normality. All our banners say Yes and kick the arse of the No and can’t be stopped from marching even when thunder and lightning threaten the day. Whether the weather is good or whether the weather is bad\, whatever the weather we’ll weather the weather\, whether we like it or not.” \nTickets: $15\, no one turned away for lack of funds.\n*Capacity is limited at our indoor shows*\nhttps://breadandpuppet.org/product/september-show-9-14-25 \nDogs are not permitted at our indoor performances.
URL:https://mrvvillage.com/event/bread-and-puppet-presents-autumn-screams-and-possibilitarian-hallelujahs-of-the-servants-of-the-abyss/
LOCATION:Bread and Puppet Theater\, 753 Heights Rd\, Montreal\, Vermont\, Glover\, United States
CATEGORIES:Arts & Entertainment
ATTACH;FMTTYPE=image/jpeg:https://mrvvillage.com/wp-content/uploads/2025/09/PHOTO-2025-09-03-21-29-49-305HDk.jpg
ORGANIZER;CN="Bread%20and%20Puppet":MAILTO:breadandpuppetreservations@gmail.com
GEO:44.7069038;-72.1869766
X-APPLE-STRUCTURED-LOCATION;VALUE=URI;X-ADDRESS=Bread and Puppet Theater 753 Heights Rd Montreal Vermont Glover United States;X-APPLE-RADIUS=500;X-TITLE=753 Heights Rd:geo:-72.1869766,44.7069038
END:VEVENT
END:VCALENDAR