BEGIN:VCALENDAR
VERSION:2.0
PRODID:-//The Mad River Valley Village - ECPv6.0.13//NONSGML v1.0//EN
CALSCALE:GREGORIAN
METHOD:PUBLISH
X-ORIGINAL-URL:https://mrvvillage.com
X-WR-CALDESC:Events for The Mad River Valley Village
REFRESH-INTERVAL;VALUE=DURATION:PT1H
X-Robots-Tag:noindex
X-PUBLISHED-TTL:PT1H
BEGIN:VTIMEZONE
TZID:America/New_York
BEGIN:DAYLIGHT
TZOFFSETFROM:-0500
TZOFFSETTO:-0400
TZNAME:EDT
DTSTART:20250309T070000
END:DAYLIGHT
BEGIN:STANDARD
TZOFFSETFROM:-0400
TZOFFSETTO:-0500
TZNAME:EST
DTSTART:20251102T060000
END:STANDARD
END:VTIMEZONE
BEGIN:VEVENT
DTSTART;TZID=America/New_York:20250821T080000
DTEND;TZID=America/New_York:20251031T170000
DTSTAMP:20260422T212331
CREATED:20250802T121030Z
LAST-MODIFIED:20250821T210825Z
UID:10008791-1755763200-1761930000@mrvvillage.com
SUMMARY:Stardust
DESCRIPTION:The Mad Collective is proud to share ‘Stardust’\, an exhibition about The Quantum World. \nThe Quantum World is one of uncertainty. One can’t really talk about where a quantum object is\, we can only talk about where we might find it. Yet\, our seemingly solid reality is built upon this tiny world of possibilities\, stuff has form\, the universe has form and we are solid. \nThis show looks at the behavior of photons\, particles and mysterious patterns of quantum phenomena. It inspires us to think about the magic of the quantum fundamental basis to reality and asks us to be curious about where the human species is going. Artists open up to their interpretation of the immaterial while engaging with the scales of the unimaginable tiny to the infinitely large.
URL:https://mrvvillage.com/event/stardust/
LOCATION:Mad River Valley Arts\, 5031 Main Street #2 Village Square\, Waitsfield\, 05673
CATEGORIES:Arts & Entertainment
ATTACH;FMTTYPE=image/jpeg:https://mrvvillage.com/wp-content/uploads/2025/08/Chart-9-copy-sajD0f.jpg
ORGANIZER;CN="Mad%20River%20Valley%20Arts":MAILTO:director@madrivervalleyarts.org
GEO:44.1926386;-72.7798479
X-APPLE-STRUCTURED-LOCATION;VALUE=URI;X-ADDRESS=Mad River Valley Arts 5031 Main Street #2 Village Square Waitsfield 05673;X-APPLE-RADIUS=500;X-TITLE=5031 Main Street #2 Village Square:geo:-72.7798479,44.1926386
END:VEVENT
BEGIN:VEVENT
DTSTART;TZID=America/New_York:20250907T130000
DTEND;TZID=America/New_York:20251012T203000
DTSTAMP:20260422T212331
CREATED:20250714T115740Z
LAST-MODIFIED:20250907T202319Z
UID:10008642-1757250000-1760301000@mrvvillage.com
SUMMARY:35th Annual Green Mountain Photo Show
DESCRIPTION:Photographs ranging from black and white to color and from realism to abstract are featured in this popular annual show. \nThe spacious galleries\, located in the historic Red Barn\, are the perfect venue for viewing the large format photographs and small intimate images that reflect the diverse contemporary practices of both amateur and professional photographers. The show is especially appealing to children who search out diverse subjects such as animals\, birds and flowers. Assorted subject matter and conceptual experimentation are continuing to enter the foreground of the Vermont vernacular to show the ever-evolving nature of photography with new technologies and formats along with technical manipulation. \nThis exhibition is grounded in the Valley community and continues to inspire all who visit during the leaf-peeping season.
URL:https://mrvvillage.com/event/35th-annual-green-mountain-photo-show/
LOCATION:Mad River Valley Arts\, 5031 Main Street #2 Village Square\, Waitsfield\, 05673
CATEGORIES:Arts & Entertainment
ATTACH;FMTTYPE=image/jpeg:https://mrvvillage.com/wp-content/uploads/2025/07/7L6A9807-Enhanced-NR-10-scaled-dP50Hw.jpg
ORGANIZER;CN="Mad%20River%20Valley%20Arts":MAILTO:director@madrivervalleyarts.org
GEO:44.1926386;-72.7798479
X-APPLE-STRUCTURED-LOCATION;VALUE=URI;X-ADDRESS=Mad River Valley Arts 5031 Main Street #2 Village Square Waitsfield 05673;X-APPLE-RADIUS=500;X-TITLE=5031 Main Street #2 Village Square:geo:-72.7798479,44.1926386
END:VEVENT
BEGIN:VEVENT
DTSTART;TZID=America/New_York:20251002T193000
DTEND;TZID=America/New_York:20251002T213000
DTSTAMP:20260422T212331
CREATED:20250907T011041Z
LAST-MODIFIED:20251002T120824Z
UID:10008965-1759433400-1759440600@mrvvillage.com
SUMMARY:Next to Normal
DESCRIPTION:Next to Normal – the musical\, by Brian Yorkey and Tom Kitt; Winner: Pulitzer Prize for Drama & multiple Tony Awards! October 2 – 19!\nA soaring Rock Musical as exhilarating as it is haunting. The story centers on a mother’s struggle with worsening bipolar disorder and the aftershocks her illness has on the entire family\, as they all search for ‘normalcy’. An emotional powerhouse. Directed by Joanne Greenberg and Featuring Kathleen Keenan\, Tommy Bergeron and guest artists from across the country. \nCovid Safety Protocols: Masks are encouraged\, but not required. (LNT’s State of the Art Bio-Defense Air Purification “Synexis” System is also in service 24/7 keeping everyone as safe as possible.) \nDue to mature material\, this musical is recommended for teens through adults. \nThe Flood made LNT/City Hall’s elevator inoperable\, requiring climbing stairs to attend in person. The play will be available digitally to make the show accessible to those unable to physically join us. We appreciate your understanding during this emergency situation. Since we cannot provide wheelchair/walker access\, please call us (802-229-0492) or email info@lostnationtheater.org to discuss alternative options for seeing the show. \nSPONSORS: The City of Montpelier\, Vermont Mutual Insurance\, Random Acts of Kindness Fund\, National Life Group\, Eternity\, The Point!-FM\, The Estate of Ted Richards\, The Mary Shriver Fund of the Alan Weiss Estate \nABOUT LNT: Lost Nation Theater winner “Theater of the Decade” – Broadway World (2020); “Best of New England”\, Yankee Magazine\, was named “One of the Best regional theaters in America” by the New York Drama League\, “Outstanding Achievement Award” from the New England Theatre Conference; and has won the People’s Choice awards from both Seven Days and The Times Argus for Best Theater.
URL:https://mrvvillage.com/event/next-to-normal/
LOCATION:Lost Nation Theater\, 39 Main Street\, Montpelier\, 05602
CATEGORIES:Arts & Entertainment
ATTACH;FMTTYPE=image/jpeg:https://mrvvillage.com/wp-content/uploads/2025/09/NEXT-TO-NORMAL-actor-HIGHLIGHT-R5rIzA.jpg
ORGANIZER;CN="Lost%20Nation%20Theater":MAILTO:boxoffice@lostnationtheater.org
GEO:44.2591817;-72.5755222
X-APPLE-STRUCTURED-LOCATION;VALUE=URI;X-ADDRESS=Lost Nation Theater 39 Main Street Montpelier 05602;X-APPLE-RADIUS=500;X-TITLE=39 Main Street:geo:-72.5755222,44.2591817
END:VEVENT
BEGIN:VEVENT
DTSTART;TZID=America/New_York:20251003T100000
DTEND;TZID=America/New_York:20251003T110000
DTSTAMP:20260422T212331
CREATED:20250718T204400Z
LAST-MODIFIED:20251003T120822Z
UID:10008699-1759485600-1759489200@mrvvillage.com
SUMMARY:Fall Toddler Time Art Class at Inklings!
DESCRIPTION:It’s Fall Toddler Time Art Class at Inklings Children’s Books! Friday mornings from 10am – 11am. \nCaregivers and their little ones are invited to explore the colors & shapes of the season\, and develop those fine motor skills; all while having some creative fun! \nActivities will include painting on torn newspaper\, craft pumpkins\, and colorful watercolor felt leaves. \nSIGN UP using the EVENT LINK\nBegins Friday\, Sept. 5th and goes for 6 weeks.\nAges: 18mo – 4yrs\nPrice: $85 (all six classes) Drop-in Price: $15/per class
URL:https://mrvvillage.com/event/fall-toddler-time-art-class-at-inklings-5/
LOCATION:Inklings Children’s Books\, 106 Mad River Greeen\, Waitsfield\, VT\, 05673\, United States
CATEGORIES:Arts & Entertainment
ATTACH;FMTTYPE=image/jpeg:https://mrvvillage.com/wp-content/uploads/2025/07/Fall-2025-Toddler-Art-Flyer-MRV-OQzeHO.jpg
ORGANIZER;CN="Inklings%20Children%26%238217%3Bs%20Books":MAILTO:inklingschildrensbooks@gmail.com
GEO:44.1844899;-72.839037
X-APPLE-STRUCTURED-LOCATION;VALUE=URI;X-ADDRESS=Inklings Children’s Books 106 Mad River Greeen Waitsfield VT 05673 United States;X-APPLE-RADIUS=500;X-TITLE=106 Mad River Greeen:geo:-72.839037,44.1844899
END:VEVENT
BEGIN:VEVENT
DTSTART;TZID=America/New_York:20251004T100000
DTEND;TZID=America/New_York:20251004T140000
DTSTAMP:20260422T212331
CREATED:20250726T145834Z
LAST-MODIFIED:20251004T122324Z
UID:10008735-1759572000-1759586400@mrvvillage.com
SUMMARY:Mountain Girl Studio at Addison West Maker’s Market
DESCRIPTION:Artist Zarabeth Duell of MTN GRL Studio with her layered landscapes and delicate watercolors that capture the essence of the Green Mountains.
URL:https://mrvvillage.com/event/mountain-girl-studio-at-addison-west-makers-market-2/
LOCATION:Addison West\, 5275 Main Street\, Waitsfield\, VT\, 05673\, United States
CATEGORIES:Arts & Entertainment
ATTACH;FMTTYPE=image/png:https://mrvvillage.com/wp-content/uploads/2025/07/24-CHHgWb.png
ORGANIZER;CN="Addison%20West":MAILTO:info@theaddisonwest.com
GEO:44.1926386;-72.7798479
X-APPLE-STRUCTURED-LOCATION;VALUE=URI;X-ADDRESS=Addison West 5275 Main Street Waitsfield VT 05673 United States;X-APPLE-RADIUS=500;X-TITLE=5275 Main Street:geo:-72.7798479,44.1926386
END:VEVENT
BEGIN:VEVENT
DTSTART;TZID=America/New_York:20251005T110000
DTEND;TZID=America/New_York:20251005T120000
DTSTAMP:20260422T212331
CREATED:20250907T011107Z
LAST-MODIFIED:20251005T123824Z
UID:10008966-1759662000-1759665600@mrvvillage.com
SUMMARY:Author Melissa Perley Visits Inklings Children’s Books!
DESCRIPTION:Join us Sunday\, October 5th at 11am as Inklings welcomes author Melissa Perley for a reading of her book\, THE VIOLIN FAMILY PLAYS NEW MUSIC. \nThis delightful book is an important reminder to readers of the power of music to bring people together\, following a friendship that harmonizes instruments from different families. \nMelissa Perley – an award-winning children’s book author\, professional cellist\, and sheep farmer in Vermont – will play her cello\, accompanied by clarinet player Tom Frink! This will be a truly special event. \nFollowing the reading\, there will be a craft!
URL:https://mrvvillage.com/event/author-melissa-perley-visits-inklings-childrens-books/
LOCATION:Inklings Children’s Books\, 106 Mad River Greeen\, Waitsfield\, VT\, 05673\, United States
CATEGORIES:Arts & Entertainment,Family Friendly
ATTACH;FMTTYPE=image/jpeg:https://mrvvillage.com/wp-content/uploads/2025/09/MelissaPerleyVisit-MRV-7fQa7L.jpg
ORGANIZER;CN="Inklings%20Children%26%238217%3Bs%20Books":MAILTO:inklingschildrensbooks@gmail.com
GEO:44.1844899;-72.839037
X-APPLE-STRUCTURED-LOCATION;VALUE=URI;X-ADDRESS=Inklings Children’s Books 106 Mad River Greeen Waitsfield VT 05673 United States;X-APPLE-RADIUS=500;X-TITLE=106 Mad River Greeen:geo:-72.839037,44.1844899
END:VEVENT
BEGIN:VEVENT
DTSTART;TZID=America/New_York:20251005T110000
DTEND;TZID=America/New_York:20251005T170000
DTSTAMP:20260422T212331
CREATED:20251002T040847Z
LAST-MODIFIED:20251005T123824Z
UID:10009056-1759662000-1759683600@mrvvillage.com
SUMMARY:Fall Family Festival
DESCRIPTION:Join us for our Second Annual Fall Family Festival and Community Art Show! \n10-12 = Adult/Teen Art Workshop: Chimeras\, Cryptids\, and Creativity ($40 – register on our website campmeade.today) \n10-5 = Indoor Community Art Show and Outdoor Bread + Puppet Exhibit \n11-2 = Face painting by ONE Arts \n12-5 = Food (Woodbelly Pizza) available (+ Red Hen 11-3) \n2-4 = Bonfire\, Cider & S’mores \nOur shared experiences of making\, working and playing create connections that bridge our differences\, so the Planetary Art Institute offers opportunities for neighbors\, friends\, and families to experience delight\, surprise\, and togetherness through creativity and collaboration.
URL:https://mrvvillage.com/event/fall-family-festival/
LOCATION:Camp Meade\, 961 ROUTE 2\, middlesex\, 05602
CATEGORIES:Arts & Entertainment,Food & Drink
ATTACH;FMTTYPE=image/png:https://mrvvillage.com/wp-content/uploads/2025/10/FFF-IG-Blue-LJuZyH.png
ORGANIZER;CN="Camp%20Meade":MAILTO:info@campmeade.today
GEO:44.2412437;-72.5366148
X-APPLE-STRUCTURED-LOCATION;VALUE=URI;X-ADDRESS=Camp Meade 961 ROUTE 2 middlesex 05602;X-APPLE-RADIUS=500;X-TITLE=961 ROUTE 2:geo:-72.5366148,44.2412437
END:VEVENT
END:VCALENDAR