BEGIN:VCALENDAR
VERSION:2.0
PRODID:-//The Mad River Valley Village - ECPv6.0.13//NONSGML v1.0//EN
CALSCALE:GREGORIAN
METHOD:PUBLISH
X-ORIGINAL-URL:https://mrvvillage.com
X-WR-CALDESC:Events for The Mad River Valley Village
REFRESH-INTERVAL;VALUE=DURATION:PT1H
X-Robots-Tag:noindex
X-PUBLISHED-TTL:PT1H
BEGIN:VTIMEZONE
TZID:America/New_York
BEGIN:DAYLIGHT
TZOFFSETFROM:-0500
TZOFFSETTO:-0400
TZNAME:EDT
DTSTART:20250309T070000
END:DAYLIGHT
BEGIN:STANDARD
TZOFFSETFROM:-0400
TZOFFSETTO:-0500
TZNAME:EST
DTSTART:20251102T060000
END:STANDARD
END:VTIMEZONE
BEGIN:VEVENT
DTSTART;TZID=America/New_York:20250821T080000
DTEND;TZID=America/New_York:20251031T170000
DTSTAMP:20260423T075212
CREATED:20250802T121030Z
LAST-MODIFIED:20250821T210825Z
UID:10008791-1755763200-1761930000@mrvvillage.com
SUMMARY:Stardust
DESCRIPTION:The Mad Collective is proud to share ‘Stardust’\, an exhibition about The Quantum World. \nThe Quantum World is one of uncertainty. One can’t really talk about where a quantum object is\, we can only talk about where we might find it. Yet\, our seemingly solid reality is built upon this tiny world of possibilities\, stuff has form\, the universe has form and we are solid. \nThis show looks at the behavior of photons\, particles and mysterious patterns of quantum phenomena. It inspires us to think about the magic of the quantum fundamental basis to reality and asks us to be curious about where the human species is going. Artists open up to their interpretation of the immaterial while engaging with the scales of the unimaginable tiny to the infinitely large.
URL:https://mrvvillage.com/event/stardust/
LOCATION:Mad River Valley Arts\, 5031 Main Street #2 Village Square\, Waitsfield\, 05673
CATEGORIES:Arts & Entertainment
ATTACH;FMTTYPE=image/jpeg:https://mrvvillage.com/wp-content/uploads/2025/08/Chart-9-copy-sajD0f.jpg
ORGANIZER;CN="Mad%20River%20Valley%20Arts":MAILTO:director@madrivervalleyarts.org
GEO:44.1926386;-72.7798479
X-APPLE-STRUCTURED-LOCATION;VALUE=URI;X-ADDRESS=Mad River Valley Arts 5031 Main Street #2 Village Square Waitsfield 05673;X-APPLE-RADIUS=500;X-TITLE=5031 Main Street #2 Village Square:geo:-72.7798479,44.1926386
END:VEVENT
BEGIN:VEVENT
DTSTART;TZID=America/New_York:20250907T130000
DTEND;TZID=America/New_York:20251012T203000
DTSTAMP:20260423T075212
CREATED:20250714T115740Z
LAST-MODIFIED:20250907T202319Z
UID:10008642-1757250000-1760301000@mrvvillage.com
SUMMARY:35th Annual Green Mountain Photo Show
DESCRIPTION:Photographs ranging from black and white to color and from realism to abstract are featured in this popular annual show. \nThe spacious galleries\, located in the historic Red Barn\, are the perfect venue for viewing the large format photographs and small intimate images that reflect the diverse contemporary practices of both amateur and professional photographers. The show is especially appealing to children who search out diverse subjects such as animals\, birds and flowers. Assorted subject matter and conceptual experimentation are continuing to enter the foreground of the Vermont vernacular to show the ever-evolving nature of photography with new technologies and formats along with technical manipulation. \nThis exhibition is grounded in the Valley community and continues to inspire all who visit during the leaf-peeping season.
URL:https://mrvvillage.com/event/35th-annual-green-mountain-photo-show/
LOCATION:Mad River Valley Arts\, 5031 Main Street #2 Village Square\, Waitsfield\, 05673
CATEGORIES:Arts & Entertainment
ATTACH;FMTTYPE=image/jpeg:https://mrvvillage.com/wp-content/uploads/2025/07/7L6A9807-Enhanced-NR-10-scaled-dP50Hw.jpg
ORGANIZER;CN="Mad%20River%20Valley%20Arts":MAILTO:director@madrivervalleyarts.org
GEO:44.1926386;-72.7798479
X-APPLE-STRUCTURED-LOCATION;VALUE=URI;X-ADDRESS=Mad River Valley Arts 5031 Main Street #2 Village Square Waitsfield 05673;X-APPLE-RADIUS=500;X-TITLE=5031 Main Street #2 Village Square:geo:-72.7798479,44.1926386
END:VEVENT
BEGIN:VEVENT
DTSTART;TZID=America/New_York:20251006T180000
DTEND;TZID=America/New_York:20251006T190000
DTSTAMP:20260423T075212
CREATED:20250708T103008Z
LAST-MODIFIED:20251006T125318Z
UID:10008600-1759773600-1759777200@mrvvillage.com
SUMMARY:Authors Grace Lin and Debbi Michiko Florence Visit Inklings!
DESCRIPTION:We are so excited to share that authors Grace Lin and Debbi Michiko Florence will be making a special stop at Inklings as part of their Very Asian Book Trip! \nJoin us on October 6th for a chance to talk with them about their brand new books. \nPre-Order your copies of THE GATE\, THE GIRL\, AND THE DRAGON and LAST CHANCE ACADEMY now\, using the event LINK. \n***Space is limited. Please RSVP at inklingschildrensbooks@gmail for a chance to be part of this incredible evening!!
URL:https://mrvvillage.com/event/authors-grace-lin-and-debbi-michiko-florence-visit-inklings/
LOCATION:Inklings Children’s Books\, 106 Mad River Greeen\, Waitsfield\, VT\, 05673\, United States
CATEGORIES:Arts & Entertainment,Family Friendly
ATTACH;FMTTYPE=image/jpeg:https://mrvvillage.com/wp-content/uploads/2025/07/LinFlorenceVisitFlyer-MRV-2Hzz1t.jpg
ORGANIZER;CN="Inklings%20Children%26%238217%3Bs%20Books":MAILTO:inklingschildrensbooks@gmail.com
GEO:44.1844899;-72.839037
X-APPLE-STRUCTURED-LOCATION;VALUE=URI;X-ADDRESS=Inklings Children’s Books 106 Mad River Greeen Waitsfield VT 05673 United States;X-APPLE-RADIUS=500;X-TITLE=106 Mad River Greeen:geo:-72.839037,44.1844899
END:VEVENT
BEGIN:VEVENT
DTSTART;TZID=America/New_York:20251008T170000
DTEND;TZID=America/New_York:20251008T183000
DTSTAMP:20260423T075212
CREATED:20250921T022457Z
LAST-MODIFIED:20251008T132324Z
UID:10009029-1759942800-1759948200@mrvvillage.com
SUMMARY:Inn to Indie Book Tour
DESCRIPTION:Julie Frieder and friends are cycling through Maine and Vermont\, stopping at indie bookstores to share stories about epic family adventure. \n​After spending 13 months on the road with her family\, Julie wrote “Wonder Year: A Guide to Long-Term Family Travel”—a book born from the real experience of figuring out how to pull up stakes and hit the road for longer than a vacation.\n​\n“Wildly inspiring and eminently practical\,” says Florence Williams\, author of The Nature Fix. \nJulie\, a first time indie-author\, will share what she learned about planning and executing adventures\, finding education on the road\, and discovering that family travel doesn’t have to be perfect to be transformative. Whether you’re curious about worldschooling\, dreaming of a summer road trip\, or just wondering how families make it all work\, come join in a wondrous conversation about curiosity\, connection\, and the educational power of travel. \n​
URL:https://mrvvillage.com/event/inn-to-indie-book-tour/
LOCATION:Warren Public Library\, 413 Main Street\, Warren\, 05674
CATEGORIES:Arts & Entertainment
ATTACH;FMTTYPE=image/jpeg:https://mrvvillage.com/wp-content/uploads/2025/09/2025-Inn-to-Indie-WJ98rI.jpg
ORGANIZER;CN="Warren%20Public%20Library":MAILTO:director@warrenlibrary.com
GEO:44.118347;-72.8576681
X-APPLE-STRUCTURED-LOCATION;VALUE=URI;X-ADDRESS=Warren Public Library 413 Main Street Warren 05674;X-APPLE-RADIUS=500;X-TITLE=413 Main Street:geo:-72.8576681,44.118347
END:VEVENT
BEGIN:VEVENT
DTSTART;TZID=America/New_York:20251009T180000
DTEND;TZID=America/New_York:20251009T190000
DTSTAMP:20260423T075212
CREATED:20250921T022511Z
LAST-MODIFIED:20251009T133820Z
UID:10009030-1760032800-1760036400@mrvvillage.com
SUMMARY:Book Discussion
DESCRIPTION:Discussion of Shirley Jackson’s classic gothic novel The Haunting of Hill House. \nFirst published in 1959\, this eerie haunted house tale has inspired multiple films and a Netflix series. \nCopies of the book are available at the library; register at warrenlibrary.com. \n​
URL:https://mrvvillage.com/event/book-discussion-4/
LOCATION:Warren Public Library\, 413 Main Street\, Warren\, 05674
CATEGORIES:Arts & Entertainment
ATTACH;FMTTYPE=image/jpeg:https://mrvvillage.com/wp-content/uploads/2025/09/October-2025-book-discussion-0wlc8V.jpg
ORGANIZER;CN="Warren%20Public%20Library":MAILTO:director@warrenlibrary.com
GEO:44.118347;-72.8576681
X-APPLE-STRUCTURED-LOCATION;VALUE=URI;X-ADDRESS=Warren Public Library 413 Main Street Warren 05674;X-APPLE-RADIUS=500;X-TITLE=413 Main Street:geo:-72.8576681,44.118347
END:VEVENT
BEGIN:VEVENT
DTSTART;TZID=America/New_York:20251010T100000
DTEND;TZID=America/New_York:20251010T110000
DTSTAMP:20260423T075212
CREATED:20250718T204413Z
LAST-MODIFIED:20251010T135324Z
UID:10008700-1760090400-1760094000@mrvvillage.com
SUMMARY:Fall Toddler Time Art Class at Inklings!
DESCRIPTION:It’s Fall Toddler Time Art Class at Inklings Children’s Books! Friday mornings from 10am – 11am. \nCaregivers and their little ones are invited to explore the colors & shapes of the season\, and develop those fine motor skills; all while having some creative fun! \nActivities will include painting on torn newspaper\, craft pumpkins\, and colorful watercolor felt leaves. \nSIGN UP using the EVENT LINK\nBegins Friday\, Sept. 5th and goes for 6 weeks.\nAges: 18mo – 4yrs\nPrice: $85 (all six classes) Drop-in Price: $15/per class
URL:https://mrvvillage.com/event/fall-toddler-time-art-class-at-inklings-6/
LOCATION:Inklings Children’s Books\, 106 Mad River Greeen\, Waitsfield\, VT\, 05673\, United States
CATEGORIES:Arts & Entertainment
ATTACH;FMTTYPE=image/jpeg:https://mrvvillage.com/wp-content/uploads/2025/07/Fall-2025-Toddler-Art-Flyer-MRV-OQzeHO.jpg
ORGANIZER;CN="Inklings%20Children%26%238217%3Bs%20Books":MAILTO:inklingschildrensbooks@gmail.com
GEO:44.1844899;-72.839037
X-APPLE-STRUCTURED-LOCATION;VALUE=URI;X-ADDRESS=Inklings Children’s Books 106 Mad River Greeen Waitsfield VT 05673 United States;X-APPLE-RADIUS=500;X-TITLE=106 Mad River Greeen:geo:-72.839037,44.1844899
END:VEVENT
BEGIN:VEVENT
DTSTART;TZID=America/New_York:20251010T173000
DTEND;TZID=America/New_York:20251010T190000
DTSTAMP:20260423T075212
CREATED:20250926T225455Z
LAST-MODIFIED:20251010T135324Z
UID:10009041-1760117400-1760122800@mrvvillage.com
SUMMARY:‘Stardust’ Talk : “What Has Quantum Mechanics Ever Done For Us?”
DESCRIPTION:On October 10th\, at 5:30-7pm Mad River Valley Arts presents a STARDUST talk with Ray Parker; a Quantum Scientist. \nHe will describe some of the strange predictions of quantum mechanics and how they have shaped our lives. Join Us for this relevant and exciting topic.
URL:https://mrvvillage.com/event/stardust-talk-what-has-quantum-mechanics-ever-done-for-us/
LOCATION:Mad River Valley Arts\, 5031 Main Street #2 Village Square\, Waitsfield\, 05673
CATEGORIES:Arts & Entertainment
ATTACH;FMTTYPE=image/jpeg:https://mrvvillage.com/wp-content/uploads/2025/09/Quantum-Room1-L8zIYq.jpg
ORGANIZER;CN="Mad%20River%20Valley%20Arts":MAILTO:director@madrivervalleyarts.org
GEO:44.1926386;-72.7798479
X-APPLE-STRUCTURED-LOCATION;VALUE=URI;X-ADDRESS=Mad River Valley Arts 5031 Main Street #2 Village Square Waitsfield 05673;X-APPLE-RADIUS=500;X-TITLE=5031 Main Street #2 Village Square:geo:-72.7798479,44.1926386
END:VEVENT
BEGIN:VEVENT
DTSTART;TZID=America/New_York:20251010T190000
DTEND;TZID=America/New_York:20251010T220000
DTSTAMP:20260423T075212
CREATED:20251010T055318Z
LAST-MODIFIED:20251010T135325Z
UID:10009093-1760122800-1760133600@mrvvillage.com
SUMMARY:The Valley Players Present “Blithe Spirit”
DESCRIPTION:WAITSFIELD – The Valley Players will present Blithe Spirit\, by Noël Coward\, Fridays-Sundays October 10-26 at the Valley Players Theater\, 4254 Main Street (Route 100)\, Waitsfield\, VT. Friday and Saturday night shows are at 7:30\, and Sunday matinees are at 2 pm.\nThis fall\, experience Blithe Spirit like never before\, reimagined in dazzling black and white. With styling inspired by 1940s cinema\, every element of this production – from costumes to makeup – embraces the elegant world of old Hollywood. It’s a supernatural comedy full of charm\, chaos\, and vintage style. A ghost story never looked so glamorous! \nWhen a séance by Madame Arcati (Sarah Storjohann\, Barre) goes sideways\, Charles Condomine (Lee Chasen) finds himself haunted by his first wife\, Elvira (Sorsha Anderson\, Middletown)\, who has some strong opinions about Charles’ second wife\, Ruth (Shannon McDermott\, Burlington). Also participating in the séance are Charles’ skeptical friends\, Dr. Bradman (Ray Merrill\, Montpelier) and his wife\, Violet (Sarah McDougal\, Warren).Providing them with enthusiastic household service is their maid\, Edith (Cassandra Demarais\, Websterville).\nThe production is directed by Shannon Sanborn (Barre) with lighting design by Irene Halabozak (Williston). Sanborn is also the set designer. “Directing Blithe Spirit in black and white has been such a fun ride\,” said Sanborn. “Every choice from the bold makeup to the clothes and sets has to pop without color. It’s all about mood\, texture and timeless style. I look forward to audiences experiencing the magic!” \nFor tickets and more information\, visit www.valleyplayers.com or email boxoffice@valleyplayers.com.
URL:https://mrvvillage.com/event/the-valley-players-present-blithe-spirit/
LOCATION:Valley Players Theater\, 4254 Main Street\, Route 100\, Waitsfield\, VT\, 05673\, United States
CATEGORIES:Arts & Entertainment
ATTACH;FMTTYPE=image/png:https://mrvvillage.com/wp-content/uploads/2025/10/Cover-Blithe-GYMz5T.png
GEO:44.2017815;-72.8121321
X-APPLE-STRUCTURED-LOCATION;VALUE=URI;X-ADDRESS=Valley Players Theater 4254 Main Street Route 100 Waitsfield VT 05673 United States;X-APPLE-RADIUS=500;X-TITLE=4254 Main Street\, Route 100:geo:-72.8121321,44.2017815
END:VEVENT
BEGIN:VEVENT
DTSTART;TZID=America/New_York:20251011T153000
DTEND;TZID=America/New_York:20251012T130100
DTSTAMP:20260423T075212
CREATED:20251002T040932Z
LAST-MODIFIED:20251011T140838Z
UID:10009058-1760196600-1760274060@mrvvillage.com
SUMMARY:Sukkot on the Farm Harvest Festival
DESCRIPTION:Join us for our 12th annual Sukkot on the Farm festival—a joyful weekend celebrating the fall harvest with song\, learning\, delicious food\, and community connection under our creatively designed temporary dwelling\, the sukkah. \nWeekend highlights:\nSaturday afternoon: Kirtan with Anna Sobel and meditation with Rabbi David Fainsilber (of Jewish Communities of Greater Stowe)\nSaturday evening: “Stone soup” dinner with veggies from the harvest and bread from Red Hen Baking Co.\, followed by songs and teachings in the sukkah\nSaturday night: Live concert in the barn featuring Avi Salloway & Friends\nSunday morning: Children’s puppet show with Anna Sobel of Talking Hands Theater\, family nature walk with lulav making\, and hands-on skills building workshop (plant identification\, basket weaving\, sheep to yarn\, art of fermentation)\nSunday midday: Song Circle followed by sandwich-bar lunch
URL:https://mrvvillage.com/event/sukkot-on-the-farm-harvest-festival/
LOCATION:Living Tree Alliance\, 96 Living Tree Ln\, Moretown\, VT\, 05660\, United States
CATEGORIES:Arts & Entertainment
ORGANIZER;CN="Living%20Tree%20Alliance":MAILTO:info@livingtreealliance.com
GEO:44.2472902;-72.7762636
X-APPLE-STRUCTURED-LOCATION;VALUE=URI;X-ADDRESS=Living Tree Alliance 96 Living Tree Ln Moretown VT 05660 United States;X-APPLE-RADIUS=500;X-TITLE=96 Living Tree Ln:geo:-72.7762636,44.2472902
END:VEVENT
BEGIN:VEVENT
DTSTART;TZID=America/New_York:20251011T194500
DTEND;TZID=America/New_York:20251011T220000
DTSTAMP:20260423T075212
CREATED:20251002T040932Z
LAST-MODIFIED:20251011T140838Z
UID:10009059-1760211900-1760220000@mrvvillage.com
SUMMARY:Barn Concert with Avi Salloway and Friend
DESCRIPTION:We welcome Avi Salloway & friends for a luminous night of art-rock\, global grooves\, and folk music that’ll make you want to dance! Followed by smores and bonfire. Desserts donated by Red Hen Bakery. All ages welcome! \nAvi Salloway is an acclaimed musician\, activist\, and educator. He grew up learning music from American folk legends\, Pete and John Seeger\, and from an early age\, was exposed to the power of music to bring people together. Salloway is the bandleader for Billy Wylder\, has co-written\, produced\, and recorded on 15 albums and performed over 1500 concerts across six continents. He also toured for many years in Bombino’s band\, the Tuareg guitar hero from Niger. Highlight performances include Coachella\, New Orleans Jazz Fest\, Carnegie Hall\, and Lincoln Center.
URL:https://mrvvillage.com/event/barn-concert-with-avi-salloway-and-friend/
LOCATION:Living Tree Alliance\, 96 Living Tree Ln\, Moretown\, VT\, 05660\, United States
CATEGORIES:Arts & Entertainment,Live Music
ORGANIZER;CN="Living%20Tree%20Alliance":MAILTO:info@livingtreealliance.com
GEO:44.2472902;-72.7762636
X-APPLE-STRUCTURED-LOCATION;VALUE=URI;X-ADDRESS=Living Tree Alliance 96 Living Tree Ln Moretown VT 05660 United States;X-APPLE-RADIUS=500;X-TITLE=96 Living Tree Ln:geo:-72.7762636,44.2472902
END:VEVENT
BEGIN:VEVENT
DTSTART;TZID=America/New_York:20251012T093000
DTEND;TZID=America/New_York:20251012T123000
DTSTAMP:20260423T075212
CREATED:20251002T040945Z
LAST-MODIFIED:20251012T140818Z
UID:10009060-1760261400-1760272200@mrvvillage.com
SUMMARY:Puppet Show and Family  Harvest Festival
DESCRIPTION:Talking Hands Theatre visits the Mad River Valley to perform a skit explaining the universal traditions of the Jewish festival Sukkot to families of all backgrounds. \nSukkot is a time to camp under the stars\, be thankful for the harvest and share meals out of doors. \nLiving Tree Alliance Collective Farm will be offering farm stations all morning: apple pressing\, potato harvesting\, saurkraut making and nature crafts.
URL:https://mrvvillage.com/event/puppet-show-and-family-harvest-festival/
LOCATION:Living Tree Alliance\, 96 Living Tree Ln\, Moretown\, VT\, 05660\, United States
CATEGORIES:Arts & Entertainment
ATTACH;FMTTYPE=image/jpeg:https://mrvvillage.com/wp-content/uploads/2025/10/sukkot-puppet-QLZ4Hb.jpg
ORGANIZER;CN="Living%20Tree%20Alliance":MAILTO:info@livingtreealliance.com
GEO:44.2472902;-72.7762636
X-APPLE-STRUCTURED-LOCATION;VALUE=URI;X-ADDRESS=Living Tree Alliance 96 Living Tree Ln Moretown VT 05660 United States;X-APPLE-RADIUS=500;X-TITLE=96 Living Tree Ln:geo:-72.7762636,44.2472902
END:VEVENT
BEGIN:VEVENT
DTSTART;TZID=America/New_York:20251012T183000
DTEND;TZID=America/New_York:20251012T210000
DTSTAMP:20260423T075212
CREATED:20250921T022539Z
LAST-MODIFIED:20251012T140832Z
UID:10009031-1760293800-1760302800@mrvvillage.com
SUMMARY:Granfilm Festival
DESCRIPTION:A celebration of Vermont Filmmakers with selected shorts and excerpts. \nWe’ve rounded up some of our favorite local filmmakers\, with work by Rob Gardner\, Kate Youngdahl\, Willow O’Farrell\, Kate Stryker\, Chris Spencer\, and Melissa Kosmaczewski. \nWhimsical\, topical\, abstract and poignant. And did we mention the Lost Ark AND manta rays? Don’t miss this fun\, free\, family-friendly event. \nLight refreshments served. Doors open at 6:30! Many of the filmmakers will be on hand to discuss their work.
URL:https://mrvvillage.com/event/granfilm-festival/
LOCATION:Corner School Resource Center of Granville Vermont\, 75 Post Office Hill 75 Post Office Hill\, Granville\, Vermont\, 05747\, United States
CATEGORIES:Arts & Entertainment
ATTACH;FMTTYPE=image/jpeg:https://mrvvillage.com/wp-content/uploads/2025/09/GRANFILM-FESTIVAL-POSTER-Final-Hy2DKC.jpg
ORGANIZER;CN="Corner%20School%20Resource%20Center":MAILTO:k8izwrite@gmail.com
GEO:43.9859901;-72.8465845
X-APPLE-STRUCTURED-LOCATION;VALUE=URI;X-ADDRESS=Corner School Resource Center of Granville Vermont 75 Post Office Hill 75 Post Office Hill Granville Vermont 05747 United States;X-APPLE-RADIUS=500;X-TITLE=75 Post Office Hill 75 Post Office Hill:geo:-72.8465845,43.9859901
END:VEVENT
END:VCALENDAR