BEGIN:VCALENDAR
VERSION:2.0
PRODID:-//The Mad River Valley Village - ECPv6.0.13//NONSGML v1.0//EN
CALSCALE:GREGORIAN
METHOD:PUBLISH
X-ORIGINAL-URL:https://mrvvillage.com
X-WR-CALDESC:Events for The Mad River Valley Village
REFRESH-INTERVAL;VALUE=DURATION:PT1H
X-Robots-Tag:noindex
X-PUBLISHED-TTL:PT1H
BEGIN:VTIMEZONE
TZID:America/New_York
BEGIN:DAYLIGHT
TZOFFSETFROM:-0500
TZOFFSETTO:-0400
TZNAME:EDT
DTSTART:20250309T070000
END:DAYLIGHT
BEGIN:STANDARD
TZOFFSETFROM:-0400
TZOFFSETTO:-0500
TZNAME:EST
DTSTART:20251102T060000
END:STANDARD
END:VTIMEZONE
BEGIN:VEVENT
DTSTART;TZID=America/New_York:20250821T080000
DTEND;TZID=America/New_York:20251031T170000
DTSTAMP:20260423T021857
CREATED:20250802T121030Z
LAST-MODIFIED:20250821T210825Z
UID:10008791-1755763200-1761930000@mrvvillage.com
SUMMARY:Stardust
DESCRIPTION:The Mad Collective is proud to share ‘Stardust’\, an exhibition about The Quantum World. \nThe Quantum World is one of uncertainty. One can’t really talk about where a quantum object is\, we can only talk about where we might find it. Yet\, our seemingly solid reality is built upon this tiny world of possibilities\, stuff has form\, the universe has form and we are solid. \nThis show looks at the behavior of photons\, particles and mysterious patterns of quantum phenomena. It inspires us to think about the magic of the quantum fundamental basis to reality and asks us to be curious about where the human species is going. Artists open up to their interpretation of the immaterial while engaging with the scales of the unimaginable tiny to the infinitely large.
URL:https://mrvvillage.com/event/stardust/
LOCATION:Mad River Valley Arts\, 5031 Main Street #2 Village Square\, Waitsfield\, 05673
CATEGORIES:Arts & Entertainment
ATTACH;FMTTYPE=image/jpeg:https://mrvvillage.com/wp-content/uploads/2025/08/Chart-9-copy-sajD0f.jpg
ORGANIZER;CN="Mad%20River%20Valley%20Arts":MAILTO:director@madrivervalleyarts.org
GEO:44.1926386;-72.7798479
X-APPLE-STRUCTURED-LOCATION;VALUE=URI;X-ADDRESS=Mad River Valley Arts 5031 Main Street #2 Village Square Waitsfield 05673;X-APPLE-RADIUS=500;X-TITLE=5031 Main Street #2 Village Square:geo:-72.7798479,44.1926386
END:VEVENT
BEGIN:VEVENT
DTSTART;TZID=America/New_York:20251020T150000
DTEND;TZID=America/New_York:20251020T163000
DTSTAMP:20260423T021857
CREATED:20250722T214347Z
LAST-MODIFIED:20251020T145317Z
UID:10008715-1760972400-1760977800@mrvvillage.com
SUMMARY:Fall Art Class at Inklings\, Grades 4 – 6
DESCRIPTION:Mondays from 3:00 – 4:30pm. Starts October 20th. \nBeginning October 20th\, 4th – 6th graders will begin a six week course. Focusing on three different artists\, students will have the chance to explore\, in depth\, three very different types of creating – from 2 dimensional to three dimensional art. \nStudents will receive a book about each artist. The perfect way to expand your child’s creativity!! \nSIGN UP using the EVENT LINK
URL:https://mrvvillage.com/event/fall-art-class-at-inklings-grades-4-6/
LOCATION:Inklings Children’s Books\, 106 Mad River Greeen\, Waitsfield\, VT\, 05673\, United States
CATEGORIES:Arts & Entertainment,Family Friendly
ATTACH;FMTTYPE=image/jpeg:https://mrvvillage.com/wp-content/uploads/2025/07/Fall-Art-Class-Flyer-4-thru-6-MRV-89RkSP.jpg
ORGANIZER;CN="Inklings%20Children%26%238217%3Bs%20Books":MAILTO:inklingschildrensbooks@gmail.com
GEO:44.1844899;-72.839037
X-APPLE-STRUCTURED-LOCATION;VALUE=URI;X-ADDRESS=Inklings Children’s Books 106 Mad River Greeen Waitsfield VT 05673 United States;X-APPLE-RADIUS=500;X-TITLE=106 Mad River Greeen:geo:-72.839037,44.1844899
END:VEVENT
BEGIN:VEVENT
DTSTART;TZID=America/New_York:20251020T150000
DTEND;TZID=America/New_York:20251020T163000
DTSTAMP:20260423T021857
CREATED:20251105T093848Z
LAST-MODIFIED:20251105T180916Z
UID:10009214-1760972400-1760977800@mrvvillage.com
SUMMARY:Fall Art Class at Inklings\, Grades 4 – 6
DESCRIPTION:Mondays from 3:00 – 4:30pm. Starts October 20th. \nBeginning October 20th\, 4th – 6th graders will begin a six week course. Focusing on three different artists\, students will have the chance to explore\, in depth\, three very different types of creating – from 2 dimensional to three dimensional art. \nStudents will receive a book about each artist. The perfect way to expand your child’s creativity!! \nSIGN UP using the EVENT LINK
URL:https://mrvvillage.com/event/fall-art-class-at-inklings-grades-4-6-7/
LOCATION:Inklings Children’s Books\, 106 Mad River Greeen\, Waitsfield\, VT\, 05673\, United States
CATEGORIES:Arts & Entertainment,Family Friendly
ATTACH;FMTTYPE=image/jpeg:https://mrvvillage.com/wp-content/uploads/2025/07/Fall-Art-Class-Flyer-4-thru-6-MRV-89RkSP.jpg
ORGANIZER;CN="Inklings%20Children%26%238217%3Bs%20Books":MAILTO:inklingschildrensbooks@gmail.com
GEO:44.1844899;-72.839037
X-APPLE-STRUCTURED-LOCATION;VALUE=URI;X-ADDRESS=Inklings Children’s Books 106 Mad River Greeen Waitsfield VT 05673 United States;X-APPLE-RADIUS=500;X-TITLE=106 Mad River Greeen:geo:-72.839037,44.1844899
END:VEVENT
BEGIN:VEVENT
DTSTART;TZID=America/New_York:20251020T173000
DTEND;TZID=America/New_York:20251020T190000
DTSTAMP:20260423T021857
CREATED:20251006T050940Z
LAST-MODIFIED:20251020T145317Z
UID:10009079-1760981400-1760986800@mrvvillage.com
SUMMARY:The Salt Stones by Helen Whybrow\, A Climate and Ecology Book Discussion
DESCRIPTION:Join local author and Knoll Farm shepherd extraordinaire\, Helen Whybrow\, for a discussion of her recent publication\, The Salt Stones: Seasons of a Shepherd’s Life. \nThe book has garnered wonderful press and has even been longlisted for the National Book Award.
URL:https://mrvvillage.com/event/the-salt-stones-by-helen-whybrow-a-climate-and-ecology-book-discussion/
LOCATION:Big Picture Theater\, 44 Carroll Road\, Waitsfield\, 05673
CATEGORIES:Arts & Entertainment
GEO:44.1874779;-72.8335286
X-APPLE-STRUCTURED-LOCATION;VALUE=URI;X-ADDRESS=Big Picture Theater 44 Carroll Road Waitsfield 05673;X-APPLE-RADIUS=500;X-TITLE=44 Carroll Road:geo:-72.8335286,44.1874779
END:VEVENT
BEGIN:VEVENT
DTSTART;TZID=America/New_York:20251023T150000
DTEND;TZID=America/New_York:20251023T163000
DTSTAMP:20260423T021857
CREATED:20250725T144322Z
LAST-MODIFIED:20251023T152323Z
UID:10008723-1761231600-1761237000@mrvvillage.com
SUMMARY:Fall Art Class at Inklings\, Grades K – 3
DESCRIPTION:Thursdays from 3:00 – 4:30pm. Starts October 16th. \nEXPLORE PAINTING\, SCULPTURE\, & WORK WITH RECYCLED MATERIALS. Starting October 16th\, your young artists will begin a six week course. Each week children will receive their own book based on a featured artist. \nFollowing a read aloud\, children will jump into an art project based on the artist’s work. A perfect introduction to the wider world of creativity!! \nSIGN UP using the EVENT LINK
URL:https://mrvvillage.com/event/fall-art-class-at-inklings-grades-k-3-2/
LOCATION:Inklings Children’s Books\, 106 Mad River Greeen\, Waitsfield\, VT\, 05673\, United States
CATEGORIES:Arts & Entertainment,Family Friendly
ATTACH;FMTTYPE=image/jpeg:https://mrvvillage.com/wp-content/uploads/2025/07/Fall-Art-Class-Flyer-K-thru-3-MRV-JAvzdc.jpg
ORGANIZER;CN="Inklings%20Children%26%238217%3Bs%20Books":MAILTO:inklingschildrensbooks@gmail.com
GEO:44.1844899;-72.839037
X-APPLE-STRUCTURED-LOCATION;VALUE=URI;X-ADDRESS=Inklings Children’s Books 106 Mad River Greeen Waitsfield VT 05673 United States;X-APPLE-RADIUS=500;X-TITLE=106 Mad River Greeen:geo:-72.839037,44.1844899
END:VEVENT
BEGIN:VEVENT
DTSTART;TZID=America/New_York:20251023T173000
DTEND;TZID=America/New_York:20251023T190000
DTSTAMP:20260423T021857
CREATED:20250926T225550Z
LAST-MODIFIED:20251023T152323Z
UID:10009045-1761240600-1761246000@mrvvillage.com
SUMMARY:Stardust Speakers James Slinkman and Joshua Kuckens : “How the Earth Rides the Solar Wind” 
DESCRIPTION:On Oct 23rd at 5:30-7pm Presenters James Slinkman and Josh Kuckens will explore how the Earth’s magnetic field protects us from dangerous high energy particle radiation which is carried to Earth from the Sun by the “Solar Wind”. \nWe’ll explore how this reaction manifests itself via the generation of beautiful visible Aurora (aka the “Northern Lights”) in the Earth’s atmosphere. The key quantum mechanisms which are involved are briefly described. Images and videos of many of the phenomena\, including the recent Vermont Aurora will figure prominently in the presentation. \nJoin us to hear and discuss incredible stories at the Mad River Valley Arts/ MRVtv in Waitsfield.
URL:https://mrvvillage.com/event/stardust-speakers-james-slinkman-and-joshua-kuckens-how-the-earth-rides-the-solar-wind/
LOCATION:Mad River Valley Arts\, 5031 Main Street #2 Village Square\, Waitsfield\, 05673
CATEGORIES:Arts & Entertainment
ATTACH;FMTTYPE=image/png:https://mrvvillage.com/wp-content/uploads/2025/09/James-Slinkman-poster-ZHZr2N.png
ORGANIZER;CN="Mad%20River%20ValleyArts":MAILTO:info@madrivervalleyarts.org
GEO:44.1926386;-72.7798479
X-APPLE-STRUCTURED-LOCATION;VALUE=URI;X-ADDRESS=Mad River Valley Arts 5031 Main Street #2 Village Square Waitsfield 05673;X-APPLE-RADIUS=500;X-TITLE=5031 Main Street #2 Village Square:geo:-72.7798479,44.1926386
END:VEVENT
BEGIN:VEVENT
DTSTART;TZID=America/New_York:20251023T190000
DTEND;TZID=America/New_York:20251023T230000
DTSTAMP:20260423T021857
CREATED:20251022T073824Z
LAST-MODIFIED:20251023T152323Z
UID:10009145-1761246000-1761260400@mrvvillage.com
SUMMARY:Rocky Horror Picture Show
DESCRIPTION:Movie playing October 23rd\, 24th\, 25th\, 26th\, 27th\, 30th. \nSpecial Sing-a-long October 30th @ 7pm. Come join us for a special screening of Rocky Horror Picture Show sing-along! Audience participation\, costumes encouraged. \nAdult $11\nChild/Senior $9 \nTime & Location\nOct 30\, 2025\, 7:00 PM – 11:00 PM\nWaitsfield\, 48 Carroll Rd\, Waitsfield\, VT 05673\, USA
URL:https://mrvvillage.com/event/rocky-horror-picture-show/
LOCATION:Big Picture Theater\, 44 Carroll Road\, Waitsfield\, 05673
CATEGORIES:Arts & Entertainment
ATTACH;FMTTYPE=image/png:https://mrvvillage.com/wp-content/uploads/2025/10/Screenshot-2025-10-21-at-3.11.22-PM-OHOSOy.png
ORGANIZER;CN="Big%20Picture%20Theater":MAILTO:beths@madriver.com
GEO:44.1874779;-72.8335286
X-APPLE-STRUCTURED-LOCATION;VALUE=URI;X-ADDRESS=Big Picture Theater 44 Carroll Road Waitsfield 05673;X-APPLE-RADIUS=500;X-TITLE=44 Carroll Road:geo:-72.8335286,44.1874779
END:VEVENT
BEGIN:VEVENT
DTSTART;TZID=America/New_York:20251024T180000
DTEND;TZID=America/New_York:20251024T200000
DTSTAMP:20260423T021857
CREATED:20250731T161417Z
LAST-MODIFIED:20251024T153822Z
UID:10008789-1761328800-1761336000@mrvvillage.com
SUMMARY:Feel the Wheel Pottery Workshop
DESCRIPTION:Here’s your chance to try your hand at the potter’s wheel! This workshop will be offered the last Friday of every month (most months). \nThis is a one time\, two hour introduction to learn the basics of wheel throwing. \nYou will be guided from a ball of clay to your first bowl or cup. Using a simple to understand process\, you will learn the foundational techniques needed to enjoy this meditative and somewhat magical craft. Most students will successfully throw at least 2 pots which will be fired and finished by us\, ready to pick up in approximately 3 weeks. \nIf you throw more than 2 that you would like to keep we can finish them as well for $15/pot (first 2 are included). Shipping is available for additional fees.
URL:https://mrvvillage.com/event/feel-the-wheel-pottery-workshop-3/
LOCATION:Blockhouse Studio\, 5031 Main Street\, Waitsfield\, VT\, 05673
CATEGORIES:Arts & Entertainment
ATTACH;FMTTYPE=image/jpeg:https://mrvvillage.com/wp-content/uploads/2025/07/untitled-3262-PrXkbV.jpg
GEO:44.1926386;-72.7798479
X-APPLE-STRUCTURED-LOCATION;VALUE=URI;X-ADDRESS=Blockhouse Studio 5031 Main Street Waitsfield VT 05673;X-APPLE-RADIUS=500;X-TITLE=5031 Main Street:geo:-72.7798479,44.1926386
END:VEVENT
BEGIN:VEVENT
DTSTART;TZID=America/New_York:20251024T190000
DTEND;TZID=America/New_York:20251024T230000
DTSTAMP:20260423T021857
CREATED:20251022T073838Z
LAST-MODIFIED:20251024T153823Z
UID:10009146-1761332400-1761346800@mrvvillage.com
SUMMARY:Rocky Horror Picture Show
DESCRIPTION:Movie playing October 23rd\, 24th\, 25th\, 26th\, 27th\, 30th. \nSpecial Sing-a-long October 30th @ 7pm. Come join us for a special screening of Rocky Horror Picture Show sing-along! Audience participation\, costumes encouraged. \nAdult $11\nChild/Senior $9 \nTime & Location\nOct 30\, 2025\, 7:00 PM – 11:00 PM\nWaitsfield\, 48 Carroll Rd\, Waitsfield\, VT 05673\, USA
URL:https://mrvvillage.com/event/rocky-horror-picture-show-2/
LOCATION:Big Picture Theater\, 44 Carroll Road\, Waitsfield\, 05673
CATEGORIES:Arts & Entertainment
ATTACH;FMTTYPE=image/png:https://mrvvillage.com/wp-content/uploads/2025/10/Screenshot-2025-10-21-at-3.11.22-PM-OHOSOy.png
ORGANIZER;CN="Big%20Picture%20Theater":MAILTO:beths@madriver.com
GEO:44.1874779;-72.8335286
X-APPLE-STRUCTURED-LOCATION;VALUE=URI;X-ADDRESS=Big Picture Theater 44 Carroll Road Waitsfield 05673;X-APPLE-RADIUS=500;X-TITLE=44 Carroll Road:geo:-72.8335286,44.1874779
END:VEVENT
BEGIN:VEVENT
DTSTART;TZID=America/New_York:20251025T190000
DTEND;TZID=America/New_York:20251025T230000
DTSTAMP:20260423T021857
CREATED:20251022T073839Z
LAST-MODIFIED:20251025T155319Z
UID:10009147-1761418800-1761433200@mrvvillage.com
SUMMARY:Rocky Horror Picture Show
DESCRIPTION:Movie playing October 23rd\, 24th\, 25th\, 26th\, 27th\, 30th. \nSpecial Sing-a-long October 30th @ 7pm. Come join us for a special screening of Rocky Horror Picture Show sing-along! Audience participation\, costumes encouraged. \nAdult $11\nChild/Senior $9 \nTime & Location\nOct 30\, 2025\, 7:00 PM – 11:00 PM\nWaitsfield\, 48 Carroll Rd\, Waitsfield\, VT 05673\, USA
URL:https://mrvvillage.com/event/rocky-horror-picture-show-3/
LOCATION:Big Picture Theater\, 44 Carroll Road\, Waitsfield\, 05673
CATEGORIES:Arts & Entertainment
ATTACH;FMTTYPE=image/png:https://mrvvillage.com/wp-content/uploads/2025/10/Screenshot-2025-10-21-at-3.11.22-PM-OHOSOy.png
ORGANIZER;CN="Big%20Picture%20Theater":MAILTO:beths@madriver.com
GEO:44.1874779;-72.8335286
X-APPLE-STRUCTURED-LOCATION;VALUE=URI;X-ADDRESS=Big Picture Theater 44 Carroll Road Waitsfield 05673;X-APPLE-RADIUS=500;X-TITLE=44 Carroll Road:geo:-72.8335286,44.1874779
END:VEVENT
BEGIN:VEVENT
DTSTART;TZID=America/New_York:20251026T133000
DTEND;TZID=America/New_York:20251026T150000
DTSTAMP:20260423T021857
CREATED:20251021T072336Z
LAST-MODIFIED:20251026T160826Z
UID:10009125-1761485400-1761490800@mrvvillage.com
SUMMARY:A Festive Fall Celebration of Poems and Short Stories by Mad River Valley Authors and Readers
DESCRIPTION:Individuals of any age interested in sharing a poem or a short story are encouraged to send an email to Shevonne Travers at joslinprograms@gmail.com or to call the library (802)496-4205 and provide your contact information. We welcome your participation. \nThe Mad River Valley community at large is invited to listen and support the readers while sipping apple cider and snacking on a variety of fruit and homemade breads.
URL:https://mrvvillage.com/event/a-festive-fall-celebration-of-poems-and-short-stories-by-mad-river-valley-authors-and-readers/
LOCATION:Joslin Memorial Library\, 4391 Main Street\, Waitsfield\, 05673
CATEGORIES:Arts & Entertainment
ATTACH;FMTTYPE=image/png:https://mrvvillage.com/wp-content/uploads/2025/10/An-Autumn-Afternoon-Of-Poetry-Facebook-Post-Square-1-bENK3H.png
ORGANIZER;CN="Joslin%20Memorial%20Library":MAILTO:programs@joslinmemoriallibrary.com
GEO:44.1926386;-72.7798479
X-APPLE-STRUCTURED-LOCATION;VALUE=URI;X-ADDRESS=Joslin Memorial Library 4391 Main Street Waitsfield 05673;X-APPLE-RADIUS=500;X-TITLE=4391 Main Street:geo:-72.7798479,44.1926386
END:VEVENT
BEGIN:VEVENT
DTSTART;TZID=America/New_York:20251026T190000
DTEND;TZID=America/New_York:20251026T230000
DTSTAMP:20260423T021857
CREATED:20251022T073854Z
LAST-MODIFIED:20251026T160826Z
UID:10009149-1761505200-1761519600@mrvvillage.com
SUMMARY:Rocky Horror Picture Show
DESCRIPTION:Movie playing October 23rd\, 24th\, 25th\, 26th\, 27th\, 30th. \nSpecial Sing-a-long October 30th @ 7pm. Come join us for a special screening of Rocky Horror Picture Show sing-along! Audience participation\, costumes encouraged. \nAdult $11\nChild/Senior $9 \nTime & Location\nOct 30\, 2025\, 7:00 PM – 11:00 PM\nWaitsfield\, 48 Carroll Rd\, Waitsfield\, VT 05673\, USA
URL:https://mrvvillage.com/event/rocky-horror-picture-show-4/
LOCATION:Big Picture Theater\, 44 Carroll Road\, Waitsfield\, 05673
CATEGORIES:Arts & Entertainment
ATTACH;FMTTYPE=image/png:https://mrvvillage.com/wp-content/uploads/2025/10/Screenshot-2025-10-21-at-3.11.22-PM-OHOSOy.png
ORGANIZER;CN="Big%20Picture%20Theater":MAILTO:beths@madriver.com
GEO:44.1874779;-72.8335286
X-APPLE-STRUCTURED-LOCATION;VALUE=URI;X-ADDRESS=Big Picture Theater 44 Carroll Road Waitsfield 05673;X-APPLE-RADIUS=500;X-TITLE=44 Carroll Road:geo:-72.8335286,44.1874779
END:VEVENT
END:VCALENDAR