BEGIN:VCALENDAR
VERSION:2.0
PRODID:-//The Mad River Valley Village - ECPv6.0.13//NONSGML v1.0//EN
CALSCALE:GREGORIAN
METHOD:PUBLISH
X-WR-CALNAME:The Mad River Valley Village
X-ORIGINAL-URL:https://mrvvillage.com
X-WR-CALDESC:Events for The Mad River Valley Village
REFRESH-INTERVAL;VALUE=DURATION:PT1H
X-Robots-Tag:noindex
X-PUBLISHED-TTL:PT1H
BEGIN:VTIMEZONE
TZID:America/New_York
BEGIN:DAYLIGHT
TZOFFSETFROM:-0500
TZOFFSETTO:-0400
TZNAME:EDT
DTSTART:20250309T070000
END:DAYLIGHT
BEGIN:STANDARD
TZOFFSETFROM:-0400
TZOFFSETTO:-0500
TZNAME:EST
DTSTART:20251102T060000
END:STANDARD
END:VTIMEZONE
BEGIN:VEVENT
DTSTART;TZID=America/New_York:20250821T080000
DTEND;TZID=America/New_York:20251031T170000
DTSTAMP:20260422T230333
CREATED:20250802T121030Z
LAST-MODIFIED:20250821T210825Z
UID:10008791-1755763200-1761930000@mrvvillage.com
SUMMARY:Stardust
DESCRIPTION:The Mad Collective is proud to share ‘Stardust’\, an exhibition about The Quantum World. \nThe Quantum World is one of uncertainty. One can’t really talk about where a quantum object is\, we can only talk about where we might find it. Yet\, our seemingly solid reality is built upon this tiny world of possibilities\, stuff has form\, the universe has form and we are solid. \nThis show looks at the behavior of photons\, particles and mysterious patterns of quantum phenomena. It inspires us to think about the magic of the quantum fundamental basis to reality and asks us to be curious about where the human species is going. Artists open up to their interpretation of the immaterial while engaging with the scales of the unimaginable tiny to the infinitely large.
URL:https://mrvvillage.com/event/stardust/
LOCATION:Mad River Valley Arts\, 5031 Main Street #2 Village Square\, Waitsfield\, 05673
CATEGORIES:Arts & Entertainment
ATTACH;FMTTYPE=image/jpeg:https://mrvvillage.com/wp-content/uploads/2025/08/Chart-9-copy-sajD0f.jpg
ORGANIZER;CN="Mad%20River%20Valley%20Arts":MAILTO:director@madrivervalleyarts.org
GEO:44.1926386;-72.7798479
X-APPLE-STRUCTURED-LOCATION;VALUE=URI;X-ADDRESS=Mad River Valley Arts 5031 Main Street #2 Village Square Waitsfield 05673;X-APPLE-RADIUS=500;X-TITLE=5031 Main Street #2 Village Square:geo:-72.7798479,44.1926386
END:VEVENT
BEGIN:VEVENT
DTSTART;TZID=America/New_York:20251027T150000
DTEND;TZID=America/New_York:20251027T163000
DTSTAMP:20260422T230333
CREATED:20250729T154401Z
LAST-MODIFIED:20251027T162318Z
UID:10008778-1761577200-1761582600@mrvvillage.com
SUMMARY:Fall Art Class at Inklings\, Grades 4 – 6
DESCRIPTION:Mondays from 3:00 – 4:30pm. Starts October 20th. \nBeginning October 20th\, 4th – 6th graders will begin a six week course. Focusing on three different artists\, students will have the chance to explore\, in depth\, three very different types of creating – from 2 dimensional to three dimensional art. \nStudents will receive a book about each artist. The perfect way to expand your child’s creativity!! \nSIGN UP using the EVENT LINK
URL:https://mrvvillage.com/event/fall-art-class-at-inklings-grades-4-6-2/
LOCATION:Inklings Children’s Books\, 106 Mad River Greeen\, Waitsfield\, VT\, 05673\, United States
CATEGORIES:Arts & Entertainment,Family Friendly
ATTACH;FMTTYPE=image/jpeg:https://mrvvillage.com/wp-content/uploads/2025/07/Fall-Art-Class-Flyer-4-thru-6-MRV-89RkSP.jpg
ORGANIZER;CN="Inklings%20Children%26%238217%3Bs%20Books":MAILTO:inklingschildrensbooks@gmail.com
GEO:44.1844899;-72.839037
X-APPLE-STRUCTURED-LOCATION;VALUE=URI;X-ADDRESS=Inklings Children’s Books 106 Mad River Greeen Waitsfield VT 05673 United States;X-APPLE-RADIUS=500;X-TITLE=106 Mad River Greeen:geo:-72.839037,44.1844899
END:VEVENT
BEGIN:VEVENT
DTSTART;TZID=America/New_York:20251027T190000
DTEND;TZID=America/New_York:20251027T230000
DTSTAMP:20260422T230333
CREATED:20251022T073854Z
LAST-MODIFIED:20251027T162318Z
UID:10009150-1761591600-1761606000@mrvvillage.com
SUMMARY:Rocky Horror Picture Show
DESCRIPTION:Movie playing October 23rd\, 24th\, 25th\, 26th\, 27th\, 30th. \nSpecial Sing-a-long October 30th @ 7pm. Come join us for a special screening of Rocky Horror Picture Show sing-along! Audience participation\, costumes encouraged. \nAdult $11\nChild/Senior $9 \nTime & Location\nOct 30\, 2025\, 7:00 PM – 11:00 PM\nWaitsfield\, 48 Carroll Rd\, Waitsfield\, VT 05673\, USA
URL:https://mrvvillage.com/event/rocky-horror-picture-show-5/
LOCATION:Big Picture Theater\, 44 Carroll Road\, Waitsfield\, 05673
CATEGORIES:Arts & Entertainment
ATTACH;FMTTYPE=image/png:https://mrvvillage.com/wp-content/uploads/2025/10/Screenshot-2025-10-21-at-3.11.22-PM-OHOSOy.png
ORGANIZER;CN="Big%20Picture%20Theater":MAILTO:beths@madriver.com
GEO:44.1874779;-72.8335286
X-APPLE-STRUCTURED-LOCATION;VALUE=URI;X-ADDRESS=Big Picture Theater 44 Carroll Road Waitsfield 05673;X-APPLE-RADIUS=500;X-TITLE=44 Carroll Road:geo:-72.8335286,44.1874779
END:VEVENT
BEGIN:VEVENT
DTSTART;TZID=America/New_York:20251030T150000
DTEND;TZID=America/New_York:20251030T163000
DTSTAMP:20260422T230333
CREATED:20250801T162842Z
LAST-MODIFIED:20251030T165320Z
UID:10008790-1761836400-1761841800@mrvvillage.com
SUMMARY:Fall Art Class at Inklings\, Grades K – 3
DESCRIPTION:Thursdays from 3:00 – 4:30pm. Starts October 16th. \nEXPLORE PAINTING\, SCULPTURE\, & WORK WITH RECYCLED MATERIALS. Starting October 16th\, your young artists will begin a six week course. Each week children will receive their own book based on a featured artist. \nFollowing a read aloud\, children will jump into an art project based on the artist’s work. A perfect introduction to the wider world of creativity!! \nSIGN UP using the EVENT LINK
URL:https://mrvvillage.com/event/fall-art-class-at-inklings-grades-k-3-3/
LOCATION:Inklings Children’s Books\, 106 Mad River Greeen\, Waitsfield\, VT\, 05673\, United States
CATEGORIES:Arts & Entertainment,Family Friendly
ATTACH;FMTTYPE=image/jpeg:https://mrvvillage.com/wp-content/uploads/2025/07/Fall-Art-Class-Flyer-K-thru-3-MRV-JAvzdc.jpg
ORGANIZER;CN="Inklings%20Children%26%238217%3Bs%20Books":MAILTO:inklingschildrensbooks@gmail.com
GEO:44.1844899;-72.839037
X-APPLE-STRUCTURED-LOCATION;VALUE=URI;X-ADDRESS=Inklings Children’s Books 106 Mad River Greeen Waitsfield VT 05673 United States;X-APPLE-RADIUS=500;X-TITLE=106 Mad River Greeen:geo:-72.839037,44.1844899
END:VEVENT
BEGIN:VEVENT
DTSTART;TZID=America/New_York:20251030T180000
DTEND;TZID=America/New_York:20251030T193000
DTSTAMP:20260422T230333
CREATED:20251027T083835Z
LAST-MODIFIED:20251030T165320Z
UID:10009183-1761847200-1761852600@mrvvillage.com
SUMMARY:LIVE @ MRVTV with Madigan Linnane! (Thursday 10/30 at 6 PM)
DESCRIPTION:LIVE @ MRVTV is back next Thursday with local musician Madigan Linnange! \nJoin us Thursday\, October 30th @ 6 PM at the Mad River Valley TV studio (5033 Main St. in Waitsfield) for the final LIVE @ MRVTV of the year! \nWe will be broadcasting LIVE to local Channel 44! This event is free\, BYOB\, and open to the public! \nCome check out the Mad River Valley’s local Community Media Center and nonprofit Public Access TV studio!
URL:https://mrvvillage.com/event/live-mrvtv-with-madigan-linnane-thursday-10-30-at-6-pm/
LOCATION:Mad River Valley Television\, 5031 Main St\, Waitsfield\, VT\, 05673\, United States
CATEGORIES:Arts & Entertainment
ATTACH;FMTTYPE=image/png:https://mrvvillage.com/wp-content/uploads/2025/10/Madigan-Linnane-LIVE-at-MRVTV-7WiFNe.png
ORGANIZER;CN="Mad%20River%20Valley%20Television":MAILTO:rob@mrvtv.com
GEO:44.1852267;-72.834515
X-APPLE-STRUCTURED-LOCATION;VALUE=URI;X-ADDRESS=Mad River Valley Television 5031 Main St Waitsfield VT 05673 United States;X-APPLE-RADIUS=500;X-TITLE=5031 Main St:geo:-72.834515,44.1852267
END:VEVENT
BEGIN:VEVENT
DTSTART;TZID=America/New_York:20251030T190000
DTEND;TZID=America/New_York:20251030T230000
DTSTAMP:20260422T230333
CREATED:20251022T073909Z
LAST-MODIFIED:20251030T165320Z
UID:10009153-1761850800-1761865200@mrvvillage.com
SUMMARY:Rocky Horror Picture Show
DESCRIPTION:Movie playing October 23rd\, 24th\, 25th\, 26th\, 27th\, 30th. \nSpecial Sing-a-long October 30th @ 7pm. Come join us for a special screening of Rocky Horror Picture Show sing-along! Audience participation\, costumes encouraged. \nAdult $11\nChild/Senior $9 \nTime & Location\nOct 30\, 2025\, 7:00 PM – 11:00 PM\nWaitsfield\, 48 Carroll Rd\, Waitsfield\, VT 05673\, USA
URL:https://mrvvillage.com/event/rocky-horror-picture-show-6/
LOCATION:Big Picture Theater\, 44 Carroll Road\, Waitsfield\, 05673
CATEGORIES:Arts & Entertainment
ATTACH;FMTTYPE=image/png:https://mrvvillage.com/wp-content/uploads/2025/10/Screenshot-2025-10-21-at-3.11.22-PM-OHOSOy.png
ORGANIZER;CN="Big%20Picture%20Theater":MAILTO:beths@madriver.com
GEO:44.1874779;-72.8335286
X-APPLE-STRUCTURED-LOCATION;VALUE=URI;X-ADDRESS=Big Picture Theater 44 Carroll Road Waitsfield 05673;X-APPLE-RADIUS=500;X-TITLE=44 Carroll Road:geo:-72.8335286,44.1874779
END:VEVENT
BEGIN:VEVENT
DTSTART;TZID=America/New_York:20251031T100000
DTEND;TZID=America/New_York:20251031T110000
DTSTAMP:20260422T230333
CREATED:20251024T153851Z
LAST-MODIFIED:20251031T170819Z
UID:10009167-1761904800-1761908400@mrvvillage.com
SUMMARY:It’s Toddler Time\, Halloween Art Class at Inklings!
DESCRIPTION:It’s Toddler Time\, Halloween Art Class at Inklings Children’s Books! Friday October 31st\, from 10am – 11am. Costumes welcome!!! \nCaregivers and their little ones are invited to have some creative fun\, making multiple crafty Halloween decorations! \nAges: 18mo – 4yrs.\nPrice: $15
URL:https://mrvvillage.com/event/its-toddler-time-halloween-art-class-at-inklings/
LOCATION:Inklings Children’s Books\, 106 Mad River Greeen\, Waitsfield\, VT\, 05673\, United States
CATEGORIES:Arts & Entertainment,Family Friendly
ATTACH;FMTTYPE=image/jpeg:https://mrvvillage.com/wp-content/uploads/2025/10/Toddler-Halloween-Class-Flyer-MRV-JL4hCK.jpg
ORGANIZER;CN="Inklings%20Children%26%238217%3Bs%20Books":MAILTO:inklingschildrensbooks@gmail.com
GEO:44.1844899;-72.839037
X-APPLE-STRUCTURED-LOCATION;VALUE=URI;X-ADDRESS=Inklings Children’s Books 106 Mad River Greeen Waitsfield VT 05673 United States;X-APPLE-RADIUS=500;X-TITLE=106 Mad River Greeen:geo:-72.839037,44.1844899
END:VEVENT
BEGIN:VEVENT
DTSTART;TZID=America/New_York:20251031T170000
DTEND;TZID=America/New_York:20251102T230000
DTSTAMP:20260422T230333
CREATED:20250910T205641Z
LAST-MODIFIED:20251031T170819Z
UID:10008980-1761930000-1762124400@mrvvillage.com
SUMMARY:Too Many Cooks: A Mad River Valley Culinary Experience
DESCRIPTION:Unwind. Indulge. Savor.\nNestled in the serene heart of the Mad River Valley at the charming 1824 House Inn + Barn\, Too Many Cooks offers a culinary retreat like none other — where exquisite flavors meet the warmth of Vermont hospitality.\n2 Nights of Cozy Luxury\nSettle into one of the eight comfortable rooms with private baths\, featherbeds\, and stunning views\, then let the rhythm of the valley wash over you. From the riverside glen to the elegant post-and-beam barn and hilltop meadow\, every corner of 1824 House whispers rustic elegance and ease. \nEvent Highlights\nFriday — Fireside Welcome Dinner\n• Gather around the fire pit for an enchanting welcome dinner cooked on the open flame with specialty products from Addison West.\n• Featured flavors: delectable selections from 5th Quarter Butcher and von Trapp Farmstead.\n• Sip and learn as Mad River Distillers presents an engaging cocktail demonstration.\nSaturday — Door-to-Door to-Door Tastes of the Valley\n• Morning: Dive into savory delights with breakfast cooking demonstrations creating your very own Eggs Benedict\n• Midday: Embark on a flavorful tour and tasting at 5th Quarter Butcher and Provisions.\n• Continue the journey with a tour and exquisite lunch at Lawson’s Finest Liquids.\n• Browse and shop artisanal wares from Addison West and von Trapp Farmstead — ideal for foodies and gift-givers alike.\n• Evening: Gather once more for a hands-on dinner in the barn spotlighting 5th Quarter’s and von Trapp Farmstead’s finest.\n• Add flair to your night with a beer cocktail demonstration by the one and only Mark Leopold of Lawson’s Finest Liquids.\nSunday — A Delicious Farewell\n• Wake to another round of breakfast cooking demos\, focusing again on all-time classic\, Corned Beef Hash — sending you home inspired and with a special gift bag to remember your weekend in the Mad River Valley.
URL:https://mrvvillage.com/event/too-many-cooks-a-mad-river-valley-culinary-experience/
LOCATION:1824 House\, 2150 Main St.\, Waitsfield\, VT\, 05673
CATEGORIES:Arts & Entertainment,Food & Drink
ATTACH;FMTTYPE=image/png:https://mrvvillage.com/wp-content/uploads/2025/09/Too-Many-Cooks_-Fireside-Feast-nVxeqv.png
ORGANIZER;CN="1824%20House":MAILTO:stay@1824house.com
GEO:44.1926386;-72.7798479
X-APPLE-STRUCTURED-LOCATION;VALUE=URI;X-ADDRESS=1824 House 2150 Main St. Waitsfield VT 05673;X-APPLE-RADIUS=500;X-TITLE=2150 Main St.:geo:-72.7798479,44.1926386
END:VEVENT
END:VCALENDAR