BEGIN:VCALENDAR
VERSION:2.0
PRODID:-//The Mad River Valley Village - ECPv6.0.13//NONSGML v1.0//EN
CALSCALE:GREGORIAN
METHOD:PUBLISH
X-WR-CALNAME:The Mad River Valley Village
X-ORIGINAL-URL:https://mrvvillage.com
X-WR-CALDESC:Events for The Mad River Valley Village
REFRESH-INTERVAL;VALUE=DURATION:PT1H
X-Robots-Tag:noindex
X-PUBLISHED-TTL:PT1H
BEGIN:VTIMEZONE
TZID:America/New_York
BEGIN:DAYLIGHT
TZOFFSETFROM:-0500
TZOFFSETTO:-0400
TZNAME:EDT
DTSTART:20250309T070000
END:DAYLIGHT
BEGIN:STANDARD
TZOFFSETFROM:-0400
TZOFFSETTO:-0500
TZNAME:EST
DTSTART:20251102T060000
END:STANDARD
END:VTIMEZONE
BEGIN:VEVENT
DTSTART;TZID=America/New_York:20251103T150000
DTEND;TZID=America/New_York:20251103T163000
DTSTAMP:20260422T230148
CREATED:20250805T125813Z
LAST-MODIFIED:20251103T173824Z
UID:10008806-1762182000-1762187400@mrvvillage.com
SUMMARY:Fall Art Class at Inklings\, Grades 4 – 6
DESCRIPTION:Mondays from 3:00 – 4:30pm. Starts October 20th. \nBeginning October 20th\, 4th – 6th graders will begin a six week course. Focusing on three different artists\, students will have the chance to explore\, in depth\, three very different types of creating – from 2 dimensional to three dimensional art. \nStudents will receive a book about each artist. The perfect way to expand your child’s creativity!! \nSIGN UP using the EVENT LINK
URL:https://mrvvillage.com/event/fall-art-class-at-inklings-grades-4-6-3/
LOCATION:Inklings Children’s Books\, 106 Mad River Greeen\, Waitsfield\, VT\, 05673\, United States
CATEGORIES:Arts & Entertainment,Family Friendly
ATTACH;FMTTYPE=image/jpeg:https://mrvvillage.com/wp-content/uploads/2025/07/Fall-Art-Class-Flyer-4-thru-6-MRV-89RkSP.jpg
ORGANIZER;CN="Inklings%20Children%26%238217%3Bs%20Books":MAILTO:inklingschildrensbooks@gmail.com
GEO:44.1844899;-72.839037
X-APPLE-STRUCTURED-LOCATION;VALUE=URI;X-ADDRESS=Inklings Children’s Books 106 Mad River Greeen Waitsfield VT 05673 United States;X-APPLE-RADIUS=500;X-TITLE=106 Mad River Greeen:geo:-72.839037,44.1844899
END:VEVENT
BEGIN:VEVENT
DTSTART;TZID=America/New_York:20251105T173000
DTEND;TZID=America/New_York:20251105T200000
DTSTAMP:20260422T230148
CREATED:20251021T072408Z
LAST-MODIFIED:20251105T180818Z
UID:10009127-1762363800-1762372800@mrvvillage.com
SUMMARY:Screening of Gone Guys Documentary
DESCRIPTION:Join Mad River Mentoring and Hannah’s House on Wednesday\, November 5th at the Big Picture Theater for a screening of the documentary Gone Guys. There will be a panel discussion following the film. 6-8p\, doors open at 5:30. \nBoys and young men are facing a growing crisis—falling behind in school\, disengaging from work\, and struggling with isolation\, substance use\, and mental health challenges. \nThis powerful 45-minute film brings Richard V. Reeves’ groundbreaking research to life through real stories\, compelling data\, and hopeful solutions. Set in rural Vermont\, Gone Guys features young men\, educators\, and mentors working to re-engage boys and reshape futures. \nIt’s not a zero-sum issue—caring about boys doesn’t mean caring less about girls (or gender diverse youth). It means making room for everyone to thrive. \nTickets By Donation\, Online or At the Door\nTO RESERVE YOUR TICKET: https://www.sevendaystickets.com/e/gone-guys-film-waitsfield \nContent advisory: This film includes references to substance use\, suicide\, and mental health struggles. \nMore information & to WATCH THE TRAILER visit: www.GoneGuysFilm.com \n-Waitsfield Screening Co-Hosted by: Mad River Mentoring & Hannah’s House\n-Waitsfield Screening Sponsored by: Lawson’s Finest Liquids\n-Waitsfield Media Sponsors: Vermont Public
URL:https://mrvvillage.com/event/screening-of-gone-guys-documentary/
LOCATION:Big Picture Theater\, 44 Carroll Road\, Waitsfield\, 05673
CATEGORIES:Arts & Entertainment,Community
ATTACH;FMTTYPE=image/jpeg:https://mrvvillage.com/wp-content/uploads/2025/10/Waitsfield_Nov-5_Poster_v2-BdiH1k.jpg
ORGANIZER;CN="Mad%20River%20Mentoring":MAILTO:info@madrivermentoring.org
GEO:44.1874779;-72.8335286
X-APPLE-STRUCTURED-LOCATION;VALUE=URI;X-ADDRESS=Big Picture Theater 44 Carroll Road Waitsfield 05673;X-APPLE-RADIUS=500;X-TITLE=44 Carroll Road:geo:-72.8335286,44.1874779
END:VEVENT
BEGIN:VEVENT
DTSTART;TZID=America/New_York:20251106T130000
DTEND;TZID=America/New_York:20251213T170000
DTSTAMP:20260422T230148
CREATED:20251011T141020Z
LAST-MODIFIED:20251106T180824Z
UID:10009104-1762434000-1765645200@mrvvillage.com
SUMMARY:Along the River’s Way
DESCRIPTION:This is a first time collaboration between Mad Arts\, Mad River Valley TV and journalist Tracy Brannstrom. \n“Along the River’s Way” is a storytelling project that formed as the ‘Mad Artist Residency\, 2024. This project documents the creative practices of various elder artists in the Mad River Valley. It culminates into an immersive multimedia exhibition of sound\, story-telling and visual projections during November and ends on December 13th. The art of storytelling is a fundamental aspect of human communication and has been an integral part of our cultural heritage for centuries. Today our communities are in crisis. The arts can restore this large feeling of social and moral decline in America and our Elder creatives can lead the way to facilitate social cohesion and belonging for everyone in the community. Special thanks to our presenting sponsor The Bee App and Lawson’s Finest Liquids in Waitsfield. \nReception: November 6\, 2025\, 5:30- 7 pm. \nArtist: Gary Eckhart\, Julia Purinton and George Shenk
URL:https://mrvvillage.com/event/along-the-rivers-way/
LOCATION:Mad River Valley Arts\, 5031 Main Street #2 Village Square\, Waitsfield\, 05673
CATEGORIES:Arts & Entertainment
ORGANIZER;CN="Mad%20River%20Valley%20Arts":MAILTO:director@madrivervalleyarts.org
GEO:44.1926386;-72.7798479
X-APPLE-STRUCTURED-LOCATION;VALUE=URI;X-ADDRESS=Mad River Valley Arts 5031 Main Street #2 Village Square Waitsfield 05673;X-APPLE-RADIUS=500;X-TITLE=5031 Main Street #2 Village Square:geo:-72.7798479,44.1926386
END:VEVENT
BEGIN:VEVENT
DTSTART;TZID=America/New_York:20251106T150000
DTEND;TZID=America/New_York:20251106T163000
DTSTAMP:20260422T230148
CREATED:20250808T134312Z
LAST-MODIFIED:20251106T180824Z
UID:10008822-1762441200-1762446600@mrvvillage.com
SUMMARY:Fall Art Class at Inklings\, Grades K – 3
DESCRIPTION:Thursdays from 3:00 – 4:30pm. Starts October 16th. \nEXPLORE PAINTING\, SCULPTURE\, & WORK WITH RECYCLED MATERIALS. Starting October 16th\, your young artists will begin a six week course. Each week children will receive their own book based on a featured artist. \nFollowing a read aloud\, children will jump into an art project based on the artist’s work. A perfect introduction to the wider world of creativity!! \nSIGN UP using the EVENT LINK
URL:https://mrvvillage.com/event/fall-art-class-at-inklings-grades-k-3-4/
LOCATION:Inklings Children’s Books\, 106 Mad River Greeen\, Waitsfield\, VT\, 05673\, United States
CATEGORIES:Arts & Entertainment,Family Friendly
ATTACH;FMTTYPE=image/jpeg:https://mrvvillage.com/wp-content/uploads/2025/07/Fall-Art-Class-Flyer-K-thru-3-MRV-JAvzdc.jpg
ORGANIZER;CN="Inklings%20Children%26%238217%3Bs%20Books":MAILTO:inklingschildrensbooks@gmail.com
GEO:44.1844899;-72.839037
X-APPLE-STRUCTURED-LOCATION;VALUE=URI;X-ADDRESS=Inklings Children’s Books 106 Mad River Greeen Waitsfield VT 05673 United States;X-APPLE-RADIUS=500;X-TITLE=106 Mad River Greeen:geo:-72.839037,44.1844899
END:VEVENT
BEGIN:VEVENT
DTSTART;TZID=America/New_York:20251108T100000
DTEND;TZID=America/New_York:20251108T140000
DTSTAMP:20260422T230148
CREATED:20250907T011154Z
LAST-MODIFIED:20251108T182323Z
UID:10008970-1762596000-1762610400@mrvvillage.com
SUMMARY:Once Upon a Story – A Fairy Tale Event
DESCRIPTION:Once Upon a Story returns this November in the Mad River Valley! \nVermont Literacy Network is thrilled to partner once again with Inklings Children’s Books to bring back their beloved immersive fairy tale event at the Big Picture Theater in Waitsfield. \nWatch your child’s face light up as they meet characters like Goldilocks\, the Three Little Pigs\, and Little Red Riding Hood! Led by community favorite organizations\, kids can dive into interactive\, hands-on activities inspired by timeless fairy tales. \nGrab your tickets early and save 20%! \nSaturday\, November 8\, 2025 | 10:00-2:00PM | Big Picture Theater\, Waitsfield
URL:https://mrvvillage.com/event/once-upon-a-story-a-fairy-tale-event/
LOCATION:Big Picture Theater\, 44 Carroll Road\, Waitsfield\, 05673
CATEGORIES:Arts & Entertainment,Family Friendly
ATTACH;FMTTYPE=image/jpeg:https://mrvvillage.com/wp-content/uploads/2025/09/OnceUponAStory-MRV-GlDBR1.jpg
ORGANIZER;CN="Inklings%20Children%26%238217%3Bs%20Books":MAILTO:inklingschildrensbooks@gmail.com
GEO:44.1874779;-72.8335286
X-APPLE-STRUCTURED-LOCATION;VALUE=URI;X-ADDRESS=Big Picture Theater 44 Carroll Road Waitsfield 05673;X-APPLE-RADIUS=500;X-TITLE=44 Carroll Road:geo:-72.8335286,44.1874779
END:VEVENT
BEGIN:VEVENT
DTSTART;TZID=America/New_York:20251108T100000
DTEND;TZID=America/New_York:20251108T140000
DTSTAMP:20260422T230148
CREATED:20251103T173840Z
LAST-MODIFIED:20251108T182324Z
UID:10009203-1762596000-1762610400@mrvvillage.com
SUMMARY:Once Upon a Story\, Hosted by Vermont Literacy Network and Inkling Bookstore
DESCRIPTION:November 8th @ 10am-2pm Watch your child’s face light up as they meet characters like Goldilocks\, the Three Little Pigs\, and Little Red Riding Hood! Led by community favorite organizations\, kids can dive into interactive\, hands-on activities inspired by timeless fairy tales.Time & Location \nNov 08\, 2025\, 10:00 AM – 2:00 PM\nWaitsfield\, 48 Carroll Rd\, Waitsfield\, VT 05673\, USA\nAbout the event \nOnce Upon a Story returns this November in the Mad River Valley! \nVermont Literacy Network is thrilled to partner once again with Inklings Children’s Books to bring back their beloved immersive fairy tale event at the Big Picture Theater in Waitsfield. \nWatch your child’s face light up as they meet characters like Goldilocks\, the Three Little Pigs\, and Little Red Riding Hood! Led by community favorite organizations\, kids can dive into interactive\, hands-on activities inspired by timeless fairy tales. \nGrab your tickets early and save 20%! LINKto tickets \nSaturday\, November 8\, 2025 | 10:00-2:00 PM | Big Picture Theater\, Waitsfield
URL:https://mrvvillage.com/event/once-upon-a-story-hosted-by-vermont-literacy-network-and-inkling-bookstore/
LOCATION:Big Picture Theater\, 44 Carroll Road\, Waitsfield\, 05673
CATEGORIES:Arts & Entertainment,Family Friendly
ATTACH;FMTTYPE=image/png:https://mrvvillage.com/wp-content/uploads/2025/11/Screenshot-2025-11-02-at-9.46.38-PM-rl6mkw.png
ORGANIZER;CN="Big%20Picture%20Theater":MAILTO:beths@madriver.com
GEO:44.1874779;-72.8335286
X-APPLE-STRUCTURED-LOCATION;VALUE=URI;X-ADDRESS=Big Picture Theater 44 Carroll Road Waitsfield 05673;X-APPLE-RADIUS=500;X-TITLE=44 Carroll Road:geo:-72.8335286,44.1874779
END:VEVENT
BEGIN:VEVENT
DTSTART;TZID=America/New_York:20251108T150000
DTEND;TZID=America/New_York:20251108T220000
DTSTAMP:20260422T230148
CREATED:20251105T093832Z
LAST-MODIFIED:20251108T182324Z
UID:10009213-1762614000-1762639200@mrvvillage.com
SUMMARY:Mountainfilm on Tour
DESCRIPTION:Neck of the Woods Childcare and Early Education Center is pleased to bring the Mountainfilm on Tour to the Big Picture in Waitsfield on Saturday\, November 8. There will be a matinee\, starting at 3:00 PM (doors at 2:30)\, and an evening show at 7:00 pm (doors at 5:30pm)\nTime & Location \nNov 08\, 2025\, 3:00 PM\nWaitsfield\, 48 Carroll Rd\, Waitsfield\, VT 05673\, USA\nAbout the event \nMountainfilm on Tour: November 8\, 2025 at the Big Picture\nNeck of the Woods Childcare and Early Education Center is pleased to bring the Mountainfilm on Tour to the Big Picture in Waitsfield on Saturday\, November 8. There will be a matinee\, starting at 3:00 PM (doors at 2:30)\, and an evening show at 7:00 pm (doors at 5:30pm). Tickets are $20 for general admission\, $15 for children age 12 and under\, and kids under the age of 5 are free. There will be a silent auction and raffle as well\, with items including a 2025/2026 Mad River Glen season pass with an electronic raffle available to all (even if not attending Mountainfilm\, use QR code on poster or visit https://neckwoods.betterworld.org/giveaways/mad-river-glen-ski-pass?)\, and numerous items and gift certificates from local businesses. This year’s event is sponsored by Alpine Options\, Mad River Glen\, Lawson’s Finest Liquids\, Clear Water Filtration\, Mehuron’s Supermarket\, Waitsfield Telecom\, Ward’s Mechanical\, and American Flatbread! \nThe event will show short documentary films selected from the Mountainfilm festival in Telluride\, Colorado. The films explore themes connected to Mountainfilm’s mission of using the power of film\, art and ideas to inspire audiences to create a better world. To learn more about Mountainfilm\, visit www.mountainfilm.org. \nMountainfilm on Tour is the major fundraiser for Neck of the Woods Childcare Center in Waitsfield. NOW’s non-profit mission is to provide strengths-based care\, play and learning to local children ages 6 weeks to 12 years of age to help guide their development as healthy\, positive\, and resilient members of the community. NOW also runs the after-school program at the Moretown Elementary School and the summer camp programs at Harwood. For more information about Neck of the Woods please go to www.neckofthewoodsvt.org. \nTickets are available at https://cur8.com/projects/2025MountainfilmNOW\, and via direct ticket links to desired showtimes: \nMatinee Show (3pm): https://cur8.com/schedule/item/39954/362143?event=133920&date=362143 \nEvening Show (7pm): https://cur8.com/schedule/item/39954/362142?event=133920&date=362142 \nWe need volunteers to help with the event and auction. To volunteer please email JB Weir at jbweir@neckofthewoodsvt.com\, or call at 802 363-2485.
URL:https://mrvvillage.com/event/mountainfilm-on-tour/
LOCATION:Big Picture Theater\, 44 Carroll Road\, Waitsfield\, 05673
CATEGORIES:Arts & Entertainment
ATTACH;FMTTYPE=image/png:https://mrvvillage.com/wp-content/uploads/2025/11/Screenshot-2025-11-04-at-2.24.03-PM-APV3m5.png
GEO:44.1874779;-72.8335286
X-APPLE-STRUCTURED-LOCATION;VALUE=URI;X-ADDRESS=Big Picture Theater 44 Carroll Road Waitsfield 05673;X-APPLE-RADIUS=500;X-TITLE=44 Carroll Road:geo:-72.8335286,44.1874779
END:VEVENT
BEGIN:VEVENT
DTSTART;TZID=America/New_York:20251108T203000
DTEND;TZID=America/New_York:20251109T000000
DTSTAMP:20260422T230148
CREATED:20251027T083908Z
LAST-MODIFIED:20251108T182324Z
UID:10009186-1762633800-1762646400@mrvvillage.com
SUMMARY:Running in Circles- Ozzy set at Afterthoughts
DESCRIPTION:Running in Circles honors the Prince of Darkness at Afterthoughts in Waitsfield\, VT. No cover. Doors at 8pm. \n1st Set- Running in Circles\n2nd Set- Ozzy Osborne Tribute
URL:https://mrvvillage.com/event/running-in-circles-ozzy-set-at-afterthoughts/
LOCATION:After Thoughts\, 8 VT 17\, Waitsfield\, Vermont\, 05673\, United States
CATEGORIES:Arts & Entertainment,Live Music
ORGANIZER;CN="afterthoughts":MAILTO:hello@afterthoughtsvt.com
GEO:44.181648;-72.8405231
X-APPLE-STRUCTURED-LOCATION;VALUE=URI;X-ADDRESS=After Thoughts 8 VT 17 Waitsfield Vermont 05673 United States;X-APPLE-RADIUS=500;X-TITLE=8 VT 17:geo:-72.8405231,44.181648
END:VEVENT
BEGIN:VEVENT
DTSTART;TZID=America/New_York:20251109T190000
DTEND;TZID=America/New_York:20251109T230000
DTSTAMP:20260422T230148
CREATED:20251024T153923Z
LAST-MODIFIED:20251109T182324Z
UID:10009169-1762714800-1762729200@mrvvillage.com
SUMMARY:Buffalo Rose at Zen Barn
DESCRIPTION:🎶 Buffalo Rose with Borrow the Bones at Zenbarn🎶 \nDoors: 6:00 PM\nShowtime: 7:00 PM \nWe’re proud to partner with Mustard Tiger to bring you creative comfort foods at every Zenbarn show! Come early for dinner—served starting when doors open—and fuel up before the music begins. \n🌟 About the Artist: \nBuffalo Rose is a singularly spectacular six-piece band from Pittsburgh\, PA. Overflowing with the bold and unfettered joy of their inimitable blend of “Theatre Kid Americana\,” a Buffalo Rose show is a celebration of creative wonder; a sparkling sonic delight. Their live show is where their energy fully shines\, and songwriting is their lodestar. The band’s recorded catalog is full of vibrantly emotive and methodically arranged songs\, sure to thrill the mind and charm the heart. \n🏡 About the Venue: \nZenbarn is a one-of-a-kind venue presenting amazing music in an intimate barn setting. Shows are indoors and typically standing room unless otherwise noted. Limited seating is available for non-seated shows\, with plenty of space inside and out to take a breather\, spread out\, or find a place to rest. \nWe welcome all—Zenbarn is a community hub where people come together to enjoy great music and great company. Come experience the Zen of Zenbarn solo\, with friends\, or with family. All ages are welcome unless otherwise noted in event details. \n👉 Grab your tickets early at zenbarnvt.com before they’re gone!
URL:https://mrvvillage.com/event/buffalo-rose-at-zen-barn/
LOCATION:Zenbarn\, 179 Guptil Rd\, Waterbury\, Vermont\, 05677\, United States
CATEGORIES:Arts & Entertainment,Food & Drink,Live Music
ORGANIZER;CN="Buffalo%20Rose":MAILTO:buffalorosemusic@gmail.com
GEO:44.3552237;-72.7319012
X-APPLE-STRUCTURED-LOCATION;VALUE=URI;X-ADDRESS=Zenbarn 179 Guptil Rd Waterbury Vermont 05677 United States;X-APPLE-RADIUS=500;X-TITLE=179 Guptil Rd:geo:-72.7319012,44.3552237
END:VEVENT
END:VCALENDAR