BEGIN:VCALENDAR
VERSION:2.0
PRODID:-//The Mad River Valley Village - ECPv6.0.13//NONSGML v1.0//EN
CALSCALE:GREGORIAN
METHOD:PUBLISH
X-ORIGINAL-URL:https://mrvvillage.com
X-WR-CALDESC:Events for The Mad River Valley Village
REFRESH-INTERVAL;VALUE=DURATION:PT1H
X-Robots-Tag:noindex
X-PUBLISHED-TTL:PT1H
BEGIN:VTIMEZONE
TZID:America/New_York
BEGIN:DAYLIGHT
TZOFFSETFROM:-0500
TZOFFSETTO:-0400
TZNAME:EDT
DTSTART:20250309T070000
END:DAYLIGHT
BEGIN:STANDARD
TZOFFSETFROM:-0400
TZOFFSETTO:-0500
TZNAME:EST
DTSTART:20251102T060000
END:STANDARD
END:VTIMEZONE
BEGIN:VEVENT
DTSTART;TZID=America/New_York:20251106T130000
DTEND;TZID=America/New_York:20251213T170000
DTSTAMP:20260423T004552
CREATED:20251011T141020Z
LAST-MODIFIED:20251106T180824Z
UID:10009104-1762434000-1765645200@mrvvillage.com
SUMMARY:Along the River’s Way
DESCRIPTION:This is a first time collaboration between Mad Arts\, Mad River Valley TV and journalist Tracy Brannstrom. \n“Along the River’s Way” is a storytelling project that formed as the ‘Mad Artist Residency\, 2024. This project documents the creative practices of various elder artists in the Mad River Valley. It culminates into an immersive multimedia exhibition of sound\, story-telling and visual projections during November and ends on December 13th. The art of storytelling is a fundamental aspect of human communication and has been an integral part of our cultural heritage for centuries. Today our communities are in crisis. The arts can restore this large feeling of social and moral decline in America and our Elder creatives can lead the way to facilitate social cohesion and belonging for everyone in the community. Special thanks to our presenting sponsor The Bee App and Lawson’s Finest Liquids in Waitsfield. \nReception: November 6\, 2025\, 5:30- 7 pm. \nArtist: Gary Eckhart\, Julia Purinton and George Shenk
URL:https://mrvvillage.com/event/along-the-rivers-way/
LOCATION:Mad River Valley Arts\, 5031 Main Street #2 Village Square\, Waitsfield\, 05673
CATEGORIES:Arts & Entertainment
ORGANIZER;CN="Mad%20River%20Valley%20Arts":MAILTO:director@madrivervalleyarts.org
GEO:44.1926386;-72.7798479
X-APPLE-STRUCTURED-LOCATION;VALUE=URI;X-ADDRESS=Mad River Valley Arts 5031 Main Street #2 Village Square Waitsfield 05673;X-APPLE-RADIUS=500;X-TITLE=5031 Main Street #2 Village Square:geo:-72.7798479,44.1926386
END:VEVENT
BEGIN:VEVENT
DTSTART;TZID=America/New_York:20251124T150000
DTEND;TZID=America/New_York:20251124T163000
DTSTAMP:20260423T004553
CREATED:20250826T181230Z
LAST-MODIFIED:20251124T203828Z
UID:10008918-1763996400-1764001800@mrvvillage.com
SUMMARY:Fall Art Class at Inklings\, Grades 4 – 6
DESCRIPTION:Mondays from 3:00 – 4:30pm. Starts October 20th. \nBeginning October 20th\, 4th – 6th graders will begin a six week course. Focusing on three different artists\, students will have the chance to explore\, in depth\, three very different types of creating – from 2 dimensional to three dimensional art. \nStudents will receive a book about each artist. The perfect way to expand your child’s creativity!! \nSIGN UP using the EVENT LINK
URL:https://mrvvillage.com/event/fall-art-class-at-inklings-grades-4-6-6/
LOCATION:Inklings Children’s Books\, 106 Mad River Greeen\, Waitsfield\, VT\, 05673\, United States
CATEGORIES:Arts & Entertainment,Family Friendly
ATTACH;FMTTYPE=image/jpeg:https://mrvvillage.com/wp-content/uploads/2025/07/Fall-Art-Class-Flyer-4-thru-6-MRV-89RkSP.jpg
ORGANIZER;CN="Inklings%20Children%26%238217%3Bs%20Books":MAILTO:inklingschildrensbooks@gmail.com
GEO:44.1844899;-72.839037
X-APPLE-STRUCTURED-LOCATION;VALUE=URI;X-ADDRESS=Inklings Children’s Books 106 Mad River Greeen Waitsfield VT 05673 United States;X-APPLE-RADIUS=500;X-TITLE=106 Mad River Greeen:geo:-72.839037,44.1844899
END:VEVENT
BEGIN:VEVENT
DTSTART;TZID=America/New_York:20251130T180000
DTEND;TZID=America/New_York:20251130T200000
DTSTAMP:20260423T004553
CREATED:20251120T202433Z
LAST-MODIFIED:20251130T142325Z
UID:10009305-1764525600-1764532800@mrvvillage.com
SUMMARY:NOT YOUR GRANDMA’S BINGO NIGHT
DESCRIPTION:DJ T.RAD is back with another NOT YOUR GRANDMA’S BINGO on November 30th 6-8pm. \n$5/ card to play. \nBring in
URL:https://mrvvillage.com/event/not-your-grandmas-bingo-night-2/
LOCATION:afterthoughts\, 8 Vt Route 17 200\, Waitsfield\, Vermont\, 05673\, United States
CATEGORIES:Arts & Entertainment
ATTACH;FMTTYPE=image/png:https://mrvvillage.com/wp-content/uploads/2025/11/Screenshot-2025-11-20-102117-ZkprbV.png
ORGANIZER;CN="afterthoughts":MAILTO:hello@afterthoughtsvt.com
GEO:44.181648;-72.8405231
X-APPLE-STRUCTURED-LOCATION;VALUE=URI;X-ADDRESS=afterthoughts 8 Vt Route 17 200 Waitsfield Vermont 05673 United States;X-APPLE-RADIUS=500;X-TITLE=8 Vt Route 17 200:geo:-72.8405231,44.181648
END:VEVENT
END:VCALENDAR