BEGIN:VCALENDAR
VERSION:2.0
PRODID:-//The Mad River Valley Village - ECPv6.0.13//NONSGML v1.0//EN
CALSCALE:GREGORIAN
METHOD:PUBLISH
X-ORIGINAL-URL:https://mrvvillage.com
X-WR-CALDESC:Events for The Mad River Valley Village
REFRESH-INTERVAL;VALUE=DURATION:PT1H
X-Robots-Tag:noindex
X-PUBLISHED-TTL:PT1H
BEGIN:VTIMEZONE
TZID:America/New_York
BEGIN:DAYLIGHT
TZOFFSETFROM:-0500
TZOFFSETTO:-0400
TZNAME:EDT
DTSTART:20250309T070000
END:DAYLIGHT
BEGIN:STANDARD
TZOFFSETFROM:-0400
TZOFFSETTO:-0500
TZNAME:EST
DTSTART:20251102T060000
END:STANDARD
END:VTIMEZONE
BEGIN:VEVENT
DTSTART;TZID=America/New_York:20251222T130000
DTEND;TZID=America/New_York:20251222T170000
DTSTAMP:20260423T075129
CREATED:20251214T165420Z
LAST-MODIFIED:20251222T183829Z
UID:10009471-1766408400-1766422800@mrvvillage.com
SUMMARY:Exhibition Members Art Expo + Mad Arts Holiday Party
DESCRIPTION:Stop in to our Exhibition Members Art Expo + Mad Arts Holiday Party! \nExhibition is up December 16-23\, with our holiday party on Dec. 18th 5:30-7pm. Food from Fifth Quarter Butcher + Provisions and wine will be provided. \nThis is a chance to mingle with art lovers\, shop at our first Art & Design shop\, buy gift certificates to our Garden Tours\, Pasta Dinner and Farm to Table in 2026\, along with membership sign-ups.
URL:https://mrvvillage.com/event/exhibition-members-art-expo-mad-arts-holiday-party-7/
LOCATION:Mad River Valley Arts\, 5031 Main Street #2 Village Square\, Waitsfield\, 05673
CATEGORIES:Arts & Entertainment
ATTACH;FMTTYPE=image/png:https://mrvvillage.com/wp-content/uploads/2025/12/holiday-arts-card-copy-V3gPe6.png
ORGANIZER;CN="Mad%20River%20ValleyArts":MAILTO:info@madrivervalleyarts.org
GEO:44.1926386;-72.7798479
X-APPLE-STRUCTURED-LOCATION;VALUE=URI;X-ADDRESS=Mad River Valley Arts 5031 Main Street #2 Village Square Waitsfield 05673;X-APPLE-RADIUS=500;X-TITLE=5031 Main Street #2 Village Square:geo:-72.7798479,44.1926386
END:VEVENT
BEGIN:VEVENT
DTSTART;TZID=America/New_York:20251223T130000
DTEND;TZID=America/New_York:20251223T170000
DTSTAMP:20260423T075129
CREATED:20251214T165420Z
LAST-MODIFIED:20251223T185332Z
UID:10009472-1766494800-1766509200@mrvvillage.com
SUMMARY:Exhibition Members Art Expo + Mad Arts Holiday Party
DESCRIPTION:Stop in to our Exhibition Members Art Expo + Mad Arts Holiday Party! \nExhibition is up December 16-23\, with our holiday party on Dec. 18th 5:30-7pm. Food from Fifth Quarter Butcher + Provisions and wine will be provided. \nThis is a chance to mingle with art lovers\, shop at our first Art & Design shop\, buy gift certificates to our Garden Tours\, Pasta Dinner and Farm to Table in 2026\, along with membership sign-ups.
URL:https://mrvvillage.com/event/exhibition-members-art-expo-mad-arts-holiday-party-8/
LOCATION:Mad River Valley Arts\, 5031 Main Street #2 Village Square\, Waitsfield\, 05673
CATEGORIES:Arts & Entertainment
ATTACH;FMTTYPE=image/png:https://mrvvillage.com/wp-content/uploads/2025/12/holiday-arts-card-copy-V3gPe6.png
ORGANIZER;CN="Mad%20River%20ValleyArts":MAILTO:info@madrivervalleyarts.org
GEO:44.1926386;-72.7798479
X-APPLE-STRUCTURED-LOCATION;VALUE=URI;X-ADDRESS=Mad River Valley Arts 5031 Main Street #2 Village Square Waitsfield 05673;X-APPLE-RADIUS=500;X-TITLE=5031 Main Street #2 Village Square:geo:-72.7798479,44.1926386
END:VEVENT
BEGIN:VEVENT
DTSTART;TZID=America/New_York:20251223T160000
DTEND;TZID=America/New_York:20251223T200000
DTSTAMP:20260423T075129
CREATED:20251121T202600Z
LAST-MODIFIED:20251223T185332Z
UID:10009327-1766505600-1766520000@mrvvillage.com
SUMMARY:Missing Pieces – East Coast Premier
DESCRIPTION:Imagine community arts night meets supper club. That is the energy we are capturing at this event. Come share a meal with friends and neighbors\, browse art by local artists and students\, and then end the evening with the first East Coast screening of the movie Missing Pieces\, written and directed by the Valley’s own Cameron Andrews.\nCameron and the Missing Pieces cast and crew have been screening the movie at film festivals\, having won Best Director and Best Actress in a feature at North Hollywood Cinefest. Cameron wanted this event to be about community and sharing the importance of supporting the Arts\, especially in our young people. \nFeel free to join us for dinner and art browsing\, or you can also drop in for the movie at 7pm.   Admission will be by donation\, and all money will go to the Big Pic.\nIf you would like to join us you can sign up for the potluck here:https://bit.ly/BigPicPotluck\n\nCam’s vision:\nMissing Pieces has always been a community affair\, from the crowdfunding that made it possible to the time donated by its cast and crew in order to get it made. I hope to keep this spirit going through every screening. The Valley is where I first learned what community meant\, and I have carried the Valley with me through every phase of my life. With this event I’d like to not only screen my film for my hometown\, but actively involve the community as well. Support from family\, friends\, and teachers is what initially gave me the belief in myself to pursue art as a career. Now\, bringing this project of mine home\, I’d love to offer space to local artists\, especially Harwood students\, whether painters\, poets\, or even filmmakers\, to showcase their art ahead of our showing. And nothing says family like a home cooked meal. I’d love to host a community potluck before the screening in tandem with the local artists’ display to allow the community to gather\, hang out\, and enjoy some local art before the screening. I see it as an arts-focused supper club\, with our film as the centerpiece. I believe that the future of art\, and film specifically lies not in seeing it only as a finished product to be consumed\, but as a process which has been undertaken by the artists who made it. I want to celebrate that process and the joy of creating with the people who have helped me cultivate that joy.\nCheck out the Trailer 
URL:https://mrvvillage.com/event/missing-pieces-east-coast-premier/
LOCATION:Big Picture Theater\, 44 Carroll Road\, Waitsfield\, 05673
CATEGORIES:Arts & Entertainment
ATTACH;FMTTYPE=image/png:https://mrvvillage.com/wp-content/uploads/2025/11/Screenshot-2025-11-21-at-2.35.00-PM-BEwobl.png
ORGANIZER;CN="Big%20Picture%20Theater":MAILTO:beths@madriver.com
GEO:44.1874779;-72.8335286
X-APPLE-STRUCTURED-LOCATION;VALUE=URI;X-ADDRESS=Big Picture Theater 44 Carroll Road Waitsfield 05673;X-APPLE-RADIUS=500;X-TITLE=44 Carroll Road:geo:-72.8335286,44.1874779
END:VEVENT
BEGIN:VEVENT
DTSTART;TZID=America/New_York:20251228T180000
DTEND;TZID=America/New_York:20251228T200000
DTSTAMP:20260423T075129
CREATED:20251120T202611Z
LAST-MODIFIED:20251228T200828Z
UID:10009308-1766944800-1766952000@mrvvillage.com
SUMMARY:LINE DANCING: BOOTS & BURGERS w/Jenna from GOOD TIME LINE DANCING
DESCRIPTION:Line Dancing at Afterthoughts will continue through the winter with Jenna from Good Time Line Dancing! \nShe’ll be here on the 2nd and fourth Sunday’s (weather permitting) of the month to get down and dirty on the dance floor with some new moves and classic line dances for you. \n$10 to participate. Dust off those boots and let’s boogie.
URL:https://mrvvillage.com/event/line-dancing-boots-burgers-w-jenna-from-good-time-line-dancing-3/
LOCATION:afterthoughts\, 8 Vt Route 17 200\, Waitsfield\, Vermont\, 05673\, United States
CATEGORIES:Arts & Entertainment
ATTACH;FMTTYPE=image/png:https://mrvvillage.com/wp-content/uploads/2025/11/Screenshot-2025-11-20-095103-y10HaF.png
ORGANIZER;CN="afterthoughts":MAILTO:hello@afterthoughtsvt.com
GEO:44.181648;-72.8405231
X-APPLE-STRUCTURED-LOCATION;VALUE=URI;X-ADDRESS=afterthoughts 8 Vt Route 17 200 Waitsfield Vermont 05673 United States;X-APPLE-RADIUS=500;X-TITLE=8 Vt Route 17 200:geo:-72.8405231,44.181648
END:VEVENT
END:VCALENDAR