BEGIN:VCALENDAR
VERSION:2.0
PRODID:-//The Mad River Valley Village - ECPv6.0.13//NONSGML v1.0//EN
CALSCALE:GREGORIAN
METHOD:PUBLISH
X-WR-CALNAME:The Mad River Valley Village
X-ORIGINAL-URL:https://mrvvillage.com
X-WR-CALDESC:Events for The Mad River Valley Village
REFRESH-INTERVAL;VALUE=DURATION:PT1H
X-Robots-Tag:noindex
X-PUBLISHED-TTL:PT1H
BEGIN:VTIMEZONE
TZID:America/New_York
BEGIN:DAYLIGHT
TZOFFSETFROM:-0500
TZOFFSETTO:-0400
TZNAME:EDT
DTSTART:20250309T070000
END:DAYLIGHT
BEGIN:STANDARD
TZOFFSETFROM:-0400
TZOFFSETTO:-0500
TZNAME:EST
DTSTART:20251102T060000
END:STANDARD
END:VTIMEZONE
BEGIN:VEVENT
DTSTART;TZID=America/New_York:20251230T100000
DTEND;TZID=America/New_York:20251230T110000
DTSTAMP:20260422T162842
CREATED:20251227T195343Z
LAST-MODIFIED:20251230T203834Z
UID:10009567-1767088800-1767092400@mrvvillage.com
SUMMARY:New Year’s Eve Eve\, Toddler Time Art Class at Inklings!
DESCRIPTION:It’s a New Year’s Eve Eve Toddler Time Art Class at Inklings Children’s Books! Tuesday\, Dec. 30th\, from 10am – 11am. \nCaregivers and their little ones are invited to join the fun as we get ready for ringing in 2026! \nActivities will include “fireworks” painting\, mask making\, and crafting New Year lanterns. \nRegister using the EVENT LINK\nRec. Ages: 18mo – 4yrs.\nPrice: $15
URL:https://mrvvillage.com/event/new-years-eve-eve-toddler-time-art-class-at-inklings/
LOCATION:Inklings Children’s Books\, 106 Mad River Greeen\, Waitsfield\, VT\, 05673\, United States
CATEGORIES:Arts & Entertainment,Family Friendly
ATTACH;FMTTYPE=image/jpeg:https://mrvvillage.com/wp-content/uploads/2025/12/ToddlerTimeNYEartClass-MRV-JVmZyS.jpg
ORGANIZER;CN="Inklings%20Children%26%238217%3Bs%20Books":MAILTO:inklingschildrensbooks@gmail.com
GEO:44.1844899;-72.839037
X-APPLE-STRUCTURED-LOCATION;VALUE=URI;X-ADDRESS=Inklings Children’s Books 106 Mad River Greeen Waitsfield VT 05673 United States;X-APPLE-RADIUS=500;X-TITLE=106 Mad River Greeen:geo:-72.839037,44.1844899
END:VEVENT
BEGIN:VEVENT
DTSTART;TZID=America/New_York:20251231T130000
DTEND;TZID=America/New_York:20251231T193000
DTSTAMP:20260422T162842
CREATED:20251126T135545Z
LAST-MODIFIED:20251231T205329Z
UID:10009345-1767186000-1767209400@mrvvillage.com
SUMMARY:The Beat Goes On!!  New Year’s Eve Celebration
DESCRIPTION:The Beat Goes On!! Shidaa Projects and Lost Nation Theater’s third annual New Year’s Eve Celebration! A full day of festive celebration of drumming\, dancing\, music\, and theater that’s fun for the whole family! Events at 1pm\, 3pm & 6pm! Free! (Or By donation) Sponsored in part by Montpelier Alive! \nYouth Drumming Workshop at 1:00pm led by Samuel Maama Marquaye. Limited to 20 participants. Register ahead! Drop-ins welcome\, but will likely only be able watch/listen. \nMusical Showcase at 3:00pm with Christopher McWilliams\, Denise Ricker & Lotta Sutter. Reservations recommended. \nThe Main Event: at 6:00pm THE BEAT GOES ON! takes the stage\nA special performance by Shidaa Projects and Lost Nation Theater. Dancer/Drummer & Choreographer Samuel Maama Marquaye (from Ghana)\, Shidaa Artistic Director Jordan Mensah leads community drum and dance enthusiasts with Lost Nation Theater’s Kathleen Keenan\, Susan Reid\, and Kim Bent . Suggested donation of $15. Masks encouraged.. \nThe Flood made LNT/City Hall’s elevator inoperable\, requiring climbing stairs to attend in person. The play will be available digitally to make the show accessible to those unable to physically join us. Please\, call (802)229-0492 to discuss alternatives.
URL:https://mrvvillage.com/event/the-beat-goes-on-new-years-eve-celebration/
LOCATION:Lost Nation Theater\, 39 Main Street\, Montpelier\, 05602
CATEGORIES:Arts & Entertainment,Live Music
ATTACH;FMTTYPE=image/png:https://mrvvillage.com/wp-content/uploads/2025/11/2025-Web-Cover-The-Beat-Goes-On-logo-6.67-x-8-in.6b3cf3a4.31712343-JGULx8.png
ORGANIZER;CN="Lost%20Nation%20Theater":MAILTO:boxoffice@lostnationtheater.org
GEO:44.2591817;-72.5755222
X-APPLE-STRUCTURED-LOCATION;VALUE=URI;X-ADDRESS=Lost Nation Theater 39 Main Street Montpelier 05602;X-APPLE-RADIUS=500;X-TITLE=39 Main Street:geo:-72.5755222,44.2591817
END:VEVENT
END:VCALENDAR