BEGIN:VCALENDAR
VERSION:2.0
PRODID:-//The Mad River Valley Village - ECPv6.0.13//NONSGML v1.0//EN
CALSCALE:GREGORIAN
METHOD:PUBLISH
X-ORIGINAL-URL:https://mrvvillage.com
X-WR-CALDESC:Events for The Mad River Valley Village
REFRESH-INTERVAL;VALUE=DURATION:PT1H
X-Robots-Tag:noindex
X-PUBLISHED-TTL:PT1H
BEGIN:VTIMEZONE
TZID:America/New_York
BEGIN:DAYLIGHT
TZOFFSETFROM:-0500
TZOFFSETTO:-0400
TZNAME:EDT
DTSTART:20260308T070000
END:DAYLIGHT
BEGIN:STANDARD
TZOFFSETFROM:-0400
TZOFFSETTO:-0500
TZNAME:EST
DTSTART:20261101T060000
END:STANDARD
END:VTIMEZONE
BEGIN:VEVENT
DTSTART;TZID=America/New_York:20260224T130000
DTEND;TZID=America/New_York:20260224T170000
DTSTAMP:20260422T085351
CREATED:20251213T164201Z
LAST-MODIFIED:20260224T172341Z
UID:10009449-1771938000-1771952400@mrvvillage.com
SUMMARY:Zero Celsius
DESCRIPTION:ZERO CELSIUS takes place at Mad Arts and Sugarbush Resort\, and gathers artists who explore the textures\, tensions\, and transformations of winter. \nFrom the hush of frozen landscapes to the volatility of a warming climate\, the exhibition reflects on how the cold season shapes—and is reshaped by—human and environmental relationships. \nBringing together sculpture\, installation\, sound\, photography\, and digital media\, ZERO CELSIUS examines winter as material\, concept\, and metaphor: crystalline\, fleeting\, and ecologically vital. The exhibition invites visitors to consider the fragility of snow in a changing world\, to reconnect with winter’s wonder and silence\, and to share their own stories and memories of a season both timeless and increasingly imperiled.
URL:https://mrvvillage.com/event/zero-celsius-35/
LOCATION:Mad River Valley Arts\, 5031 Main Street #2 Village Square\, Waitsfield\, 05673
CATEGORIES:Arts & Entertainment
ATTACH;FMTTYPE=image/png:https://mrvvillage.com/wp-content/uploads/2025/12/Screenshot-2025-12-29-at-2.15.47-PM-wAnLAh.png
ORGANIZER;CN="Mad%20River%20ValleyArts":MAILTO:info@madrivervalleyarts.org
GEO:44.1926386;-72.7798479
X-APPLE-STRUCTURED-LOCATION;VALUE=URI;X-ADDRESS=Mad River Valley Arts 5031 Main Street #2 Village Square Waitsfield 05673;X-APPLE-RADIUS=500;X-TITLE=5031 Main Street #2 Village Square:geo:-72.7798479,44.1926386
END:VEVENT
BEGIN:VEVENT
DTSTART;TZID=America/New_York:20260225T130000
DTEND;TZID=America/New_York:20260225T170000
DTSTAMP:20260422T085351
CREATED:20251213T164201Z
LAST-MODIFIED:20260225T173838Z
UID:10009450-1772024400-1772038800@mrvvillage.com
SUMMARY:Zero Celsius
DESCRIPTION:ZERO CELSIUS takes place at Mad Arts and Sugarbush Resort\, and gathers artists who explore the textures\, tensions\, and transformations of winter. \nFrom the hush of frozen landscapes to the volatility of a warming climate\, the exhibition reflects on how the cold season shapes—and is reshaped by—human and environmental relationships. \nBringing together sculpture\, installation\, sound\, photography\, and digital media\, ZERO CELSIUS examines winter as material\, concept\, and metaphor: crystalline\, fleeting\, and ecologically vital. The exhibition invites visitors to consider the fragility of snow in a changing world\, to reconnect with winter’s wonder and silence\, and to share their own stories and memories of a season both timeless and increasingly imperiled.
URL:https://mrvvillage.com/event/zero-celsius-36/
LOCATION:Mad River Valley Arts\, 5031 Main Street #2 Village Square\, Waitsfield\, 05673
CATEGORIES:Arts & Entertainment
ATTACH;FMTTYPE=image/png:https://mrvvillage.com/wp-content/uploads/2025/12/Screenshot-2025-12-29-at-2.15.47-PM-wAnLAh.png
ORGANIZER;CN="Mad%20River%20ValleyArts":MAILTO:info@madrivervalleyarts.org
GEO:44.1926386;-72.7798479
X-APPLE-STRUCTURED-LOCATION;VALUE=URI;X-ADDRESS=Mad River Valley Arts 5031 Main Street #2 Village Square Waitsfield 05673;X-APPLE-RADIUS=500;X-TITLE=5031 Main Street #2 Village Square:geo:-72.7798479,44.1926386
END:VEVENT
BEGIN:VEVENT
DTSTART;TZID=America/New_York:20260225T181500
DTEND;TZID=America/New_York:20260225T201500
DTSTAMP:20260422T085351
CREATED:20260127T224209Z
LAST-MODIFIED:20260225T173838Z
UID:10009807-1772043300-1772050500@mrvvillage.com
SUMMARY:Life Drawing Wednesdays
DESCRIPTION:✍🏻 Life Drawing Wednesdays presented by The Valley Artists Guild \nThe very popular Wednesday Night Drawing Sessions will resume on Feb\, 4\, 2025. This is a self-directed session. No instruction or critiques are offered but conversations and sharing within the group are sure to inspire 😎 \nSubjects vary every two weeks: two weeks of Live Models\, two weeks of Still Life or equivalent. All media are welcome except\nphotography. \nWHEN\nEvery Wednesday Evening from 6:15 – 8:15 pm. Classes begin on Feb 4th. \nWHERE\nThe UCC Waitsfield Village Meeting House. Located in Historic Waitsfield Village across from the VG. Parking is in back. \nCOST\nThe cost is $15/visit. Cash only Please. \n#madrivervalley #vermontartist #livedrawing #madriverartists #vtlivedrawing \nPhoto / drawing courtesy Loida Alvarez (@Loida.art) — copyright 2026
URL:https://mrvvillage.com/event/life-drawing-wednesdays-4/
LOCATION:Waitsfield Church Village Meeting Room\, Route 100\, Waitsfield\, VT\, 05673
CATEGORIES:Arts & Entertainment
ATTACH;FMTTYPE=image/jpeg:https://mrvvillage.com/wp-content/uploads/2026/01/sketch-loida-alvarez-GUILD-web-T2l9NL.jpg
ORGANIZER;CN="Valley%20Artists%20Guild":MAILTO:info@valleyartistsguild.com
GEO:44.2017815;-72.8121321
X-APPLE-STRUCTURED-LOCATION;VALUE=URI;X-ADDRESS=Waitsfield Church Village Meeting Room Route 100 Waitsfield VT 05673;X-APPLE-RADIUS=500;X-TITLE=Route 100:geo:-72.8121321,44.2017815
END:VEVENT
BEGIN:VEVENT
DTSTART;TZID=America/New_York:20260226T130000
DTEND;TZID=America/New_York:20260226T170000
DTSTAMP:20260422T085351
CREATED:20251213T164201Z
LAST-MODIFIED:20260226T175341Z
UID:10009451-1772110800-1772125200@mrvvillage.com
SUMMARY:Zero Celsius
DESCRIPTION:ZERO CELSIUS takes place at Mad Arts and Sugarbush Resort\, and gathers artists who explore the textures\, tensions\, and transformations of winter. \nFrom the hush of frozen landscapes to the volatility of a warming climate\, the exhibition reflects on how the cold season shapes—and is reshaped by—human and environmental relationships. \nBringing together sculpture\, installation\, sound\, photography\, and digital media\, ZERO CELSIUS examines winter as material\, concept\, and metaphor: crystalline\, fleeting\, and ecologically vital. The exhibition invites visitors to consider the fragility of snow in a changing world\, to reconnect with winter’s wonder and silence\, and to share their own stories and memories of a season both timeless and increasingly imperiled.
URL:https://mrvvillage.com/event/zero-celsius-37/
LOCATION:Mad River Valley Arts\, 5031 Main Street #2 Village Square\, Waitsfield\, 05673
CATEGORIES:Arts & Entertainment
ATTACH;FMTTYPE=image/png:https://mrvvillage.com/wp-content/uploads/2025/12/Screenshot-2025-12-29-at-2.15.47-PM-wAnLAh.png
ORGANIZER;CN="Mad%20River%20ValleyArts":MAILTO:info@madrivervalleyarts.org
GEO:44.1926386;-72.7798479
X-APPLE-STRUCTURED-LOCATION;VALUE=URI;X-ADDRESS=Mad River Valley Arts 5031 Main Street #2 Village Square Waitsfield 05673;X-APPLE-RADIUS=500;X-TITLE=5031 Main Street #2 Village Square:geo:-72.7798479,44.1926386
END:VEVENT
BEGIN:VEVENT
DTSTART;TZID=America/New_York:20260227T130000
DTEND;TZID=America/New_York:20260227T170000
DTSTAMP:20260422T085351
CREATED:20251213T164215Z
LAST-MODIFIED:20260227T180840Z
UID:10009452-1772197200-1772211600@mrvvillage.com
SUMMARY:Zero Celsius
DESCRIPTION:ZERO CELSIUS takes place at Mad Arts and Sugarbush Resort\, and gathers artists who explore the textures\, tensions\, and transformations of winter. \nFrom the hush of frozen landscapes to the volatility of a warming climate\, the exhibition reflects on how the cold season shapes—and is reshaped by—human and environmental relationships. \nBringing together sculpture\, installation\, sound\, photography\, and digital media\, ZERO CELSIUS examines winter as material\, concept\, and metaphor: crystalline\, fleeting\, and ecologically vital. The exhibition invites visitors to consider the fragility of snow in a changing world\, to reconnect with winter’s wonder and silence\, and to share their own stories and memories of a season both timeless and increasingly imperiled.
URL:https://mrvvillage.com/event/zero-celsius-38/
LOCATION:Mad River Valley Arts\, 5031 Main Street #2 Village Square\, Waitsfield\, 05673
CATEGORIES:Arts & Entertainment
ATTACH;FMTTYPE=image/png:https://mrvvillage.com/wp-content/uploads/2025/12/Screenshot-2025-12-29-at-2.15.47-PM-wAnLAh.png
ORGANIZER;CN="Mad%20River%20ValleyArts":MAILTO:info@madrivervalleyarts.org
GEO:44.1926386;-72.7798479
X-APPLE-STRUCTURED-LOCATION;VALUE=URI;X-ADDRESS=Mad River Valley Arts 5031 Main Street #2 Village Square Waitsfield 05673;X-APPLE-RADIUS=500;X-TITLE=5031 Main Street #2 Village Square:geo:-72.7798479,44.1926386
END:VEVENT
BEGIN:VEVENT
DTSTART;TZID=America/New_York:20260227T180000
DTEND;TZID=America/New_York:20260227T200000
DTSTAMP:20260422T085351
CREATED:20260130T232715Z
LAST-MODIFIED:20260227T180840Z
UID:10009826-1772215200-1772222400@mrvvillage.com
SUMMARY:Feel the Wheel
DESCRIPTION:Here’s your chance to try your hand at the potter’s wheel! This workshop will be offered the last Friday of every month (most months). \nThis is a one time\, two hour introduction to learn the basics of wheel throwing. \nYou will be guided from a ball of clay to your first bowl or cup. Using a simple to understand process\, you will learn the foundational techniques needed to enjoy this meditative and somewhat magical craft. \nMost students will successfully throw at least 2 pots which will be fired and finished by us\, ready to pick up in approximately 3 weeks.
URL:https://mrvvillage.com/event/feel-the-wheel-2/
LOCATION:Blockhouse Studio\, 5031 Main Street\, Waitsfield\, VT\, 05673
CATEGORIES:Arts & Entertainment
ATTACH;FMTTYPE=image/jpeg:https://mrvvillage.com/wp-content/uploads/2026/01/FullSizeRender_VSCO-10-U3yE5t.jpg
GEO:44.1926386;-72.7798479
X-APPLE-STRUCTURED-LOCATION;VALUE=URI;X-ADDRESS=Blockhouse Studio 5031 Main Street Waitsfield VT 05673;X-APPLE-RADIUS=500;X-TITLE=5031 Main Street:geo:-72.7798479,44.1926386
END:VEVENT
BEGIN:VEVENT
DTSTART;TZID=America/New_York:20260227T190000
DTEND;TZID=America/New_York:20260228T190000
DTSTAMP:20260422T085351
CREATED:20260223T100900Z
LAST-MODIFIED:20260227T180840Z
UID:10009924-1772218800-1772305200@mrvvillage.com
SUMMARY:A Wrinkle In Time
DESCRIPTION:Alexa Kartschoke directs & choreographs the culminating project of LNT’s advanced intermediate dance-theater production intensive\, performed by LNT’s students ages 9-17! \nAll your favorite characters from Madeline L’Engle’s beloved classic are in this enchanting stage adaptation by Morgan Gould in 45 magical minutes. See how Misfit Meg\, Charles Wallace\, and Calvin\, aided in their quest by three celestial beings – Mrs What\, Mrs Which\, & Mrs Who – crusade across universes to free their dad from an evil cosmic entity. Their escapades unfold right in front of you through imaginative dance & acting\, fantastical lights & sound\, and more! The story soars! Explore the importance of trusting yourself and the power of true connection! A Wrinkle in Time is an intergalactic good versus evil coming of age adventure. \nCovid Safety Protocols: Masks are encouraged\, but not required. (LNT’s State of the Art Bio-Defense Air Purification “Synexis” System is also in service 24/7 keeping everyone as safe as possible.) \nMontpelier City Hall/LNT’s elevator is still out of commission due to the flood. Patrons using wheelchairs or walkers please call or email the box office for alternatives. 802-229-0492. info@lostnationtheater.org Thanks for your understanding.
URL:https://mrvvillage.com/event/a-wrinkle-in-time/
LOCATION:Lost Nation Theater\, 39 Main Street\, Montpelier\, 05602
CATEGORIES:Arts & Entertainment
ATTACH;FMTTYPE=image/png:https://mrvvillage.com/wp-content/uploads/2026/02/Wrinkle-in-Time-Web-Cover-6.67-x-8-in.ba3934ef.31712343-lJjhYI.png
ORGANIZER;CN="Lost%20Nation%20Theater":MAILTO:boxoffice@lostnationtheater.org
GEO:44.2591817;-72.5755222
X-APPLE-STRUCTURED-LOCATION;VALUE=URI;X-ADDRESS=Lost Nation Theater 39 Main Street Montpelier 05602;X-APPLE-RADIUS=500;X-TITLE=39 Main Street:geo:-72.5755222,44.2591817
END:VEVENT
BEGIN:VEVENT
DTSTART;TZID=America/New_York:20260228T130000
DTEND;TZID=America/New_York:20260228T160000
DTSTAMP:20260422T085351
CREATED:20260225T103908Z
LAST-MODIFIED:20260228T182331Z
UID:10009929-1772283600-1772294400@mrvvillage.com
SUMMARY:The Oil Paintings of Elizabeth Ryan Swartz
DESCRIPTION:Gallery open Saturday afternoon.\nOriginal oil paintings of natural landscapes\, seascapes\, rural buildings.
URL:https://mrvvillage.com/event/the-oil-paintings-of-elizabeth-ryan-swartz-2/
LOCATION:Waitsfield United Church of Christ Village Meeting House\, 4335 Main St\, Waitsfield\, VT\, 05673\, United States
CATEGORIES:Arts & Entertainment
ATTACH;FMTTYPE=image/png:https://mrvvillage.com/wp-content/uploads/2026/02/Screen-Shot-2026-02-10-at-10.20.25-AM2-b6Qw6s.png
ORGANIZER;CN="Waitsfield%20United%20Church%20of%20Christ":MAILTO:info@waitsfieldchurch.org
GEO:44.1904984;-72.8233656
X-APPLE-STRUCTURED-LOCATION;VALUE=URI;X-ADDRESS=Waitsfield United Church of Christ Village Meeting House 4335 Main St Waitsfield VT 05673 United States;X-APPLE-RADIUS=500;X-TITLE=4335 Main St:geo:-72.8233656,44.1904984
END:VEVENT
BEGIN:VEVENT
DTSTART;TZID=America/New_York:20260228T130000
DTEND;TZID=America/New_York:20260228T170000
DTSTAMP:20260422T085351
CREATED:20251213T164215Z
LAST-MODIFIED:20260228T182331Z
UID:10009453-1772283600-1772298000@mrvvillage.com
SUMMARY:Zero Celsius
DESCRIPTION:ZERO CELSIUS takes place at Mad Arts and Sugarbush Resort\, and gathers artists who explore the textures\, tensions\, and transformations of winter. \nFrom the hush of frozen landscapes to the volatility of a warming climate\, the exhibition reflects on how the cold season shapes—and is reshaped by—human and environmental relationships. \nBringing together sculpture\, installation\, sound\, photography\, and digital media\, ZERO CELSIUS examines winter as material\, concept\, and metaphor: crystalline\, fleeting\, and ecologically vital. The exhibition invites visitors to consider the fragility of snow in a changing world\, to reconnect with winter’s wonder and silence\, and to share their own stories and memories of a season both timeless and increasingly imperiled.
URL:https://mrvvillage.com/event/zero-celsius-39/
LOCATION:Mad River Valley Arts\, 5031 Main Street #2 Village Square\, Waitsfield\, 05673
CATEGORIES:Arts & Entertainment
ATTACH;FMTTYPE=image/png:https://mrvvillage.com/wp-content/uploads/2025/12/Screenshot-2025-12-29-at-2.15.47-PM-wAnLAh.png
ORGANIZER;CN="Mad%20River%20ValleyArts":MAILTO:info@madrivervalleyarts.org
GEO:44.1926386;-72.7798479
X-APPLE-STRUCTURED-LOCATION;VALUE=URI;X-ADDRESS=Mad River Valley Arts 5031 Main Street #2 Village Square Waitsfield 05673;X-APPLE-RADIUS=500;X-TITLE=5031 Main Street #2 Village Square:geo:-72.7798479,44.1926386
END:VEVENT
END:VCALENDAR