BEGIN:VCALENDAR
VERSION:2.0
PRODID:-//The Mad River Valley Village - ECPv6.0.13//NONSGML v1.0//EN
CALSCALE:GREGORIAN
METHOD:PUBLISH
X-WR-CALNAME:The Mad River Valley Village
X-ORIGINAL-URL:https://mrvvillage.com
X-WR-CALDESC:Events for The Mad River Valley Village
REFRESH-INTERVAL;VALUE=DURATION:PT1H
X-Robots-Tag:noindex
X-PUBLISHED-TTL:PT1H
BEGIN:VTIMEZONE
TZID:America/New_York
BEGIN:DAYLIGHT
TZOFFSETFROM:-0500
TZOFFSETTO:-0400
TZNAME:EDT
DTSTART:20260308T070000
END:DAYLIGHT
BEGIN:STANDARD
TZOFFSETFROM:-0400
TZOFFSETTO:-0500
TZNAME:EST
DTSTART:20261101T060000
END:STANDARD
END:VTIMEZONE
BEGIN:VEVENT
DTSTART;TZID=America/New_York:20260303T130000
DTEND;TZID=America/New_York:20260303T170000
DTSTAMP:20260422T070544
CREATED:20251213T164216Z
LAST-MODIFIED:20260303T190834Z
UID:10009454-1772542800-1772557200@mrvvillage.com
SUMMARY:Zero Celsius
DESCRIPTION:ZERO CELSIUS takes place at Mad Arts and Sugarbush Resort\, and gathers artists who explore the textures\, tensions\, and transformations of winter. \nFrom the hush of frozen landscapes to the volatility of a warming climate\, the exhibition reflects on how the cold season shapes—and is reshaped by—human and environmental relationships. \nBringing together sculpture\, installation\, sound\, photography\, and digital media\, ZERO CELSIUS examines winter as material\, concept\, and metaphor: crystalline\, fleeting\, and ecologically vital. The exhibition invites visitors to consider the fragility of snow in a changing world\, to reconnect with winter’s wonder and silence\, and to share their own stories and memories of a season both timeless and increasingly imperiled.
URL:https://mrvvillage.com/event/zero-celsius-40/
LOCATION:Mad River Valley Arts\, 5031 Main Street #2 Village Square\, Waitsfield\, 05673
CATEGORIES:Arts & Entertainment
ATTACH;FMTTYPE=image/png:https://mrvvillage.com/wp-content/uploads/2025/12/Screenshot-2025-12-29-at-2.15.47-PM-wAnLAh.png
ORGANIZER;CN="Mad%20River%20ValleyArts":MAILTO:info@madrivervalleyarts.org
GEO:44.1926386;-72.7798479
X-APPLE-STRUCTURED-LOCATION;VALUE=URI;X-ADDRESS=Mad River Valley Arts 5031 Main Street #2 Village Square Waitsfield 05673;X-APPLE-RADIUS=500;X-TITLE=5031 Main Street #2 Village Square:geo:-72.7798479,44.1926386
END:VEVENT
BEGIN:VEVENT
DTSTART;TZID=America/New_York:20260304T130000
DTEND;TZID=America/New_York:20260304T170000
DTSTAMP:20260422T070544
CREATED:20251213T164228Z
LAST-MODIFIED:20260304T192337Z
UID:10009455-1772629200-1772643600@mrvvillage.com
SUMMARY:Zero Celsius
DESCRIPTION:ZERO CELSIUS takes place at Mad Arts and Sugarbush Resort\, and gathers artists who explore the textures\, tensions\, and transformations of winter. \nFrom the hush of frozen landscapes to the volatility of a warming climate\, the exhibition reflects on how the cold season shapes—and is reshaped by—human and environmental relationships. \nBringing together sculpture\, installation\, sound\, photography\, and digital media\, ZERO CELSIUS examines winter as material\, concept\, and metaphor: crystalline\, fleeting\, and ecologically vital. The exhibition invites visitors to consider the fragility of snow in a changing world\, to reconnect with winter’s wonder and silence\, and to share their own stories and memories of a season both timeless and increasingly imperiled.
URL:https://mrvvillage.com/event/zero-celsius-41/
LOCATION:Mad River Valley Arts\, 5031 Main Street #2 Village Square\, Waitsfield\, 05673
CATEGORIES:Arts & Entertainment
ATTACH;FMTTYPE=image/png:https://mrvvillage.com/wp-content/uploads/2025/12/Screenshot-2025-12-29-at-2.15.47-PM-wAnLAh.png
ORGANIZER;CN="Mad%20River%20ValleyArts":MAILTO:info@madrivervalleyarts.org
GEO:44.1926386;-72.7798479
X-APPLE-STRUCTURED-LOCATION;VALUE=URI;X-ADDRESS=Mad River Valley Arts 5031 Main Street #2 Village Square Waitsfield 05673;X-APPLE-RADIUS=500;X-TITLE=5031 Main Street #2 Village Square:geo:-72.7798479,44.1926386
END:VEVENT
BEGIN:VEVENT
DTSTART;TZID=America/New_York:20260304T181500
DTEND;TZID=America/New_York:20260304T201500
DTSTAMP:20260422T070544
CREATED:20260127T224249Z
LAST-MODIFIED:20260304T192337Z
UID:10009809-1772648100-1772655300@mrvvillage.com
SUMMARY:Life Drawing Wednesdays
DESCRIPTION:✍🏻 Life Drawing Wednesdays presented by The Valley Artists Guild \nThe very popular Wednesday Night Drawing Sessions will resume on Feb\, 4\, 2025. This is a self-directed session. No instruction or critiques are offered but conversations and sharing within the group are sure to inspire 😎 \nSubjects vary every two weeks: two weeks of Live Models\, two weeks of Still Life or equivalent. All media are welcome except\nphotography. \nWHEN\nEvery Wednesday Evening from 6:15 – 8:15 pm. Classes begin on Feb 4th. \nWHERE\nThe UCC Waitsfield Village Meeting House. Located in Historic Waitsfield Village across from the VG. Parking is in back. \nCOST\nThe cost is $15/visit. Cash only Please. \n#madrivervalley #vermontartist #livedrawing #madriverartists #vtlivedrawing \nPhoto / drawing courtesy Loida Alvarez (@Loida.art) — copyright 2026
URL:https://mrvvillage.com/event/life-drawing-wednesdays-5/
LOCATION:Waitsfield Church Village Meeting Room\, Route 100\, Waitsfield\, VT\, 05673
CATEGORIES:Arts & Entertainment
ATTACH;FMTTYPE=image/jpeg:https://mrvvillage.com/wp-content/uploads/2026/01/sketch-loida-alvarez-GUILD-web-T2l9NL.jpg
ORGANIZER;CN="Valley%20Artists%20Guild":MAILTO:info@valleyartistsguild.com
GEO:44.2017815;-72.8121321
X-APPLE-STRUCTURED-LOCATION;VALUE=URI;X-ADDRESS=Waitsfield Church Village Meeting Room Route 100 Waitsfield VT 05673;X-APPLE-RADIUS=500;X-TITLE=Route 100:geo:-72.8121321,44.2017815
END:VEVENT
BEGIN:VEVENT
DTSTART;TZID=America/New_York:20260305T130000
DTEND;TZID=America/New_York:20260305T170000
DTSTAMP:20260422T070544
CREATED:20251213T164228Z
LAST-MODIFIED:20260305T193832Z
UID:10009456-1772715600-1772730000@mrvvillage.com
SUMMARY:Zero Celsius
DESCRIPTION:ZERO CELSIUS takes place at Mad Arts and Sugarbush Resort\, and gathers artists who explore the textures\, tensions\, and transformations of winter. \nFrom the hush of frozen landscapes to the volatility of a warming climate\, the exhibition reflects on how the cold season shapes—and is reshaped by—human and environmental relationships. \nBringing together sculpture\, installation\, sound\, photography\, and digital media\, ZERO CELSIUS examines winter as material\, concept\, and metaphor: crystalline\, fleeting\, and ecologically vital. The exhibition invites visitors to consider the fragility of snow in a changing world\, to reconnect with winter’s wonder and silence\, and to share their own stories and memories of a season both timeless and increasingly imperiled.
URL:https://mrvvillage.com/event/zero-celsius-42/
LOCATION:Mad River Valley Arts\, 5031 Main Street #2 Village Square\, Waitsfield\, 05673
CATEGORIES:Arts & Entertainment
ATTACH;FMTTYPE=image/png:https://mrvvillage.com/wp-content/uploads/2025/12/Screenshot-2025-12-29-at-2.15.47-PM-wAnLAh.png
ORGANIZER;CN="Mad%20River%20ValleyArts":MAILTO:info@madrivervalleyarts.org
GEO:44.1926386;-72.7798479
X-APPLE-STRUCTURED-LOCATION;VALUE=URI;X-ADDRESS=Mad River Valley Arts 5031 Main Street #2 Village Square Waitsfield 05673;X-APPLE-RADIUS=500;X-TITLE=5031 Main Street #2 Village Square:geo:-72.7798479,44.1926386
END:VEVENT
BEGIN:VEVENT
DTSTART;TZID=America/New_York:20260305T130000
DTEND;TZID=America/New_York:20260312T143000
DTSTAMP:20260422T070544
CREATED:20260225T103939Z
LAST-MODIFIED:20260305T193832Z
UID:10009930-1772715600-1773325800@mrvvillage.com
SUMMARY:Playful Poetry
DESCRIPTION:Susan Bauchner\, poet and performer\, will lead two Playful Poetry workshops focusing on how to write limericks\, haikus and more. \nNo previous experience necessary.
URL:https://mrvvillage.com/event/playful-poetry/
LOCATION:Joslin Memorial Library\, 4391 Main Street\, Waitsfield\, 05673
CATEGORIES:Arts & Entertainment
ATTACH;FMTTYPE=image/png:https://mrvvillage.com/wp-content/uploads/2026/02/poetry-workshop-2026-Facebook-Post-Square-K6SQuh.png
GEO:44.1926386;-72.7798479
X-APPLE-STRUCTURED-LOCATION;VALUE=URI;X-ADDRESS=Joslin Memorial Library 4391 Main Street Waitsfield 05673;X-APPLE-RADIUS=500;X-TITLE=4391 Main Street:geo:-72.7798479,44.1926386
END:VEVENT
BEGIN:VEVENT
DTSTART;TZID=America/New_York:20260306T130000
DTEND;TZID=America/New_York:20260306T170000
DTSTAMP:20260422T070544
CREATED:20251213T164228Z
LAST-MODIFIED:20260306T195335Z
UID:10009457-1772802000-1772816400@mrvvillage.com
SUMMARY:Zero Celsius
DESCRIPTION:ZERO CELSIUS takes place at Mad Arts and Sugarbush Resort\, and gathers artists who explore the textures\, tensions\, and transformations of winter. \nFrom the hush of frozen landscapes to the volatility of a warming climate\, the exhibition reflects on how the cold season shapes—and is reshaped by—human and environmental relationships. \nBringing together sculpture\, installation\, sound\, photography\, and digital media\, ZERO CELSIUS examines winter as material\, concept\, and metaphor: crystalline\, fleeting\, and ecologically vital. The exhibition invites visitors to consider the fragility of snow in a changing world\, to reconnect with winter’s wonder and silence\, and to share their own stories and memories of a season both timeless and increasingly imperiled.
URL:https://mrvvillage.com/event/zero-celsius-43/
LOCATION:Mad River Valley Arts\, 5031 Main Street #2 Village Square\, Waitsfield\, 05673
CATEGORIES:Arts & Entertainment
ATTACH;FMTTYPE=image/png:https://mrvvillage.com/wp-content/uploads/2025/12/Screenshot-2025-12-29-at-2.15.47-PM-wAnLAh.png
ORGANIZER;CN="Mad%20River%20ValleyArts":MAILTO:info@madrivervalleyarts.org
GEO:44.1926386;-72.7798479
X-APPLE-STRUCTURED-LOCATION;VALUE=URI;X-ADDRESS=Mad River Valley Arts 5031 Main Street #2 Village Square Waitsfield 05673;X-APPLE-RADIUS=500;X-TITLE=5031 Main Street #2 Village Square:geo:-72.7798479,44.1926386
END:VEVENT
BEGIN:VEVENT
DTSTART;TZID=America/New_York:20260307T130000
DTEND;TZID=America/New_York:20260307T170000
DTSTAMP:20260422T070544
CREATED:20251213T164228Z
LAST-MODIFIED:20260307T200835Z
UID:10009458-1772888400-1772902800@mrvvillage.com
SUMMARY:Zero Celsius
DESCRIPTION:ZERO CELSIUS takes place at Mad Arts and Sugarbush Resort\, and gathers artists who explore the textures\, tensions\, and transformations of winter. \nFrom the hush of frozen landscapes to the volatility of a warming climate\, the exhibition reflects on how the cold season shapes—and is reshaped by—human and environmental relationships. \nBringing together sculpture\, installation\, sound\, photography\, and digital media\, ZERO CELSIUS examines winter as material\, concept\, and metaphor: crystalline\, fleeting\, and ecologically vital. The exhibition invites visitors to consider the fragility of snow in a changing world\, to reconnect with winter’s wonder and silence\, and to share their own stories and memories of a season both timeless and increasingly imperiled.
URL:https://mrvvillage.com/event/zero-celsius-44/
LOCATION:Mad River Valley Arts\, 5031 Main Street #2 Village Square\, Waitsfield\, 05673
CATEGORIES:Arts & Entertainment
ATTACH;FMTTYPE=image/png:https://mrvvillage.com/wp-content/uploads/2025/12/Screenshot-2025-12-29-at-2.15.47-PM-wAnLAh.png
ORGANIZER;CN="Mad%20River%20ValleyArts":MAILTO:info@madrivervalleyarts.org
GEO:44.1926386;-72.7798479
X-APPLE-STRUCTURED-LOCATION;VALUE=URI;X-ADDRESS=Mad River Valley Arts 5031 Main Street #2 Village Square Waitsfield 05673;X-APPLE-RADIUS=500;X-TITLE=5031 Main Street #2 Village Square:geo:-72.7798479,44.1926386
END:VEVENT
BEGIN:VEVENT
DTSTART;TZID=America/New_York:20260308T140000
DTEND;TZID=America/New_York:20260308T143000
DTSTAMP:20260422T070544
CREATED:20260218T085559Z
LAST-MODIFIED:20260308T202329Z
UID:10009879-1772978400-1772980200@mrvvillage.com
SUMMARY:Journey through Dance
DESCRIPTION:Waltzes and Tangos\, Minuets and Gavottes – the Vermont Philharmonic’s annual Family Concert at 2 pm on Sunday March 8th is a Journey through Dance\, with music by J.S. Bach\, Offenbach\, Prokofiev\, Handel\, Tchaikovsky\, and more. Conducted by Lou Kosma\, the concert at the Barre Opera House is a family favorite. Audiences will happily recognize Offenbach’s Can-Can\, Khachaturian’s Masquerade Waltz\, and Angel Villoldo’s Kiss of Fire tango among others. \nIn addition to the dances\, old and new\, the program features two special new works. Michael Close’s North Star was written for virtuoso violist Elizabeth Reid\, who will be performing the work at the concert. Michael is a cellist and music educator living in Worcester VT\, and the senior composer-mentor at Music-Comp\, encouraging and supporting students in composing and arranging music. Grayson Eley\, a multi-talented freshman at Harwood Union\, has enjoyed his participation in Music-Comp for three years. He wrote Homecoming to celebrate that special place of physical or mental welcome we call “home.” \nThe Vermont Philharmonic is celebrating its sixty-seventh year of making beautiful music in Central Vermont. The concert is sponsored by Passumpsic Bank of St Johnsbury. Tickets are $25 for adults\, $20 for seniors\, $5 for students. Tickets and information are available at vermontphilharmonic.com or at the door.
URL:https://mrvvillage.com/event/journey-through-dance/
LOCATION:Barre Opera House\, 6 N Main St #4\, Barre\, Vermont\, 05641\, United States
CATEGORIES:Arts & Entertainment
ATTACH;FMTTYPE=image/jpeg:https://mrvvillage.com/wp-content/uploads/2026/02/2603-grayson-eley-horizo-RwmA4m.jpg
GEO:44.1967101;-72.5017979
X-APPLE-STRUCTURED-LOCATION;VALUE=URI;X-ADDRESS=Barre Opera House 6 N Main St #4 Barre Vermont 05641 United States;X-APPLE-RADIUS=500;X-TITLE=6 N Main St #4:geo:-72.5017979,44.1967101
END:VEVENT
BEGIN:VEVENT
DTSTART;TZID=America/New_York:20260308T180000
DTEND;TZID=America/New_York:20260308T200000
DTSTAMP:20260422T070544
CREATED:20251208T154142Z
LAST-MODIFIED:20260203T121245Z
UID:10009398-1772992800-1773000000@mrvvillage.com
SUMMARY:LINE DANCING: BOOTS & BURGERS w/Jenna from GOOD TIME LINE DANCING
DESCRIPTION:Line Dancing at Afterthoughts will continue through the winter with Jenna from Good Time Line Dancing! \nShe’ll be here on the 2nd and fourth Sunday’s (weather permitting) of the month to get down and dirty on the dance floor with some new moves and classic line dances for you. \n$10 to participate. Dust off those boots and let’s boogie.
URL:https://mrvvillage.com/event/line-dancing-boots-burgers-w-jenna-from-good-time-line-dancing-8/
LOCATION:afterthoughts\, 8 Vt Route 17 200\, Waitsfield\, Vermont\, 05673\, United States
CATEGORIES:Arts & Entertainment
ATTACH;FMTTYPE=image/png:https://mrvvillage.com/wp-content/uploads/2025/11/Screenshot-2025-11-20-095103-y10HaF.png
ORGANIZER;CN="afterthoughts":MAILTO:hello@afterthoughtsvt.com
GEO:44.181648;-72.8405231
X-APPLE-STRUCTURED-LOCATION;VALUE=URI;X-ADDRESS=afterthoughts 8 Vt Route 17 200 Waitsfield Vermont 05673 United States;X-APPLE-RADIUS=500;X-TITLE=8 Vt Route 17 200:geo:-72.8405231,44.181648
END:VEVENT
END:VCALENDAR