BEGIN:VCALENDAR
VERSION:2.0
PRODID:-//The Mad River Valley Village - ECPv6.0.13//NONSGML v1.0//EN
CALSCALE:GREGORIAN
METHOD:PUBLISH
X-ORIGINAL-URL:https://mrvvillage.com
X-WR-CALDESC:Events for The Mad River Valley Village
REFRESH-INTERVAL;VALUE=DURATION:PT1H
X-Robots-Tag:noindex
X-PUBLISHED-TTL:PT1H
BEGIN:VTIMEZONE
TZID:America/New_York
BEGIN:DAYLIGHT
TZOFFSETFROM:-0500
TZOFFSETTO:-0400
TZNAME:EDT
DTSTART:20260308T070000
END:DAYLIGHT
BEGIN:STANDARD
TZOFFSETFROM:-0400
TZOFFSETTO:-0500
TZNAME:EST
DTSTART:20261101T060000
END:STANDARD
END:VTIMEZONE
BEGIN:VEVENT
DTSTART;TZID=America/New_York:20260331T130000
DTEND;TZID=America/New_York:20260331T170000
DTSTAMP:20260422T003939
CREATED:20251231T155842Z
LAST-MODIFIED:20260331T190827Z
UID:10009586-1774962000-1774976400@mrvvillage.com
SUMMARY:Zero Celsius
DESCRIPTION:ZERO CELSIUS takes place at Mad Arts and Sugarbush Resort\, and gathers artists who explore the textures\, tensions\, and transformations of winter. \nFrom the hush of frozen landscapes to the volatility of a warming climate\, the exhibition reflects on how the cold season shapes—and is reshaped by—human and environmental relationships. \nBringing together sculpture\, installation\, sound\, photography\, and digital media\, ZERO CELSIUS examines winter as material\, concept\, and metaphor: crystalline\, fleeting\, and ecologically vital. The exhibition invites visitors to consider the fragility of snow in a changing world\, to reconnect with winter’s wonder and silence\, and to share their own stories and memories of a season both timeless and increasingly imperiled.
URL:https://mrvvillage.com/event/zero-celsius-60/
LOCATION:Mad River Valley Arts\, 5031 Main Street #2 Village Square\, Waitsfield\, 05673
CATEGORIES:Arts & Entertainment
ATTACH;FMTTYPE=image/png:https://mrvvillage.com/wp-content/uploads/2025/12/Screenshot-2025-12-29-at-2.15.47-PM-wAnLAh.png
ORGANIZER;CN="Mad%20River%20ValleyArts":MAILTO:info@madrivervalleyarts.org
GEO:44.1926386;-72.7798479
X-APPLE-STRUCTURED-LOCATION;VALUE=URI;X-ADDRESS=Mad River Valley Arts 5031 Main Street #2 Village Square Waitsfield 05673;X-APPLE-RADIUS=500;X-TITLE=5031 Main Street #2 Village Square:geo:-72.7798479,44.1926386
END:VEVENT
BEGIN:VEVENT
DTSTART;TZID=America/New_York:20260401T130000
DTEND;TZID=America/New_York:20260401T170000
DTSTAMP:20260422T003939
CREATED:20260101T161335Z
LAST-MODIFIED:20260401T192327Z
UID:10009590-1775048400-1775062800@mrvvillage.com
SUMMARY:Zero Celsius
DESCRIPTION:ZERO CELSIUS takes place at Mad Arts and Sugarbush Resort\, and gathers artists who explore the textures\, tensions\, and transformations of winter. \nFrom the hush of frozen landscapes to the volatility of a warming climate\, the exhibition reflects on how the cold season shapes—and is reshaped by—human and environmental relationships. \nBringing together sculpture\, installation\, sound\, photography\, and digital media\, ZERO CELSIUS examines winter as material\, concept\, and metaphor: crystalline\, fleeting\, and ecologically vital. The exhibition invites visitors to consider the fragility of snow in a changing world\, to reconnect with winter’s wonder and silence\, and to share their own stories and memories of a season both timeless and increasingly imperiled.
URL:https://mrvvillage.com/event/zero-celsius-61/
LOCATION:Mad River Valley Arts\, 5031 Main Street #2 Village Square\, Waitsfield\, 05673
CATEGORIES:Arts & Entertainment
ATTACH;FMTTYPE=image/png:https://mrvvillage.com/wp-content/uploads/2025/12/Screenshot-2025-12-29-at-2.15.47-PM-wAnLAh.png
ORGANIZER;CN="Mad%20River%20ValleyArts":MAILTO:info@madrivervalleyarts.org
GEO:44.1926386;-72.7798479
X-APPLE-STRUCTURED-LOCATION;VALUE=URI;X-ADDRESS=Mad River Valley Arts 5031 Main Street #2 Village Square Waitsfield 05673;X-APPLE-RADIUS=500;X-TITLE=5031 Main Street #2 Village Square:geo:-72.7798479,44.1926386
END:VEVENT
BEGIN:VEVENT
DTSTART;TZID=America/New_York:20260401T181500
DTEND;TZID=America/New_York:20260401T201500
DTSTAMP:20260422T003939
CREATED:20260127T224448Z
LAST-MODIFIED:20260401T192327Z
UID:10009813-1775067300-1775074500@mrvvillage.com
SUMMARY:Life Drawing Wednesdays
DESCRIPTION:✍🏻 Life Drawing Wednesdays presented by The Valley Artists Guild \nThe very popular Wednesday Night Drawing Sessions will resume on Feb\, 4\, 2025. This is a self-directed session. No instruction or critiques are offered but conversations and sharing within the group are sure to inspire 😎 \nSubjects vary every two weeks: two weeks of Live Models\, two weeks of Still Life or equivalent. All media are welcome except\nphotography. \nWHEN\nEvery Wednesday Evening from 6:15 – 8:15 pm. Classes begin on Feb 4th. \nWHERE\nThe UCC Waitsfield Village Meeting House. Located in Historic Waitsfield Village across from the VG. Parking is in back. \nCOST\nThe cost is $15/visit. Cash only Please. \n#madrivervalley #vermontartist #livedrawing #madriverartists #vtlivedrawing \nPhoto / drawing courtesy Loida Alvarez (@Loida.art) — copyright 2026
URL:https://mrvvillage.com/event/life-drawing-wednesdays-9/
LOCATION:Waitsfield Church Village Meeting Room\, Route 100\, Waitsfield\, VT\, 05673
CATEGORIES:Arts & Entertainment
ATTACH;FMTTYPE=image/jpeg:https://mrvvillage.com/wp-content/uploads/2026/01/sketch-loida-alvarez-GUILD-web-T2l9NL.jpg
ORGANIZER;CN="Valley%20Artists%20Guild":MAILTO:info@valleyartistsguild.com
GEO:44.2017815;-72.8121321
X-APPLE-STRUCTURED-LOCATION;VALUE=URI;X-ADDRESS=Waitsfield Church Village Meeting Room Route 100 Waitsfield VT 05673;X-APPLE-RADIUS=500;X-TITLE=Route 100:geo:-72.8121321,44.2017815
END:VEVENT
BEGIN:VEVENT
DTSTART;TZID=America/New_York:20260402T130000
DTEND;TZID=America/New_York:20260402T170000
DTSTAMP:20260422T003939
CREATED:20260102T162828Z
LAST-MODIFIED:20260402T192330Z
UID:10009591-1775134800-1775149200@mrvvillage.com
SUMMARY:Zero Celsius
DESCRIPTION:ZERO CELSIUS takes place at Mad Arts and Sugarbush Resort\, and gathers artists who explore the textures\, tensions\, and transformations of winter. \nFrom the hush of frozen landscapes to the volatility of a warming climate\, the exhibition reflects on how the cold season shapes—and is reshaped by—human and environmental relationships. \nBringing together sculpture\, installation\, sound\, photography\, and digital media\, ZERO CELSIUS examines winter as material\, concept\, and metaphor: crystalline\, fleeting\, and ecologically vital. The exhibition invites visitors to consider the fragility of snow in a changing world\, to reconnect with winter’s wonder and silence\, and to share their own stories and memories of a season both timeless and increasingly imperiled.
URL:https://mrvvillage.com/event/zero-celsius-62/
LOCATION:Mad River Valley Arts\, 5031 Main Street #2 Village Square\, Waitsfield\, 05673
CATEGORIES:Arts & Entertainment
ATTACH;FMTTYPE=image/png:https://mrvvillage.com/wp-content/uploads/2025/12/Screenshot-2025-12-29-at-2.15.47-PM-wAnLAh.png
ORGANIZER;CN="Mad%20River%20ValleyArts":MAILTO:info@madrivervalleyarts.org
GEO:44.1926386;-72.7798479
X-APPLE-STRUCTURED-LOCATION;VALUE=URI;X-ADDRESS=Mad River Valley Arts 5031 Main Street #2 Village Square Waitsfield 05673;X-APPLE-RADIUS=500;X-TITLE=5031 Main Street #2 Village Square:geo:-72.7798479,44.1926386
END:VEVENT
BEGIN:VEVENT
DTSTART;TZID=America/New_York:20260403T130000
DTEND;TZID=America/New_York:20260403T170000
DTSTAMP:20260422T003939
CREATED:20260103T164321Z
LAST-MODIFIED:20260403T193827Z
UID:10009595-1775221200-1775235600@mrvvillage.com
SUMMARY:Zero Celsius
DESCRIPTION:ZERO CELSIUS takes place at Mad Arts and Sugarbush Resort\, and gathers artists who explore the textures\, tensions\, and transformations of winter. \nFrom the hush of frozen landscapes to the volatility of a warming climate\, the exhibition reflects on how the cold season shapes—and is reshaped by—human and environmental relationships. \nBringing together sculpture\, installation\, sound\, photography\, and digital media\, ZERO CELSIUS examines winter as material\, concept\, and metaphor: crystalline\, fleeting\, and ecologically vital. The exhibition invites visitors to consider the fragility of snow in a changing world\, to reconnect with winter’s wonder and silence\, and to share their own stories and memories of a season both timeless and increasingly imperiled.
URL:https://mrvvillage.com/event/zero-celsius-63/
LOCATION:Mad River Valley Arts\, 5031 Main Street #2 Village Square\, Waitsfield\, 05673
CATEGORIES:Arts & Entertainment
ATTACH;FMTTYPE=image/png:https://mrvvillage.com/wp-content/uploads/2025/12/Screenshot-2025-12-29-at-2.15.47-PM-wAnLAh.png
ORGANIZER;CN="Mad%20River%20ValleyArts":MAILTO:info@madrivervalleyarts.org
GEO:44.1926386;-72.7798479
X-APPLE-STRUCTURED-LOCATION;VALUE=URI;X-ADDRESS=Mad River Valley Arts 5031 Main Street #2 Village Square Waitsfield 05673;X-APPLE-RADIUS=500;X-TITLE=5031 Main Street #2 Village Square:geo:-72.7798479,44.1926386
END:VEVENT
BEGIN:VEVENT
DTSTART;TZID=America/New_York:20260404T110000
DTEND;TZID=America/New_York:20260404T120000
DTSTAMP:20260422T003939
CREATED:20260328T182429Z
LAST-MODIFIED:20260404T195325Z
UID:10010047-1775300400-1775304000@mrvvillage.com
SUMMARY:Saturday Family Fun
DESCRIPTION:Join Three Mountain Cafe and Inklings Children’s Books for some pre-Easter activities! \nSaturday\, April 4th\, starting at 11am\, there will be wooden egg decorating at Inklings. Register in advance for a delicious box lunch from Three Mountain! \nDon’t miss this great opportunity for grown ups to do a little shopping at Mad River Green Shops while the littles enjoy some creative fun!
URL:https://mrvvillage.com/event/saturday-family-fun/
LOCATION:Inklings Children’s Books\, 106 Mad River Greeen\, Waitsfield\, VT\, 05673\, United States
CATEGORIES:Arts & Entertainment,Family Friendly
ATTACH;FMTTYPE=image/jpeg:https://mrvvillage.com/wp-content/uploads/2026/03/AprilFourFlyer-MRV-eLmiTA.jpg
ORGANIZER;CN="Inklings%20Children%26%238217%3Bs%20Books":MAILTO:inklingschildrensbooks@gmail.com
GEO:44.1844899;-72.839037
X-APPLE-STRUCTURED-LOCATION;VALUE=URI;X-ADDRESS=Inklings Children’s Books 106 Mad River Greeen Waitsfield VT 05673 United States;X-APPLE-RADIUS=500;X-TITLE=106 Mad River Greeen:geo:-72.839037,44.1844899
END:VEVENT
BEGIN:VEVENT
DTSTART;TZID=America/New_York:20260404T130000
DTEND;TZID=America/New_York:20260404T170000
DTSTAMP:20260422T003939
CREATED:20260104T165826Z
LAST-MODIFIED:20260404T195325Z
UID:10009599-1775307600-1775322000@mrvvillage.com
SUMMARY:Zero Celsius
DESCRIPTION:ZERO CELSIUS takes place at Mad Arts and Sugarbush Resort\, and gathers artists who explore the textures\, tensions\, and transformations of winter. \nFrom the hush of frozen landscapes to the volatility of a warming climate\, the exhibition reflects on how the cold season shapes—and is reshaped by—human and environmental relationships. \nBringing together sculpture\, installation\, sound\, photography\, and digital media\, ZERO CELSIUS examines winter as material\, concept\, and metaphor: crystalline\, fleeting\, and ecologically vital. The exhibition invites visitors to consider the fragility of snow in a changing world\, to reconnect with winter’s wonder and silence\, and to share their own stories and memories of a season both timeless and increasingly imperiled.
URL:https://mrvvillage.com/event/zero-celsius-64/
LOCATION:Mad River Valley Arts\, 5031 Main Street #2 Village Square\, Waitsfield\, 05673
CATEGORIES:Arts & Entertainment
ATTACH;FMTTYPE=image/png:https://mrvvillage.com/wp-content/uploads/2025/12/Screenshot-2025-12-29-at-2.15.47-PM-wAnLAh.png
ORGANIZER;CN="Mad%20River%20ValleyArts":MAILTO:info@madrivervalleyarts.org
GEO:44.1926386;-72.7798479
X-APPLE-STRUCTURED-LOCATION;VALUE=URI;X-ADDRESS=Mad River Valley Arts 5031 Main Street #2 Village Square Waitsfield 05673;X-APPLE-RADIUS=500;X-TITLE=5031 Main Street #2 Village Square:geo:-72.7798479,44.1926386
END:VEVENT
BEGIN:VEVENT
DTSTART;TZID=America/New_York:20260405T193000
DTEND;TZID=America/New_York:20260405T210000
DTSTAMP:20260422T003939
CREATED:20260401T140913Z
LAST-MODIFIED:20260405T200825Z
UID:10010068-1775417400-1775422800@mrvvillage.com
SUMMARY:Wisdom of Happiness
DESCRIPTION:Time & Location \nApr 05\, 2026\, 7:30 PM\nBig Picture Theater & Cafe\, 48 Carroll Rd\, Waitsfield\, VT 05673\, USA\nAbout the event \nWISDOM OF HAPPINESS shows us a timeless truth: happiness is still possible\, even in the midst of chaos and uncertainty. This powerful message of hope is delivered as a personal audience with one of the greatest living thinkers\, Nobel Peace Prize winner Tenzin Gyatso\, known to billions around the world as the Dalai Lama. Speaking as a member of our single global community\, he shares practical wisdom for finding peace\, compassion\, and hope in the midst of chaos. With disarming clarity and deep humanity\, he invites us to imagine — and help create — a world where compassion is activated as our strongest force for change\, and happiness is within reach for everyone.
URL:https://mrvvillage.com/event/wisdom-of-happiness/
LOCATION:Big Picture Theater\, 44 Carroll Road\, Waitsfield\, 05673
CATEGORIES:Arts & Entertainment
ATTACH;FMTTYPE=image/png:https://mrvvillage.com/wp-content/uploads/2026/04/Wisdom-of-Happiness-BIG-PIC-1MEI5m.png
ORGANIZER;CN="Big%20Picture%20Theater":MAILTO:beths@madriver.com
GEO:44.1874779;-72.8335286
X-APPLE-STRUCTURED-LOCATION;VALUE=URI;X-ADDRESS=Big Picture Theater 44 Carroll Road Waitsfield 05673;X-APPLE-RADIUS=500;X-TITLE=44 Carroll Road:geo:-72.8335286,44.1874779
END:VEVENT
END:VCALENDAR