BEGIN:VCALENDAR
VERSION:2.0
PRODID:-//The Mad River Valley Village - ECPv6.0.13//NONSGML v1.0//EN
CALSCALE:GREGORIAN
METHOD:PUBLISH
X-WR-CALNAME:The Mad River Valley Village
X-ORIGINAL-URL:https://mrvvillage.com
X-WR-CALDESC:Events for The Mad River Valley Village
REFRESH-INTERVAL;VALUE=DURATION:PT1H
X-Robots-Tag:noindex
X-PUBLISHED-TTL:PT1H
BEGIN:VTIMEZONE
TZID:America/New_York
BEGIN:DAYLIGHT
TZOFFSETFROM:-0500
TZOFFSETTO:-0400
TZNAME:EDT
DTSTART:20230312T070000
END:DAYLIGHT
BEGIN:STANDARD
TZOFFSETFROM:-0400
TZOFFSETTO:-0500
TZNAME:EST
DTSTART:20231105T060000
END:STANDARD
TZID:America/Halifax
BEGIN:DAYLIGHT
TZOFFSETFROM:-0400
TZOFFSETTO:-0300
TZNAME:ADT
DTSTART:20230312T060000
END:DAYLIGHT
BEGIN:STANDARD
TZOFFSETFROM:-0300
TZOFFSETTO:-0400
TZNAME:AST
DTSTART:20231105T050000
END:STANDARD
END:VTIMEZONE
BEGIN:VEVENT
DTSTART;TZID=America/New_York:20230702T150000
DTEND;TZID=America/New_York:20230702T170000
DTSTAMP:20260421T213554
CREATED:20230502T223919Z
LAST-MODIFIED:20230516T225403Z
UID:10003790-1688310000-1688317200@mrvvillage.com
SUMMARY:Summer Sundays: Good Gravy
DESCRIPTION:Good Gravy is a bluegrass trio out of Burlington\, VT. Joining us for the very first time!
URL:https://mrvvillage.com/event/summer-sundays-good-gravy/
LOCATION:Lawson’s Finest Taproom\, 155 Carroll Road\, Waitsfield\, Vermont\, 05673
CATEGORIES:At the Brewery,Tuesday Tunes,Vermont
ATTACH;FMTTYPE=image/jpeg:https://mrvvillage.com/wp-content/uploads/2023/05/DSCF0959-8Hrn1U.tmp_.jpg
ORGANIZER;CN="Lawson%26%238217%3Bs%20Finest%20Liquids":MAILTO:hello@lawsonsfinest.com
GEO:44.1878437;-72.8352541
X-APPLE-STRUCTURED-LOCATION;VALUE=URI;X-ADDRESS=Lawson’s Finest Taproom 155 Carroll Road Waitsfield Vermont 05673;X-APPLE-RADIUS=500;X-TITLE=155 Carroll Road:geo:-72.8352541,44.1878437
END:VEVENT
BEGIN:VEVENT
DTSTART;TZID=America/New_York:20230702T150000
DTEND;TZID=America/New_York:20230702T170000
DTSTAMP:20260421T213554
CREATED:20230602T232600Z
LAST-MODIFIED:20230702T195317Z
UID:10004023-1688310000-1688317200@mrvvillage.com
SUMMARY:Summer Sundays: Good Gravy
DESCRIPTION:Good Gravy is a bluegrass trio out of Burlington\, VT. Joining us for the very first time!
URL:https://mrvvillage.com/event/summer-sundays-good-gravy-2/
LOCATION:Lawson’s Finest Taproom\, 155 Carroll Road\, Waitsfield\, Vermont\, 05673
CATEGORIES:At the Brewery,Tuesday Tunes,Vermont
ATTACH;FMTTYPE=image/jpeg:https://mrvvillage.com/wp-content/uploads/2023/06/DSCF0959-6xRD8G.tmp_-tX1oNo.tmp_.jpg
ORGANIZER;CN="Lawson%26%238217%3Bs%20Finest%20Liquids":MAILTO:hello@lawsonsfinest.com
GEO:44.1878437;-72.8352541
X-APPLE-STRUCTURED-LOCATION;VALUE=URI;X-ADDRESS=Lawson’s Finest Taproom 155 Carroll Road Waitsfield Vermont 05673;X-APPLE-RADIUS=500;X-TITLE=155 Carroll Road:geo:-72.8352541,44.1878437
END:VEVENT
BEGIN:VEVENT
DTSTART;TZID=America/Halifax:20230705T120000
DTEND;TZID=America/Halifax:20230705T190000
DTSTAMP:20260421T213554
CREATED:20230607T074052Z
LAST-MODIFIED:20230705T203839Z
UID:10004077-1688558400-1688583600@mrvvillage.com
SUMMARY:Beers & Brats
DESCRIPTION:Join us for 5th Quarter Butchery Beer Brats and $5 pints of Little Sip IPA\, all day long!
URL:https://mrvvillage.com/event/beers-brats-19/
LOCATION:Lawson’s Finest Brewery\, 155 Carroll Road\, Waitsfield\, VT\, 05673\, United States
CATEGORIES:At the Brewery
ATTACH;FMTTYPE=image/jpeg:https://mrvvillage.com/wp-content/uploads/2023/05/LFL_BeersBrats-UPDATED-8.5X11-scaled-vlzP1w.tmp_-ghgJep.tmp_.jpg
ORGANIZER;CN="Lawson%26%238217%3Bs%20Finest%20Liquids":MAILTO:hello@lawsonsfinest.com
GEO:44.1878437;-72.8352541
X-APPLE-STRUCTURED-LOCATION;VALUE=URI;X-ADDRESS=Lawson’s Finest Brewery 155 Carroll Road Waitsfield VT 05673 United States;X-APPLE-RADIUS=500;X-TITLE=155 Carroll Road:geo:-72.8352541,44.1878437
END:VEVENT
BEGIN:VEVENT
DTSTART;TZID=America/New_York:20230706T170000
DTEND;TZID=America/New_York:20230706T190000
DTSTAMP:20260421T213554
CREATED:20230607T074052Z
LAST-MODIFIED:20230706T205329Z
UID:10004079-1688662800-1688670000@mrvvillage.com
SUMMARY:Thursday Tunes: Julia & The Nightcaps
DESCRIPTION:Refreshing and nostalgic\, Julia & The Nightcaps are a hot drink on a cold night\, yet a refreshing lemonade after a long bike ride. Their original music has an honest and intricate approach. Fans of rhythmic improvisation\, no song of theirs is played the same twice.
URL:https://mrvvillage.com/event/thursday-tunes-julia-the-nightcaps/
LOCATION:Lawson’s Finest Taproom\, 155 Carroll Road\, Waitsfield\, Vermont\, 05673
CATEGORIES:At the Brewery,Tuesday Tunes,Vermont
ATTACH;FMTTYPE=image/jpeg:https://mrvvillage.com/wp-content/uploads/2023/06/image0-1-DkXh8a.tmp_-5xYWv6.tmp_.jpg
ORGANIZER;CN="Lawson%26%238217%3Bs%20Finest%20Liquids":MAILTO:hello@lawsonsfinest.com
GEO:44.1878437;-72.8352541
X-APPLE-STRUCTURED-LOCATION;VALUE=URI;X-ADDRESS=Lawson’s Finest Taproom 155 Carroll Road Waitsfield Vermont 05673;X-APPLE-RADIUS=500;X-TITLE=155 Carroll Road:geo:-72.8352541,44.1878437
END:VEVENT
BEGIN:VEVENT
DTSTART;TZID=America/New_York:20230709T150000
DTEND;TZID=America/New_York:20230709T170000
DTSTAMP:20260421T213554
CREATED:20230610T082530Z
LAST-MODIFIED:20230709T213819Z
UID:10004083-1688914800-1688922000@mrvvillage.com
SUMMARY:Summer Sundays: Ragged Company
DESCRIPTION:Hard rockin’ originals and covers from blues\, alt country\, and rock!
URL:https://mrvvillage.com/event/summer-sundays-ragged-company/
LOCATION:Lawson’s Finest Taproom\, 155 Carroll Road\, Waitsfield\, Vermont\, 05673
CATEGORIES:At the Brewery,Tuesday Tunes,Vermont
ATTACH;FMTTYPE=image/jpeg:https://mrvvillage.com/wp-content/uploads/2023/06/image_6487327-UfP4a5.tmp_-8ir4Lw.tmp_.jpg
ORGANIZER;CN="Lawson%26%238217%3Bs%20Finest%20Liquids":MAILTO:hello@lawsonsfinest.com
GEO:44.1878437;-72.8352541
X-APPLE-STRUCTURED-LOCATION;VALUE=URI;X-ADDRESS=Lawson’s Finest Taproom 155 Carroll Road Waitsfield Vermont 05673;X-APPLE-RADIUS=500;X-TITLE=155 Carroll Road:geo:-72.8352541,44.1878437
END:VEVENT
BEGIN:VEVENT
DTSTART;TZID=America/New_York:20230711T170000
DTEND;TZID=America/New_York:20230711T190000
DTSTAMP:20260421T213554
CREATED:20230502T223922Z
LAST-MODIFIED:20230516T225415Z
UID:10003791-1689094800-1689102000@mrvvillage.com
SUMMARY:Tuesday Tunes: Barbacoa Duo
DESCRIPTION:Barbacoa Duo is the duo version of Barbacoa\, a Burlington based band that has been playing surf rock music for over two decades. The duo features lead guitarist Bill Mullins\, and rhythm guitarist Kirk Flanagan. Their original songs are a psychedelicized take on early 60’s surf and spaghetti western music.  They’ve been known to sing a few too.
URL:https://mrvvillage.com/event/tuesday-tunes-barbacoa-duo-2/
LOCATION:Lawson’s Finest Taproom\, 155 Carroll Road\, Waitsfield\, Vermont\, 05673
CATEGORIES:At the Brewery,Tuesday Tunes,Vermont
ATTACH;FMTTYPE=image/jpeg:https://mrvvillage.com/wp-content/uploads/2022/12/image1-gJBY5m.tmp_.jpg
ORGANIZER;CN="Lawson%26%238217%3Bs%20Finest%20Liquids":MAILTO:hello@lawsonsfinest.com
GEO:44.1878437;-72.8352541
X-APPLE-STRUCTURED-LOCATION;VALUE=URI;X-ADDRESS=Lawson’s Finest Taproom 155 Carroll Road Waitsfield Vermont 05673;X-APPLE-RADIUS=500;X-TITLE=155 Carroll Road:geo:-72.8352541,44.1878437
END:VEVENT
BEGIN:VEVENT
DTSTART;TZID=America/Halifax:20230712T120000
DTEND;TZID=America/Halifax:20230712T190000
DTSTAMP:20260421T213554
CREATED:20230613T131055Z
LAST-MODIFIED:20230712T222317Z
UID:10004095-1689163200-1689188400@mrvvillage.com
SUMMARY:Beers & Brats
DESCRIPTION:Join us for 5th Quarter Butchery Beer Brats and $5 pints of Little Sip IPA\, all day long!
URL:https://mrvvillage.com/event/beers-brats-20/
LOCATION:Lawson’s Finest Brewery\, 155 Carroll Road\, Waitsfield\, VT\, 05673\, United States
CATEGORIES:At the Brewery
ATTACH;FMTTYPE=image/jpeg:https://mrvvillage.com/wp-content/uploads/2023/05/LFL_BeersBrats-UPDATED-8.5X11-scaled-vlzP1w.tmp_-ghgJep.tmp_.jpg
ORGANIZER;CN="Lawson%26%238217%3Bs%20Finest%20Liquids":MAILTO:hello@lawsonsfinest.com
GEO:44.1878437;-72.8352541
X-APPLE-STRUCTURED-LOCATION;VALUE=URI;X-ADDRESS=Lawson’s Finest Brewery 155 Carroll Road Waitsfield VT 05673 United States;X-APPLE-RADIUS=500;X-TITLE=155 Carroll Road:geo:-72.8352541,44.1878437
END:VEVENT
BEGIN:VEVENT
DTSTART;TZID=America/New_York:20230716T150000
DTEND;TZID=America/New_York:20230716T170000
DTSTAMP:20260421T213554
CREATED:20230321T220823Z
LAST-MODIFIED:20230516T225416Z
UID:10003398-1689519600-1689526800@mrvvillage.com
SUMMARY:Summer Sundays: Granville Daze
DESCRIPTION:Granville Daze started in July 2021.  John and Victoria Crowne have been married over 33 years and moved with their 2 children\, now grown men\, to Granville Vermont in 2006.  They sing all original music all the time\, written by John.  Their tag line is: Organic music handcrafted and harvested in the Green Mountains of Vermont.  They have been performing around central  Vermont  and Enfield New Hampshire. The goal was to get good enough to play for the neighborhood. They didn’t expect the success and support they have received from the musical community. They sing about Peace\, love\, songs that make a statement about the environment and social activism. They recently submitted a song for NPR’s Tiny Desk Concert Contest. Granville Daze is excited to play for Lawson’s Finest and their friends in Waitsfield and surrounding towns.
URL:https://mrvvillage.com/event/tuesday-tunes-granville-daze/
LOCATION:Lawson’s Finest Taproom\, 155 Carroll Road\, Waitsfield\, Vermont\, 05673
CATEGORIES:At the Brewery,Tuesday Tunes,Vermont
ATTACH;FMTTYPE=image/jpeg:https://mrvvillage.com/wp-content/uploads/2023/04/image_67198465-scaled-udi8tA.tmp_.jpg
ORGANIZER;CN="Lawson%26%238217%3Bs%20Finest%20Liquids":MAILTO:hello@lawsonsfinest.com
GEO:44.1878437;-72.8352541
X-APPLE-STRUCTURED-LOCATION;VALUE=URI;X-ADDRESS=Lawson’s Finest Taproom 155 Carroll Road Waitsfield Vermont 05673;X-APPLE-RADIUS=500;X-TITLE=155 Carroll Road:geo:-72.8352541,44.1878437
END:VEVENT
BEGIN:VEVENT
DTSTART;TZID=America/New_York:20230716T150000
DTEND;TZID=America/New_York:20230716T170000
DTSTAMP:20260421T213554
CREATED:20230617T092559Z
LAST-MODIFIED:20230716T232328Z
UID:10004126-1689519600-1689526800@mrvvillage.com
SUMMARY:Summer Sundays: Granville Daze
DESCRIPTION:Granville Daze started in July 2021.  John and Victoria Crowne have been married over 33 years and moved with their 2 children\, now grown men\, to Granville Vermont in 2006.  They sing all original music all the time\, written by John.  Their tag line is: Organic music handcrafted and harvested in the Green Mountains of Vermont.  They have been performing around central  Vermont  and Enfield New Hampshire. The goal was to get good enough to play for the neighborhood. They didn’t expect the success and support they have received from the musical community. They sing about Peace\, love\, songs that make a statement about the environment and social activism. They recently submitted a song for NPR’s Tiny Desk Concert Contest. Granville Daze is excited to play for Lawson’s Finest and their friends in Waitsfield and surrounding towns.
URL:https://mrvvillage.com/event/summer-sundays-granville-daze/
LOCATION:Lawson’s Finest Taproom\, 155 Carroll Road\, Waitsfield\, Vermont\, 05673
CATEGORIES:At the Brewery,Tuesday Tunes,Vermont
ATTACH;FMTTYPE=image/jpeg:https://mrvvillage.com/wp-content/uploads/2023/06/image_67198465-scaled-HwP35x.tmp_-eLsVaD.tmp_.jpg
ORGANIZER;CN="Lawson%26%238217%3Bs%20Finest%20Liquids":MAILTO:hello@lawsonsfinest.com
GEO:44.1878437;-72.8352541
X-APPLE-STRUCTURED-LOCATION;VALUE=URI;X-ADDRESS=Lawson’s Finest Taproom 155 Carroll Road Waitsfield Vermont 05673;X-APPLE-RADIUS=500;X-TITLE=155 Carroll Road:geo:-72.8352541,44.1878437
END:VEVENT
BEGIN:VEVENT
DTSTART;TZID=America/New_York:20230718T170000
DTEND;TZID=America/New_York:20230718T190000
DTSTAMP:20260421T213554
CREATED:20230502T223926Z
LAST-MODIFIED:20230516T225416Z
UID:10003792-1689699600-1689706800@mrvvillage.com
SUMMARY:Tuesday Tunes: Phantom Airwave
DESCRIPTION:Phantom Airwave a progressive funk rock band from Burlington\, Vermont. The aim of the group is to be a ridiculously entertaining live act\, relying on a mix of original songs that exist somewhere in the overlapping circles of straight funk\, sexy soul and progressive rock.\n\n\n\nFounded in early 2015\, Phantom Airwave is made up of Erick Lattrell (keys\, vocals)\, Shawn Connolly (lead guitar\, vocals)\, Glen Wallace (drums\, vocals)\, Ben Irish (tenor & alto sax\, flute\, vocals)\, and Dan Jolly (bass\, just bass).
URL:https://mrvvillage.com/event/tuesday-tunes-phantom-airwave/
LOCATION:Lawson’s Finest Taproom\, 155 Carroll Road\, Waitsfield\, Vermont\, 05673
CATEGORIES:At the Brewery,Tuesday Tunes,Vermont
ATTACH;FMTTYPE=image/jpeg:https://mrvvillage.com/wp-content/uploads/2023/05/202456610_2846056308989156_8740908470574147695_n-scaled-e1655221919688-bYGuqo.tmp_.jpg
ORGANIZER;CN="Lawson%26%238217%3Bs%20Finest%20Liquids":MAILTO:hello@lawsonsfinest.com
GEO:44.1878437;-72.8352541
X-APPLE-STRUCTURED-LOCATION;VALUE=URI;X-ADDRESS=Lawson’s Finest Taproom 155 Carroll Road Waitsfield Vermont 05673;X-APPLE-RADIUS=500;X-TITLE=155 Carroll Road:geo:-72.8352541,44.1878437
END:VEVENT
BEGIN:VEVENT
DTSTART;TZID=America/New_York:20230718T170000
DTEND;TZID=America/New_York:20230718T190000
DTSTAMP:20260421T213554
CREATED:20230619T094047Z
LAST-MODIFIED:20230718T233821Z
UID:10004133-1689699600-1689706800@mrvvillage.com
SUMMARY:Tuesday Tunes: Phantom Airwave
DESCRIPTION:Phantom Airwave a progressive funk rock band from Burlington\, Vermont. The aim of the group is to be a ridiculously entertaining live act\, relying on a mix of original songs that exist somewhere in the overlapping circles of straight funk\, sexy soul and progressive rock.\n\n\n\nFounded in early 2015\, Phantom Airwave is made up of Erick Lattrell (keys\, vocals)\, Shawn Connolly (lead guitar\, vocals)\, Glen Wallace (drums\, vocals)\, Ben Irish (tenor & alto sax\, flute\, vocals)\, and Dan Jolly (bass\, just bass).
URL:https://mrvvillage.com/event/tuesday-tunes-phantom-airwave-2/
LOCATION:Lawson’s Finest Taproom\, 155 Carroll Road\, Waitsfield\, Vermont\, 05673
CATEGORIES:At the Brewery,Tuesday Tunes,Vermont
ATTACH;FMTTYPE=image/jpeg:https://mrvvillage.com/wp-content/uploads/2023/06/202456610_2846056308989156_8740908470574147695_n-scaled-e1655221919688-m4SoPW.tmp_-3i8O0U.tmp_.jpg
ORGANIZER;CN="Lawson%26%238217%3Bs%20Finest%20Liquids":MAILTO:hello@lawsonsfinest.com
GEO:44.1878437;-72.8352541
X-APPLE-STRUCTURED-LOCATION;VALUE=URI;X-ADDRESS=Lawson’s Finest Taproom 155 Carroll Road Waitsfield Vermont 05673;X-APPLE-RADIUS=500;X-TITLE=155 Carroll Road:geo:-72.8352541,44.1878437
END:VEVENT
BEGIN:VEVENT
DTSTART;TZID=America/Halifax:20230719T120000
DTEND;TZID=America/Halifax:20230719T190000
DTSTAMP:20260421T213554
CREATED:20230620T095551Z
LAST-MODIFIED:20230719T235407Z
UID:10004149-1689768000-1689793200@mrvvillage.com
SUMMARY:Beers & Brats
DESCRIPTION:Join us for 5th Quarter Butchery Beer Brats and $5 pints of Little Sip IPA\, all day long!
URL:https://mrvvillage.com/event/beers-brats-21/
LOCATION:Lawson’s Finest Brewery\, 155 Carroll Road\, Waitsfield\, VT\, 05673\, United States
CATEGORIES:At the Brewery
ATTACH;FMTTYPE=image/jpeg:https://mrvvillage.com/wp-content/uploads/2023/05/LFL_BeersBrats-UPDATED-8.5X11-scaled-vlzP1w.tmp_-ghgJep.tmp_.jpg
ORGANIZER;CN="Lawson%26%238217%3Bs%20Finest%20Liquids":MAILTO:hello@lawsonsfinest.com
GEO:44.1878437;-72.8352541
X-APPLE-STRUCTURED-LOCATION;VALUE=URI;X-ADDRESS=Lawson’s Finest Brewery 155 Carroll Road Waitsfield VT 05673 United States;X-APPLE-RADIUS=500;X-TITLE=155 Carroll Road:geo:-72.8352541,44.1878437
END:VEVENT
BEGIN:VEVENT
DTSTART;TZID=America/New_York:20230723T150000
DTEND;TZID=America/New_York:20230723T170000
DTSTAMP:20260421T213554
CREATED:20230502T223928Z
LAST-MODIFIED:20230516T225416Z
UID:10003793-1690124400-1690131600@mrvvillage.com
SUMMARY:Summer Sundays: Chicky Stoltz
DESCRIPTION:Original rock n’ roll from Waitsfield’s Chicky Stoltz. One part gutter and one part vaulted ceiling.
URL:https://mrvvillage.com/event/summer-sundays-chicky-stoltz/
LOCATION:Lawson’s Finest Taproom\, 155 Carroll Road\, Waitsfield\, Vermont\, 05673
CATEGORIES:At the Brewery,Tuesday Tunes,Vermont
ATTACH;FMTTYPE=image/png:https://mrvvillage.com/wp-content/uploads/2023/05/Screen-Shot-2022-08-02-at-12.24.54-PM-3R7bGP.tmp_.png
ORGANIZER;CN="Lawson%26%238217%3Bs%20Finest%20Liquids":MAILTO:hello@lawsonsfinest.com
GEO:44.1878437;-72.8352541
X-APPLE-STRUCTURED-LOCATION;VALUE=URI;X-ADDRESS=Lawson’s Finest Taproom 155 Carroll Road Waitsfield Vermont 05673;X-APPLE-RADIUS=500;X-TITLE=155 Carroll Road:geo:-72.8352541,44.1878437
END:VEVENT
BEGIN:VEVENT
DTSTART;TZID=America/New_York:20230723T150000
DTEND;TZID=America/New_York:20230723T170000
DTSTAMP:20260421T213554
CREATED:20230624T151122Z
LAST-MODIFIED:20230723T213820Z
UID:10004191-1690124400-1690131600@mrvvillage.com
SUMMARY:Summer Sundays: Chicky Stoltz
DESCRIPTION:Original rock n’ roll from Waitsfield’s Chicky Stoltz. One part gutter and one part vaulted ceiling.
URL:https://mrvvillage.com/event/summer-sundays-chicky-stoltz-2/
LOCATION:Lawson’s Finest Taproom\, 155 Carroll Road\, Waitsfield\, Vermont\, 05673
CATEGORIES:At the Brewery,Tuesday Tunes,Vermont
ATTACH;FMTTYPE=image/png:https://mrvvillage.com/wp-content/uploads/2023/06/Screen-Shot-2022-08-02-at-12.24.54-PM-oukF6V.tmp_-iS9tuC.tmp_.png
ORGANIZER;CN="Lawson%26%238217%3Bs%20Finest%20Liquids":MAILTO:hello@lawsonsfinest.com
GEO:44.1878437;-72.8352541
X-APPLE-STRUCTURED-LOCATION;VALUE=URI;X-ADDRESS=Lawson’s Finest Taproom 155 Carroll Road Waitsfield Vermont 05673;X-APPLE-RADIUS=500;X-TITLE=155 Carroll Road:geo:-72.8352541,44.1878437
END:VEVENT
BEGIN:VEVENT
DTSTART;TZID=America/New_York:20230725T170000
DTEND;TZID=America/New_York:20230725T190000
DTSTAMP:20260421T213554
CREATED:20230502T223932Z
LAST-MODIFIED:20230516T225416Z
UID:10003794-1690304400-1690311600@mrvvillage.com
SUMMARY:Tuesday Tunes: Madigan Linnane
DESCRIPTION:Madigan Linnane is an emerging musician who now resides in The Mad River Valley. Her thoughtful lyrics\, drawn from emotional life experiences\, combined with a modern folk/pop/indie musical style create songs that appeal to broad audiences. \nOver the last several years she has delighted listeners with performances in coffee shops\, restaurants\, country clubs\, farmer’s markets and a variety of private events. A versatile musician performing a mix of originals and covers\, Madigan plays acoustic guitar\, ukulele and piano but is best known for her velvety\, tender vocal style and original songwriting. Madigan took first place in Padavano’s Place 2018 Singer-Songwriter contest by performing 3 original songs including her Christmas song\, Snow Falls. Victor Infante of the Worcester Telegram wrote that she “…has a way of focusing on the joy her persona finds in other people’s delight\, a perspective that skirts the consumerism of the season.”
URL:https://mrvvillage.com/event/tuesday-tunes-madigan-linnane/
LOCATION:Lawson’s Finest Taproom\, 155 Carroll Road\, Waitsfield\, Vermont\, 05673
CATEGORIES:At the Brewery,Tuesday Tunes,Vermont
ATTACH;FMTTYPE=image/jpeg:https://mrvvillage.com/wp-content/uploads/2022/12/meta_eyJzcmNCdWNrZXQiOiJjb250ZW50LnNpdGV6b29nbGUuY29tIn0-MhldMK.tmp_.jpg
ORGANIZER;CN="Lawson%26%238217%3Bs%20Finest%20Liquids":MAILTO:hello@lawsonsfinest.com
GEO:44.1878437;-72.8352541
X-APPLE-STRUCTURED-LOCATION;VALUE=URI;X-ADDRESS=Lawson’s Finest Taproom 155 Carroll Road Waitsfield Vermont 05673;X-APPLE-RADIUS=500;X-TITLE=155 Carroll Road:geo:-72.8352541,44.1878437
END:VEVENT
BEGIN:VEVENT
DTSTART;TZID=America/Halifax:20230726T120000
DTEND;TZID=America/Halifax:20230726T190000
DTSTAMP:20260421T213554
CREATED:20230627T155637Z
LAST-MODIFIED:20230726T225321Z
UID:10004205-1690372800-1690398000@mrvvillage.com
SUMMARY:Beers & Brats
DESCRIPTION:Join us for 5th Quarter Butchery Beer Brats and $5 pints of Little Sip IPA\, all day long!
URL:https://mrvvillage.com/event/beers-brats-22/
LOCATION:Lawson’s Finest Brewery\, 155 Carroll Road\, Waitsfield\, VT\, 05673\, United States
CATEGORIES:At the Brewery
ATTACH;FMTTYPE=image/jpeg:https://mrvvillage.com/wp-content/uploads/2023/05/LFL_BeersBrats-UPDATED-8.5X11-scaled-vlzP1w.tmp_-ghgJep.tmp_.jpg
ORGANIZER;CN="Lawson%26%238217%3Bs%20Finest%20Liquids":MAILTO:hello@lawsonsfinest.com
GEO:44.1878437;-72.8352541
X-APPLE-STRUCTURED-LOCATION;VALUE=URI;X-ADDRESS=Lawson’s Finest Brewery 155 Carroll Road Waitsfield VT 05673 United States;X-APPLE-RADIUS=500;X-TITLE=155 Carroll Road:geo:-72.8352541,44.1878437
END:VEVENT
BEGIN:VEVENT
DTSTART;TZID=America/New_York:20230730T150000
DTEND;TZID=America/New_York:20230730T170000
DTSTAMP:20260421T213554
CREATED:20230701T164135Z
LAST-MODIFIED:20230730T123819Z
UID:10004233-1690729200-1690736400@mrvvillage.com
SUMMARY:Summer Sundays: John Lackard Blues Duo
DESCRIPTION:A sound and style straight out of traditional blues cities.
URL:https://mrvvillage.com/event/summer-sundays-john-lackard-blues-duo/
LOCATION:Lawson’s Finest Taproom\, 155 Carroll Road\, Waitsfield\, Vermont\, 05673
CATEGORIES:At the Brewery,Tuesday Tunes,Vermont
ATTACH;FMTTYPE=image/jpeg:https://mrvvillage.com/wp-content/uploads/2023/07/Pub-Photo-2020-S-ttlFEO.tmp_-EHTx8l.tmp_.jpg
ORGANIZER;CN="Lawson%26%238217%3Bs%20Finest%20Liquids":MAILTO:hello@lawsonsfinest.com
GEO:44.1878437;-72.8352541
X-APPLE-STRUCTURED-LOCATION;VALUE=URI;X-ADDRESS=Lawson’s Finest Taproom 155 Carroll Road Waitsfield Vermont 05673;X-APPLE-RADIUS=500;X-TITLE=155 Carroll Road:geo:-72.8352541,44.1878437
END:VEVENT
END:VCALENDAR