BEGIN:VCALENDAR
VERSION:2.0
PRODID:-//The Mad River Valley Village - ECPv6.0.13//NONSGML v1.0//EN
CALSCALE:GREGORIAN
METHOD:PUBLISH
X-ORIGINAL-URL:https://mrvvillage.com
X-WR-CALDESC:Events for The Mad River Valley Village
REFRESH-INTERVAL;VALUE=DURATION:PT1H
X-Robots-Tag:noindex
X-PUBLISHED-TTL:PT1H
BEGIN:VTIMEZONE
TZID:America/New_York
BEGIN:DAYLIGHT
TZOFFSETFROM:-0500
TZOFFSETTO:-0400
TZNAME:EDT
DTSTART:20230312T070000
END:DAYLIGHT
BEGIN:STANDARD
TZOFFSETFROM:-0400
TZOFFSETTO:-0500
TZNAME:EST
DTSTART:20231105T060000
END:STANDARD
TZID:America/Halifax
BEGIN:DAYLIGHT
TZOFFSETFROM:-0400
TZOFFSETTO:-0300
TZNAME:ADT
DTSTART:20230312T060000
END:DAYLIGHT
BEGIN:STANDARD
TZOFFSETFROM:-0300
TZOFFSETTO:-0400
TZNAME:AST
DTSTART:20231105T050000
END:STANDARD
END:VTIMEZONE
BEGIN:VEVENT
DTSTART;TZID=America/New_York:20230801T170000
DTEND;TZID=America/New_York:20230801T190000
DTSTAMP:20260421T231028
CREATED:20230509T223931Z
LAST-MODIFIED:20230516T225422Z
UID:10003909-1690909200-1690916400@mrvvillage.com
SUMMARY:Tuesday Tunes: Chris Peterman Quartet
DESCRIPTION:The Chris Peterman Quartet brings together four of Vermont’s finest and most sought-after musicians\, playing a wide variety of contemporary and classic jazz in a uniquely melodic style\, and focused on the dialog and interplay that are the heart of jazz. Their repertoire includes compositions by the band as well as reimaginings of the music of Pat Metheny\, Weather Report\, Chick Corea\, and Don Grolnick\, among others.
URL:https://mrvvillage.com/event/tuesday-tunes-chris-peterman-quartet/
LOCATION:Lawson’s Finest Taproom\, 155 Carroll Road\, Waitsfield\, Vermont\, 05673
CATEGORIES:At the Brewery,Tuesday Tunes,Vermont
ATTACH;FMTTYPE=image/png:https://mrvvillage.com/wp-content/uploads/2022/12/Screen-Shot-2022-05-23-at-1.08.07-PM-rM4IJs.tmp_.png
ORGANIZER;CN="Lawson%26%238217%3Bs%20Finest%20Liquids":MAILTO:hello@lawsonsfinest.com
GEO:44.1878437;-72.8352541
X-APPLE-STRUCTURED-LOCATION;VALUE=URI;X-ADDRESS=Lawson’s Finest Taproom 155 Carroll Road Waitsfield Vermont 05673;X-APPLE-RADIUS=500;X-TITLE=155 Carroll Road:geo:-72.8352541,44.1878437
END:VEVENT
BEGIN:VEVENT
DTSTART;TZID=America/New_York:20230801T170000
DTEND;TZID=America/New_York:20230801T190000
DTSTAMP:20260421T231028
CREATED:20230703T165634Z
LAST-MODIFIED:20230801T130823Z
UID:10004236-1690909200-1690916400@mrvvillage.com
SUMMARY:Tuesday Tunes: Chris Peterman Quartet
DESCRIPTION:The Chris Peterman Quartet brings together four of Vermont’s finest and most sought-after musicians\, playing a wide variety of contemporary and classic jazz in a uniquely melodic style\, and focused on the dialog and interplay that are the heart of jazz. Their repertoire includes compositions by the band as well as reimaginings of the music of Pat Metheny\, Weather Report\, Chick Corea\, and Don Grolnick\, among others.
URL:https://mrvvillage.com/event/tuesday-tunes-chris-peterman-quartet-2/
LOCATION:Lawson’s Finest Taproom\, 155 Carroll Road\, Waitsfield\, Vermont\, 05673
CATEGORIES:At the Brewery,Tuesday Tunes,Vermont
ATTACH;FMTTYPE=image/png:https://mrvvillage.com/wp-content/uploads/2023/07/Screen-Shot-2022-05-23-at-1.08.07-PM-WYCSbV.tmp_-246aq9.tmp_.png
ORGANIZER;CN="Lawson%26%238217%3Bs%20Finest%20Liquids":MAILTO:hello@lawsonsfinest.com
GEO:44.1878437;-72.8352541
X-APPLE-STRUCTURED-LOCATION;VALUE=URI;X-ADDRESS=Lawson’s Finest Taproom 155 Carroll Road Waitsfield Vermont 05673;X-APPLE-RADIUS=500;X-TITLE=155 Carroll Road:geo:-72.8352541,44.1878437
END:VEVENT
BEGIN:VEVENT
DTSTART;TZID=America/New_York:20230806T150000
DTEND;TZID=America/New_York:20230806T170000
DTSTAMP:20260421T231028
CREATED:20230806T025320Z
LAST-MODIFIED:20230806T142315Z
UID:10004552-1691334000-1691341200@mrvvillage.com
SUMMARY:Summer Sundays: Otter Creek Bluegrass
DESCRIPTION:Burlington-based bluegrass trio!
URL:https://mrvvillage.com/event/summer-sundays-otter-creek-bluegrass/
LOCATION:Lawson’s Finest Taproom\, 155 Carroll Road\, Waitsfield\, Vermont\, 05673
CATEGORIES:At the Brewery,Tuesday Tunes,Vermont
ATTACH;FMTTYPE=image/png:https://mrvvillage.com/wp-content/uploads/2023/08/Screenshot_20230805-152337-606-NhUEyB.tmp_-EyPfCl.tmp_.png
ORGANIZER;CN="Lawson%26%238217%3Bs%20Finest%20Liquids":MAILTO:hello@lawsonsfinest.com
GEO:44.1878437;-72.8352541
X-APPLE-STRUCTURED-LOCATION;VALUE=URI;X-ADDRESS=Lawson’s Finest Taproom 155 Carroll Road Waitsfield Vermont 05673;X-APPLE-RADIUS=500;X-TITLE=155 Carroll Road:geo:-72.8352541,44.1878437
END:VEVENT
BEGIN:VEVENT
DTSTART;TZID=America/New_York:20230808T170000
DTEND;TZID=America/New_York:20230808T190000
DTSTAMP:20260421T231028
CREATED:20230516T225422Z
LAST-MODIFIED:20230516T225422Z
UID:10003971-1691514000-1691521200@mrvvillage.com
SUMMARY:Tuesday Tunes: Bettenroo
DESCRIPTION:Bettenroo is a dynamic\, versatile musical duo with undeniable vocal strength. Lori Jacobs & Anne Davey‘s flawlessly blended harmony is complemented with instrumental versatility of guitar\, bass\, and occasional percussion. \nBased in Delaware & Vermont\, Bettenroo performs in the US and beyond. They have been featured on Freeman Stage (a host to many national acts like Alison Kraus\, Chicago\, Melissa Etheridge\, etc)\, Milton Theatre\, WBOC’s Delmarva Life\, Florida’s Gulf Coast & Keys\, Ladybug Festival\, New England as well as venues in New Zealand\, Australia\, Ireland\, Costa Rica and Belize. Audiences can’t help but become an integral part of Anne and Lori’s passionate musical delivery. Check out Bettenroo’s CD ‘Live Out Loud‘.
URL:https://mrvvillage.com/event/tuesday-tunes-bettenroo/
LOCATION:Lawson’s Finest Taproom\, 155 Carroll Road\, Waitsfield\, Vermont\, 05673
CATEGORIES:At the Brewery,Tuesday Tunes,Vermont
ATTACH;FMTTYPE=image/png:https://mrvvillage.com/wp-content/uploads/2023/04/Screen-Shot-2023-04-20-at-4.03.15-PM-Xtu8Ga.tmp_.png
ORGANIZER;CN="Lawson%26%238217%3Bs%20Finest%20Liquids":MAILTO:hello@lawsonsfinest.com
GEO:44.1878437;-72.8352541
X-APPLE-STRUCTURED-LOCATION;VALUE=URI;X-ADDRESS=Lawson’s Finest Taproom 155 Carroll Road Waitsfield Vermont 05673;X-APPLE-RADIUS=500;X-TITLE=155 Carroll Road:geo:-72.8352541,44.1878437
END:VEVENT
BEGIN:VEVENT
DTSTART;TZID=America/New_York:20230808T170000
DTEND;TZID=America/New_York:20230808T190000
DTSTAMP:20260421T231028
CREATED:20230710T182718Z
LAST-MODIFIED:20230808T145321Z
UID:10004326-1691514000-1691521200@mrvvillage.com
SUMMARY:Tuesday Tunes: REDadmiral
DESCRIPTION:Hailing from the greater Burlington area of Vermont\, REDadmiral plays foot stomping alt rock music covering a wide range of styles and vibes. Songwriter Gordon Glover concocts tasty original tunes\, which the band serves up with a side of satisfying covers. Originally playing electric instruments\, the band has shed the big amps in favor of a more organic groove. Resonator and acoustic guitars\, backed by stand up bass and an eclectic mix of hillbilly percussion blend together for a warm and energetic sound.
URL:https://mrvvillage.com/event/tuesday-tunes-bettenroo-2/
LOCATION:Lawson’s Finest Taproom\, 155 Carroll Road\, Waitsfield\, Vermont\, 05673
CATEGORIES:At the Brewery,Tuesday Tunes,Vermont
ATTACH;FMTTYPE=image/png:https://mrvvillage.com/wp-content/uploads/2023/08/Screen-Shot-2023-08-05-at-3.12.10-PM-NbH853.tmp_-mTIrAq.tmp_.png
ORGANIZER;CN="Lawson%26%238217%3Bs%20Finest%20Liquids":MAILTO:hello@lawsonsfinest.com
GEO:44.1878437;-72.8352541
X-APPLE-STRUCTURED-LOCATION;VALUE=URI;X-ADDRESS=Lawson’s Finest Taproom 155 Carroll Road Waitsfield Vermont 05673;X-APPLE-RADIUS=500;X-TITLE=155 Carroll Road:geo:-72.8352541,44.1878437
END:VEVENT
BEGIN:VEVENT
DTSTART;TZID=America/Halifax:20230809T120000
DTEND;TZID=America/Halifax:20230809T190000
DTSTAMP:20260421T231028
CREATED:20230806T025347Z
LAST-MODIFIED:20230809T150821Z
UID:10004553-1691582400-1691607600@mrvvillage.com
SUMMARY:Beers & Brats
DESCRIPTION:Join us for 5th Quarter Butchery Beer Brats and $5 pints of Little Sip IPA\, all day long!
URL:https://mrvvillage.com/event/beers-brats-23/
LOCATION:Lawson’s Finest Brewery\, 155 Carroll Road\, Waitsfield\, VT\, 05673\, United States
CATEGORIES:At the Brewery
ATTACH;FMTTYPE=image/jpeg:https://mrvvillage.com/wp-content/uploads/2023/05/LFL_BeersBrats-UPDATED-8.5X11-scaled-vlzP1w.tmp_-ghgJep.tmp_.jpg
ORGANIZER;CN="Lawson%26%238217%3Bs%20Finest%20Liquids":MAILTO:hello@lawsonsfinest.com
GEO:44.1878437;-72.8352541
X-APPLE-STRUCTURED-LOCATION;VALUE=URI;X-ADDRESS=Lawson’s Finest Brewery 155 Carroll Road Waitsfield VT 05673 United States;X-APPLE-RADIUS=500;X-TITLE=155 Carroll Road:geo:-72.8352541,44.1878437
END:VEVENT
BEGIN:VEVENT
DTSTART;TZID=America/New_York:20230813T150000
DTEND;TZID=America/New_York:20230813T170000
DTSTAMP:20260421T231028
CREATED:20230626T154105Z
LAST-MODIFIED:20230813T160824Z
UID:10004196-1691938800-1691946000@mrvvillage.com
SUMMARY:Summer Sundays: Madigan Linnane
DESCRIPTION:Madigan Linnane is an emerging musician who now resides in The Mad River Valley. Her thoughtful lyrics\, drawn from emotional life experiences\, combined with a modern folk/pop/indie musical style create songs that appeal to broad audiences. \nOver the last several years she has delighted listeners with performances in coffee shops\, restaurants\, country clubs\, farmer’s markets and a variety of private events. A versatile musician performing a mix of originals and covers\, Madigan plays acoustic guitar\, ukulele and piano but is best known for her velvety\, tender vocal style and original songwriting. Madigan took first place in Padavano’s Place 2018 Singer-Songwriter contest by performing 3 original songs including her Christmas song\, Snow Falls. Victor Infante of the Worcester Telegram wrote that she “…has a way of focusing on the joy her persona finds in other people’s delight\, a perspective that skirts the consumerism of the season.”
URL:https://mrvvillage.com/event/tuesday-tunes-madigan-linnane-2/
LOCATION:Lawson’s Finest Taproom\, 155 Carroll Road\, Waitsfield\, Vermont\, 05673
CATEGORIES:At the Brewery,Tuesday Tunes,Vermont
ATTACH;FMTTYPE=image/jpeg:https://mrvvillage.com/wp-content/uploads/2023/06/meta_eyJzcmNCdWNrZXQiOiJjb250ZW50LnNpdGV6b29nbGUuY29tIn0-eEajbC.tmp_-kRTKT4.tmp_.jpg
ORGANIZER;CN="Lawson%26%238217%3Bs%20Finest%20Liquids":MAILTO:hello@lawsonsfinest.com
GEO:44.1878437;-72.8352541
X-APPLE-STRUCTURED-LOCATION;VALUE=URI;X-ADDRESS=Lawson’s Finest Taproom 155 Carroll Road Waitsfield Vermont 05673;X-APPLE-RADIUS=500;X-TITLE=155 Carroll Road:geo:-72.8352541,44.1878437
END:VEVENT
BEGIN:VEVENT
DTSTART;TZID=America/New_York:20230815T170000
DTEND;TZID=America/New_York:20230815T190000
DTSTAMP:20260421T231028
CREATED:20230716T232643Z
LAST-MODIFIED:20230814T162328Z
UID:10004348-1692118800-1692126000@mrvvillage.com
SUMMARY:Tuesday Tunes: Bob Recupero
DESCRIPTION:Music for your ears and soul.
URL:https://mrvvillage.com/event/tuesday-tunes-bob-recupero-3/
LOCATION:Lawson’s Finest Taproom\, 155 Carroll Road\, Waitsfield\, Vermont\, 05673
CATEGORIES:At the Brewery,Tuesday Tunes,Vermont
ATTACH;FMTTYPE=image/png:https://mrvvillage.com/wp-content/uploads/2023/05/Screen-Shot-2023-02-20-at-6.18.01-PM-Iaw0Y6.tmp_-RxziU2.tmp_.png
ORGANIZER;CN="Lawson%26%238217%3Bs%20Finest%20Liquids":MAILTO:hello@lawsonsfinest.com
GEO:44.1878437;-72.8352541
X-APPLE-STRUCTURED-LOCATION;VALUE=URI;X-ADDRESS=Lawson’s Finest Taproom 155 Carroll Road Waitsfield Vermont 05673;X-APPLE-RADIUS=500;X-TITLE=155 Carroll Road:geo:-72.8352541,44.1878437
END:VEVENT
BEGIN:VEVENT
DTSTART;TZID=America/Halifax:20230816T120000
DTEND;TZID=America/Halifax:20230816T190000
DTSTAMP:20260421T231028
CREATED:20230806T025437Z
LAST-MODIFIED:20230816T165326Z
UID:10004555-1692187200-1692212400@mrvvillage.com
SUMMARY:Beers & Brats
DESCRIPTION:Join us for 5th Quarter Butchery Beer Brats and $5 pints of Little Sip IPA\, all day long!
URL:https://mrvvillage.com/event/beers-brats-24/
LOCATION:Lawson’s Finest Brewery\, 155 Carroll Road\, Waitsfield\, VT\, 05673\, United States
CATEGORIES:At the Brewery
ATTACH;FMTTYPE=image/jpeg:https://mrvvillage.com/wp-content/uploads/2023/05/LFL_BeersBrats-UPDATED-8.5X11-scaled-vlzP1w.tmp_-ghgJep.tmp_.jpg
ORGANIZER;CN="Lawson%26%238217%3Bs%20Finest%20Liquids":MAILTO:hello@lawsonsfinest.com
GEO:44.1878437;-72.8352541
X-APPLE-STRUCTURED-LOCATION;VALUE=URI;X-ADDRESS=Lawson’s Finest Brewery 155 Carroll Road Waitsfield VT 05673 United States;X-APPLE-RADIUS=500;X-TITLE=155 Carroll Road:geo:-72.8352541,44.1878437
END:VEVENT
BEGIN:VEVENT
DTSTART;TZID=America/New_York:20230822T170000
DTEND;TZID=America/New_York:20230822T190000
DTSTAMP:20260421T231028
CREATED:20230724T005617Z
LAST-MODIFIED:20230822T182329Z
UID:10004460-1692723600-1692730800@mrvvillage.com
SUMMARY:Tuesday Tunes: The Steppes
DESCRIPTION:Wide-open rock fusion from Vermont\, USA.
URL:https://mrvvillage.com/event/tuesday-tunes-the-steppes/
LOCATION:Lawson’s Finest Taproom\, 155 Carroll Road\, Waitsfield\, Vermont\, 05673
CATEGORIES:At the Brewery,Tuesday Tunes,Vermont
ATTACH;FMTTYPE=image/png:https://mrvvillage.com/wp-content/uploads/2023/07/Screen-Shot-2023-04-26-at-5.21.48-PM-NZ1aOf.tmp_-Gnxt6d.tmp_.png
ORGANIZER;CN="Lawson%26%238217%3Bs%20Finest%20Liquids":MAILTO:hello@lawsonsfinest.com
GEO:44.1878437;-72.8352541
X-APPLE-STRUCTURED-LOCATION;VALUE=URI;X-ADDRESS=Lawson’s Finest Taproom 155 Carroll Road Waitsfield Vermont 05673;X-APPLE-RADIUS=500;X-TITLE=155 Carroll Road:geo:-72.8352541,44.1878437
END:VEVENT
BEGIN:VEVENT
DTSTART;TZID=America/Halifax:20230823T120000
DTEND;TZID=America/Halifax:20230823T190000
DTSTAMP:20260421T231028
CREATED:20230806T025528Z
LAST-MODIFIED:20230823T183826Z
UID:10004557-1692792000-1692817200@mrvvillage.com
SUMMARY:Beers & Brats
DESCRIPTION:Join us for 5th Quarter Butchery Beer Brats and $5 pints of Little Sip IPA\, all day long!
URL:https://mrvvillage.com/event/beers-brats-25/
LOCATION:Lawson’s Finest Brewery\, 155 Carroll Road\, Waitsfield\, VT\, 05673\, United States
CATEGORIES:At the Brewery
ATTACH;FMTTYPE=image/jpeg:https://mrvvillage.com/wp-content/uploads/2023/05/LFL_BeersBrats-UPDATED-8.5X11-scaled-vlzP1w.tmp_-ghgJep.tmp_.jpg
ORGANIZER;CN="Lawson%26%238217%3Bs%20Finest%20Liquids":MAILTO:hello@lawsonsfinest.com
GEO:44.1878437;-72.8352541
X-APPLE-STRUCTURED-LOCATION;VALUE=URI;X-ADDRESS=Lawson’s Finest Brewery 155 Carroll Road Waitsfield VT 05673 United States;X-APPLE-RADIUS=500;X-TITLE=155 Carroll Road:geo:-72.8352541,44.1878437
END:VEVENT
BEGIN:VEVENT
DTSTART;TZID=America/New_York:20230827T150000
DTEND;TZID=America/New_York:20230827T170000
DTSTAMP:20260421T231028
CREATED:20230806T025615Z
LAST-MODIFIED:20230827T193838Z
UID:10004559-1693148400-1693155600@mrvvillage.com
SUMMARY:Summer Sundays: Roger Giroux
DESCRIPTION:Roger Giroux is a solo acoustic Artist/singer. His shows consists of original songs and covers\, including songs from John Mayer\, Eric Clapton\, America\, Merle Haggard\, and John Hiatt; to name a few .
URL:https://mrvvillage.com/event/summer-sundays-roger-giroux/
LOCATION:Lawson’s Finest Taproom\, 155 Carroll Road\, Waitsfield\, Vermont\, 05673
CATEGORIES:At the Brewery,Tuesday Tunes,Vermont
ATTACH;FMTTYPE=image/png:https://mrvvillage.com/wp-content/uploads/2023/08/Screen-Shot-2023-08-05-at-4.16.58-PM-f1xalv.tmp_-Jd0EN9.tmp_.png
ORGANIZER;CN="Lawson%26%238217%3Bs%20Finest%20Liquids":MAILTO:hello@lawsonsfinest.com
GEO:44.1878437;-72.8352541
X-APPLE-STRUCTURED-LOCATION;VALUE=URI;X-ADDRESS=Lawson’s Finest Taproom 155 Carroll Road Waitsfield Vermont 05673;X-APPLE-RADIUS=500;X-TITLE=155 Carroll Road:geo:-72.8352541,44.1878437
END:VEVENT
BEGIN:VEVENT
DTSTART;TZID=America/New_York:20230829T170000
DTEND;TZID=America/New_York:20230829T190000
DTSTAMP:20260421T231028
CREATED:20230731T012642Z
LAST-MODIFIED:20230829T213823Z
UID:10004511-1693328400-1693335600@mrvvillage.com
SUMMARY:Tuesday Tunes: Phineas Gage
DESCRIPTION:Music for happy brains. Out of Waitsfield\, VT.
URL:https://mrvvillage.com/event/tuesday-tunes-phineas-gage/
LOCATION:Lawson’s Finest Taproom\, 155 Carroll Road\, Waitsfield\, Vermont\, 05673
CATEGORIES:At the Brewery,Tuesday Tunes,Vermont
ATTACH;FMTTYPE=image/png:https://mrvvillage.com/wp-content/uploads/2023/07/Screen-Shot-2023-04-26-at-5.32.22-PM-QhdaBm.tmp_-d4FysE.tmp_.png
ORGANIZER;CN="Lawson%26%238217%3Bs%20Finest%20Liquids":MAILTO:hello@lawsonsfinest.com
GEO:44.1878437;-72.8352541
X-APPLE-STRUCTURED-LOCATION;VALUE=URI;X-ADDRESS=Lawson’s Finest Taproom 155 Carroll Road Waitsfield Vermont 05673;X-APPLE-RADIUS=500;X-TITLE=155 Carroll Road:geo:-72.8352541,44.1878437
END:VEVENT
BEGIN:VEVENT
DTSTART;TZID=America/Halifax:20230830T120000
DTEND;TZID=America/Halifax:20230830T190000
DTSTAMP:20260421T231028
CREATED:20230806T025635Z
LAST-MODIFIED:20230830T215327Z
UID:10004560-1693396800-1693422000@mrvvillage.com
SUMMARY:Beers & Brats
DESCRIPTION:Join us for 5th Quarter Butchery Beer Brats and $5 pints of Little Sip IPA\, all day long!
URL:https://mrvvillage.com/event/beers-brats-26/
LOCATION:Lawson’s Finest Brewery\, 155 Carroll Road\, Waitsfield\, VT\, 05673\, United States
CATEGORIES:At the Brewery
ATTACH;FMTTYPE=image/jpeg:https://mrvvillage.com/wp-content/uploads/2023/05/LFL_BeersBrats-UPDATED-8.5X11-scaled-vlzP1w.tmp_-ghgJep.tmp_.jpg
ORGANIZER;CN="Lawson%26%238217%3Bs%20Finest%20Liquids":MAILTO:hello@lawsonsfinest.com
GEO:44.1878437;-72.8352541
X-APPLE-STRUCTURED-LOCATION;VALUE=URI;X-ADDRESS=Lawson’s Finest Brewery 155 Carroll Road Waitsfield VT 05673 United States;X-APPLE-RADIUS=500;X-TITLE=155 Carroll Road:geo:-72.8352541,44.1878437
END:VEVENT
END:VCALENDAR