BEGIN:VCALENDAR
VERSION:2.0
PRODID:-//The Mad River Valley Village - ECPv6.0.13//NONSGML v1.0//EN
CALSCALE:GREGORIAN
METHOD:PUBLISH
X-WR-CALNAME:The Mad River Valley Village
X-ORIGINAL-URL:https://mrvvillage.com
X-WR-CALDESC:Events for The Mad River Valley Village
REFRESH-INTERVAL;VALUE=DURATION:PT1H
X-Robots-Tag:noindex
X-PUBLISHED-TTL:PT1H
BEGIN:VTIMEZONE
TZID:America/Halifax
BEGIN:DAYLIGHT
TZOFFSETFROM:-0400
TZOFFSETTO:-0300
TZNAME:ADT
DTSTART:20230312T060000
END:DAYLIGHT
BEGIN:STANDARD
TZOFFSETFROM:-0300
TZOFFSETTO:-0400
TZNAME:AST
DTSTART:20231105T050000
END:STANDARD
TZID:America/New_York
BEGIN:DAYLIGHT
TZOFFSETFROM:-0500
TZOFFSETTO:-0400
TZNAME:EDT
DTSTART:20230312T070000
END:DAYLIGHT
BEGIN:STANDARD
TZOFFSETFROM:-0400
TZOFFSETTO:-0500
TZNAME:EST
DTSTART:20231105T060000
END:STANDARD
END:VTIMEZONE
BEGIN:VEVENT
DTSTART;TZID=America/Halifax:20231101T120000
DTEND;TZID=America/Halifax:20231101T190000
DTSTAMP:20260422T101712
CREATED:20231028T183927Z
LAST-MODIFIED:20231101T235314Z
UID:10005453-1698840000-1698865200@mrvvillage.com
SUMMARY:Beers & Brats
DESCRIPTION:Join us for 5th Quarter Butchery Beer Brats and $5 pints of Little Sip IPA\, all day long!
URL:https://mrvvillage.com/event/beers-brats-31/
LOCATION:Lawson’s Finest Brewery\, 155 Carroll Road\, Waitsfield\, VT\, 05673\, United States
CATEGORIES:At the Brewery
ATTACH;FMTTYPE=image/jpeg:https://mrvvillage.com/wp-content/uploads/2023/05/LFL_BeersBrats-UPDATED-8.5X11-scaled-vlzP1w.tmp_-ghgJep.tmp_.jpg
ORGANIZER;CN="Lawson%26%238217%3Bs%20Finest%20Liquids":MAILTO:hello@lawsonsfinest.com
GEO:44.1878437;-72.8352541
X-APPLE-STRUCTURED-LOCATION;VALUE=URI;X-ADDRESS=Lawson’s Finest Brewery 155 Carroll Road Waitsfield VT 05673 United States;X-APPLE-RADIUS=500;X-TITLE=155 Carroll Road:geo:-72.8352541,44.1878437
END:VEVENT
BEGIN:VEVENT
DTSTART;TZID=America/New_York:20231107T170000
DTEND;TZID=America/New_York:20231107T190000
DTSTAMP:20260422T101712
CREATED:20231008T180959Z
LAST-MODIFIED:20231107T202312Z
UID:10005358-1699376400-1699383600@mrvvillage.com
SUMMARY:Tuesday Tunes: Jaded Ravins
DESCRIPTION:Jaded Ravins members Kelly Ravin and Halle Jade began performing together in 2017 after Halle joined Kelly in the recording of his 5th highly acclaimed album “Engine”. \nRavin\, former lead singer and guitarist of  Waylon Speed now performs his soulful americana\, and country rock originals with Halle Jade. Halle’s tasty harmonies and Kelly’s powerful voice along with their engaging entertainment style make them a dynamic and expressive duo. \nKelly and Halle\, who have been called a modern day Johnny and June\, perform in large and small venues from New England to Nashville. Whether they’re playing at home in backcountry bars\, or in big city clubs\, Jaded Ravins are always ready to pour their hearts out on stage.
URL:https://mrvvillage.com/event/tuesday-tunes-jaded-ravins-2/
LOCATION:Lawson’s Finest Taproom\, 155 Carroll Road\, Waitsfield\, Vermont\, 05673
CATEGORIES:At the Brewery,Tuesday Tunes,Vermont
ATTACH;FMTTYPE=image/jpeg:https://mrvvillage.com/wp-content/uploads/2023/05/Jaded-Ravins-v5C3M4.tmp_-dZJw29.tmp_.jpg
ORGANIZER;CN="Lawson%26%238217%3Bs%20Finest%20Liquids":MAILTO:hello@lawsonsfinest.com
GEO:44.1878437;-72.8352541
X-APPLE-STRUCTURED-LOCATION;VALUE=URI;X-ADDRESS=Lawson’s Finest Taproom 155 Carroll Road Waitsfield Vermont 05673;X-APPLE-RADIUS=500;X-TITLE=155 Carroll Road:geo:-72.8352541,44.1878437
END:VEVENT
BEGIN:VEVENT
DTSTART;TZID=America/Halifax:20231108T120000
DTEND;TZID=America/Halifax:20231108T190000
DTSTAMP:20260422T101712
CREATED:20231028T184000Z
LAST-MODIFIED:20231108T203846Z
UID:10005457-1699444800-1699470000@mrvvillage.com
SUMMARY:Beers & Brats
DESCRIPTION:Join us for 5th Quarter Butchery Beer Brats and $5 pints of Little Sip IPA\, all day long!
URL:https://mrvvillage.com/event/beers-brats-32/
LOCATION:Lawson’s Finest Brewery\, 155 Carroll Road\, Waitsfield\, VT\, 05673\, United States
CATEGORIES:At the Brewery
ATTACH;FMTTYPE=image/jpeg:https://mrvvillage.com/wp-content/uploads/2023/05/LFL_BeersBrats-UPDATED-8.5X11-scaled-vlzP1w.tmp_-ghgJep.tmp_.jpg
ORGANIZER;CN="Lawson%26%238217%3Bs%20Finest%20Liquids":MAILTO:hello@lawsonsfinest.com
GEO:44.1878437;-72.8352541
X-APPLE-STRUCTURED-LOCATION;VALUE=URI;X-ADDRESS=Lawson’s Finest Brewery 155 Carroll Road Waitsfield VT 05673 United States;X-APPLE-RADIUS=500;X-TITLE=155 Carroll Road:geo:-72.8352541,44.1878437
END:VEVENT
BEGIN:VEVENT
DTSTART;TZID=America/Halifax:20231115T120000
DTEND;TZID=America/Halifax:20231115T190000
DTSTAMP:20260422T101712
CREATED:20231028T184036Z
LAST-MODIFIED:20231115T213822Z
UID:10005461-1700049600-1700074800@mrvvillage.com
SUMMARY:Beers & Brats
DESCRIPTION:Join us for 5th Quarter Butchery Beer Brats and $5 pints of Little Sip IPA\, all day long!
URL:https://mrvvillage.com/event/beers-brats-33/
LOCATION:Lawson’s Finest Brewery\, 155 Carroll Road\, Waitsfield\, VT\, 05673\, United States
CATEGORIES:At the Brewery
ATTACH;FMTTYPE=image/jpeg:https://mrvvillage.com/wp-content/uploads/2023/05/LFL_BeersBrats-UPDATED-8.5X11-scaled-vlzP1w.tmp_-ghgJep.tmp_.jpg
ORGANIZER;CN="Lawson%26%238217%3Bs%20Finest%20Liquids":MAILTO:hello@lawsonsfinest.com
GEO:44.1878437;-72.8352541
X-APPLE-STRUCTURED-LOCATION;VALUE=URI;X-ADDRESS=Lawson’s Finest Brewery 155 Carroll Road Waitsfield VT 05673 United States;X-APPLE-RADIUS=500;X-TITLE=155 Carroll Road:geo:-72.8352541,44.1878437
END:VEVENT
BEGIN:VEVENT
DTSTART;TZID=America/New_York:20231121T170000
DTEND;TZID=America/New_York:20231121T190000
DTSTAMP:20260422T101712
CREATED:20231022T172438Z
LAST-MODIFIED:20231121T220814Z
UID:10005426-1700586000-1700593200@mrvvillage.com
SUMMARY:Tuesday Tunes: Bruce Sklar Jazz Quintet
DESCRIPTION:Bruce Sklar’s powerhouse jazz quintet! A triumphant return to the taproom.
URL:https://mrvvillage.com/event/tuesday-tunes-bruce-sklar-jazz-quintet/
LOCATION:Lawson’s Finest Taproom\, 155 Carroll Road\, Waitsfield\, Vermont\, 05673
CATEGORIES:At the Brewery,Tuesday Tunes,Vermont
ATTACH;FMTTYPE=image/png:https://mrvvillage.com/wp-content/uploads/2023/10/Screen-Shot-2023-09-27-at-12.34.41-PM-mtJ968.tmp_-CWXNAA.tmp_.png
ORGANIZER;CN="Lawson%26%238217%3Bs%20Finest%20Liquids":MAILTO:hello@lawsonsfinest.com
GEO:44.1878437;-72.8352541
X-APPLE-STRUCTURED-LOCATION;VALUE=URI;X-ADDRESS=Lawson’s Finest Taproom 155 Carroll Road Waitsfield Vermont 05673;X-APPLE-RADIUS=500;X-TITLE=155 Carroll Road:geo:-72.8352541,44.1878437
END:VEVENT
BEGIN:VEVENT
DTSTART;TZID=America/Halifax:20231122T120000
DTEND;TZID=America/Halifax:20231122T190000
DTSTAMP:20260422T101712
CREATED:20231028T184051Z
LAST-MODIFIED:20231122T222312Z
UID:10005463-1700654400-1700679600@mrvvillage.com
SUMMARY:Beers & Brats
DESCRIPTION:Join us for 5th Quarter Butchery Beer Brats and $5 pints of Little Sip IPA\, all day long!
URL:https://mrvvillage.com/event/beers-brats-34/
LOCATION:Lawson’s Finest Brewery\, 155 Carroll Road\, Waitsfield\, VT\, 05673\, United States
CATEGORIES:At the Brewery
ATTACH;FMTTYPE=image/jpeg:https://mrvvillage.com/wp-content/uploads/2023/05/LFL_BeersBrats-UPDATED-8.5X11-scaled-vlzP1w.tmp_-ghgJep.tmp_.jpg
ORGANIZER;CN="Lawson%26%238217%3Bs%20Finest%20Liquids":MAILTO:hello@lawsonsfinest.com
GEO:44.1878437;-72.8352541
X-APPLE-STRUCTURED-LOCATION;VALUE=URI;X-ADDRESS=Lawson’s Finest Brewery 155 Carroll Road Waitsfield VT 05673 United States;X-APPLE-RADIUS=500;X-TITLE=155 Carroll Road:geo:-72.8352541,44.1878437
END:VEVENT
BEGIN:VEVENT
DTSTART;TZID=America/New_York:20231128T170000
DTEND;TZID=America/New_York:20231128T190000
DTSTAMP:20260422T101712
CREATED:20231029T184059Z
LAST-MODIFIED:20231128T235333Z
UID:10005467-1701190800-1701198000@mrvvillage.com
SUMMARY:Tuesday Tunes: John Lackard Blues Duo
DESCRIPTION:Regular Taproom favorite John Lackard brings his blues and rock n’ roll back to the stage. \n 
URL:https://mrvvillage.com/event/tuesday-tunes-john-lackard-blues-duo/
LOCATION:Lawson’s Finest Taproom\, 155 Carroll Road\, Waitsfield\, Vermont\, 05673
CATEGORIES:At the Brewery,Tuesday Tunes,Vermont
ATTACH;FMTTYPE=image/jpeg:https://mrvvillage.com/wp-content/uploads/2023/07/Pub-Photo-2020-S-ttlFEO.tmp_-EHTx8l.tmp_.jpg
ORGANIZER;CN="Lawson%26%238217%3Bs%20Finest%20Liquids":MAILTO:hello@lawsonsfinest.com
GEO:44.1878437;-72.8352541
X-APPLE-STRUCTURED-LOCATION;VALUE=URI;X-ADDRESS=Lawson’s Finest Taproom 155 Carroll Road Waitsfield Vermont 05673;X-APPLE-RADIUS=500;X-TITLE=155 Carroll Road:geo:-72.8352541,44.1878437
END:VEVENT
BEGIN:VEVENT
DTSTART;TZID=America/Halifax:20231129T120000
DTEND;TZID=America/Halifax:20231129T190000
DTSTAMP:20260422T101712
CREATED:20231030T185500Z
LAST-MODIFIED:20231129T153834Z
UID:10005470-1701259200-1701284400@mrvvillage.com
SUMMARY:Beers & Brats
DESCRIPTION:Join us for 5th Quarter Butchery Beer Brats and $5 pints of Little Sip IPA\, all day long!
URL:https://mrvvillage.com/event/beers-brats-35/
LOCATION:Lawson’s Finest Brewery\, 155 Carroll Road\, Waitsfield\, VT\, 05673\, United States
CATEGORIES:At the Brewery
ATTACH;FMTTYPE=image/jpeg:https://mrvvillage.com/wp-content/uploads/2023/05/LFL_BeersBrats-UPDATED-8.5X11-scaled-vlzP1w.tmp_-ghgJep.tmp_.jpg
ORGANIZER;CN="Lawson%26%238217%3Bs%20Finest%20Liquids":MAILTO:hello@lawsonsfinest.com
GEO:44.1878437;-72.8352541
X-APPLE-STRUCTURED-LOCATION;VALUE=URI;X-ADDRESS=Lawson’s Finest Brewery 155 Carroll Road Waitsfield VT 05673 United States;X-APPLE-RADIUS=500;X-TITLE=155 Carroll Road:geo:-72.8352541,44.1878437
END:VEVENT
END:VCALENDAR