BEGIN:VCALENDAR
VERSION:2.0
PRODID:-//The Mad River Valley Village - ECPv6.0.13//NONSGML v1.0//EN
CALSCALE:GREGORIAN
METHOD:PUBLISH
X-WR-CALNAME:The Mad River Valley Village
X-ORIGINAL-URL:https://mrvvillage.com
X-WR-CALDESC:Events for The Mad River Valley Village
REFRESH-INTERVAL;VALUE=DURATION:PT1H
X-Robots-Tag:noindex
X-PUBLISHED-TTL:PT1H
BEGIN:VTIMEZONE
TZID:America/Halifax
BEGIN:DAYLIGHT
TZOFFSETFROM:-0400
TZOFFSETTO:-0300
TZNAME:ADT
DTSTART:20240310T060000
END:DAYLIGHT
BEGIN:STANDARD
TZOFFSETFROM:-0300
TZOFFSETTO:-0400
TZNAME:AST
DTSTART:20241103T050000
END:STANDARD
TZID:America/New_York
BEGIN:DAYLIGHT
TZOFFSETFROM:-0500
TZOFFSETTO:-0400
TZNAME:EDT
DTSTART:20240310T070000
END:DAYLIGHT
BEGIN:STANDARD
TZOFFSETFROM:-0400
TZOFFSETTO:-0500
TZNAME:EST
DTSTART:20241103T060000
END:STANDARD
END:VTIMEZONE
BEGIN:VEVENT
DTSTART;TZID=America/Halifax:20240504T160000
DTEND;TZID=America/Halifax:20240504T200000
DTSTAMP:20260424T013121
CREATED:20240405T022422Z
LAST-MODIFIED:20240504T150808Z
UID:10006063-1714838400-1714852800@mrvvillage.com
SUMMARY:Mad River Luau Dinner With Lawson’s Finest Liquids
DESCRIPTION:Adventure Dinner luau in the heart of the Mad River Valley! \nJoin us for a night of luau adventure\, including behind-the-scenes access to the brewery\, specialty sips\, and a live-fire-cooked meal inspired by the islands. \nYou’ll be greeted with a lei and a heartfelt welcome before adventuring to the private brewery for your first tropical bite. Sip a special cask-aged beer made just for Adventure Dinner—even try it side by side with its uncasked counterpoint and let us know your fave! \nOnce we’ve whet our whistle we’ll make the trek to our long tables set among towers of bright beer cans. A luau feast of surf and turf (and many\, many other secret goodies) will be waiting for you with course-upon course of finger-licking goodness and perfectly paired suds. \nAfter our feast\, we’ll journey to the taproom (after hours!) to relax with a fireside dessert and special nitro beer poured right off the tap. \nTickets are $149 (plus tax) per person and include: \n\n\nPrivate brewery exploration + welcome hour \n\n\n4 courses of a luau feasting \n\n\n5+ pours of deluxe Lawson’s beers including our special Adventure Dinner x Lawson’s Finest cask beer \n\n\nTasty alcohol-free options available upon request \n\n\n*Please note\, for this dinner we cannot offer gluten-free.
URL:https://mrvvillage.com/event/mad-river-luau-dinner-with-lawsons-finest-liquids/
LOCATION:Lawson’s Finest Brewery\, 155 Carroll Road\, Waitsfield\, VT\, 05673\, United States
CATEGORIES:At the Brewery
ORGANIZER;CN="Lawson%26%238217%3Bs%20Finest%20Liquids":MAILTO:hello@lawsonsfinest.com
GEO:44.1878437;-72.8352541
X-APPLE-STRUCTURED-LOCATION;VALUE=URI;X-ADDRESS=Lawson’s Finest Brewery 155 Carroll Road Waitsfield VT 05673 United States;X-APPLE-RADIUS=500;X-TITLE=155 Carroll Road:geo:-72.8352541,44.1878437
END:VEVENT
BEGIN:VEVENT
DTSTART;TZID=America/New_York:20240507T170000
DTEND;TZID=America/New_York:20240507T190000
DTSTAMP:20260424T013121
CREATED:20240407T022413Z
LAST-MODIFIED:20240507T152308Z
UID:10006064-1715101200-1715108400@mrvvillage.com
SUMMARY:Tuesday Tunes: Bloodroot Gap
DESCRIPTION:Formed after a serendipitous jam session at a Vermont bluegrass festival\, Bloodroot Gap is a musical collaboration between brothers Rob and Jim McCuen (Swing Noire)\, Freeman Corey (Catamount Crossing\, Big Spike Bluegrass) and Jake Munson. \nCorey\, a fiddle player who grew up on a dairy farm in Benson\, is the son of a fine\, old-time fiddler. He started playing at age 10\, learning hundreds of Irish\, Scottish and French-Canadian fiddle tunes from his father. Corey has become one of Vermont’s most sought-after traditional fiddlers\, gracing the stage with Bob Amos and Catamount Crossing\, Big Spike Bluegrass\, The Haymakers and Spare Parts among countless other notable groups and musicians. \nThe McCuen Brothers have been performing side-by-side for nearly 30 years\, founding the bands Wiley Dobbs\, Acoustic Undermind\, and Swing Noire\, and sharing the stage with the likes of Frank Vignola\, Jamie Masefield\, Charlie Hunter and Doug Perkins. The brothers provide tight vocal harmonies and rhythmic accompaniment\, as only twins can. Rob dazzles audiences with his fluid solos on mandolin and guitar\, while Jim holds down the low end on upright bass.
URL:https://mrvvillage.com/event/tuesday-tunes-bloodroot-gap-2/
LOCATION:Lawson’s Finest Taproom\, 155 Carroll Road\, Waitsfield\, Vermont\, 05673
CATEGORIES:At the Brewery,Tuesday Tunes,Vermont
ATTACH;FMTTYPE=image/jpeg:https://mrvvillage.com/wp-content/uploads/2023/05/IMG_0755-scaled-H2kF3U.tmp_-qHFdsP.tmp_.jpg
ORGANIZER;CN="Lawson%26%238217%3Bs%20Finest%20Liquids":MAILTO:hello@lawsonsfinest.com
GEO:44.1878437;-72.8352541
X-APPLE-STRUCTURED-LOCATION;VALUE=URI;X-ADDRESS=Lawson’s Finest Taproom 155 Carroll Road Waitsfield Vermont 05673;X-APPLE-RADIUS=500;X-TITLE=155 Carroll Road:geo:-72.8352541,44.1878437
END:VEVENT
BEGIN:VEVENT
DTSTART;TZID=America/New_York:20240514T170000
DTEND;TZID=America/New_York:20240514T190000
DTSTAMP:20260424T013121
CREATED:20240414T025342Z
LAST-MODIFIED:20240514T155319Z
UID:10006075-1715706000-1715713200@mrvvillage.com
SUMMARY:Tuesday Tunes: Cooie & Adlai Duo
DESCRIPTION:Cooie’s clear\, soulful and vibrant vocal stylings and Adlai’s masterly keyboard accompaniment come together to lend gorgeous expression to the popular and traditional music we all know and love. This duo brings songs to life across multiple genres\, featuring Adlai’s strengths as a seasoned singer/songwriter and keyboardist\, and Cooie’s heartwarming and hilarious stories. That new guitar of hers will be making an appearance\, too.\nYou may find yourself up and dancing – and you just might have as much fun as these two fine musicians!
URL:https://mrvvillage.com/event/tuesday-tunes-cooie-adlai-duo/
LOCATION:Lawson’s Finest Taproom\, 155 Carroll Road\, Waitsfield\, Vermont\, 05673
CATEGORIES:At the Brewery,Tuesday Tunes,Vermont
ATTACH;FMTTYPE=image/png:https://mrvvillage.com/wp-content/uploads/2024/04/Screenshot-2024-03-17-at-12.51.53-PM-hAIGZR.tmp_-CYHl09.tmp_.png
ORGANIZER;CN="Lawson%26%238217%3Bs%20Finest%20Liquids":MAILTO:hello@lawsonsfinest.com
GEO:44.1878437;-72.8352541
X-APPLE-STRUCTURED-LOCATION;VALUE=URI;X-ADDRESS=Lawson’s Finest Taproom 155 Carroll Road Waitsfield Vermont 05673;X-APPLE-RADIUS=500;X-TITLE=155 Carroll Road:geo:-72.8352541,44.1878437
END:VEVENT
BEGIN:VEVENT
DTSTART;TZID=America/New_York:20240515T160000
DTEND;TZID=America/New_York:20240515T190000
DTSTAMP:20260424T013121
CREATED:20240513T043811Z
LAST-MODIFIED:20240515T160815Z
UID:10006159-1715788800-1715799600@mrvvillage.com
SUMMARY:SunCommon Sip & Sun
DESCRIPTION:SunCommon is excited to celebrate the return of the spring time sun with a “Sip & Sun” community event at Lawson’s Finest Liquids in Waitsfield\nCome down to Lawson’s where SunCommon will provide snacks and a complimentary beverage for everyone who attends. \nIn the world of solar\, things are always changing. Come down and talk to local professionals to hear about Vermont’s transition to clean energy and how you can take advantage of all the existing state and federal programs to power your home with solar.
URL:https://mrvvillage.com/event/suncommon-sip-sun/
LOCATION:Lawson’s Finest Taproom\, 155 Carroll Road\, Waitsfield\, Vermont\, 05673
CATEGORIES:At the Brewery,Vermont
ATTACH;FMTTYPE=image/png:https://mrvvillage.com/wp-content/uploads/2024/05/20240430_SipAndSun_Lawsons_Square_3_2x-M8DgE2.tmp_-eC9aKi.tmp_-sSddl9.tmp_.png
ORGANIZER;CN="Lawson%26%238217%3Bs%20Finest%20Liquids":MAILTO:hello@lawsonsfinest.com
GEO:44.1878437;-72.8352541
X-APPLE-STRUCTURED-LOCATION;VALUE=URI;X-ADDRESS=Lawson’s Finest Taproom 155 Carroll Road Waitsfield Vermont 05673;X-APPLE-RADIUS=500;X-TITLE=155 Carroll Road:geo:-72.8352541,44.1878437
END:VEVENT
BEGIN:VEVENT
DTSTART;TZID=America/New_York:20240521T170000
DTEND;TZID=America/New_York:20240521T190000
DTSTAMP:20260424T013121
CREATED:20240427T032334Z
LAST-MODIFIED:20240521T165311Z
UID:10006089-1716310800-1716318000@mrvvillage.com
SUMMARY:Tuesday Tunes: Chris Peterman Quartet
DESCRIPTION:The Chris Peterman Quartet brings together four of Vermont’s finest and most sought-after musicians\, playing a wide variety of contemporary and classic jazz in a uniquely melodic style\, and focused on the dialog and interplay that are the heart of jazz. Their repertoire includes compositions by the band as well as reimaginings of the music of Pat Metheny\, Weather Report\, Chick Corea\, and Don Grolnick\, among others.
URL:https://mrvvillage.com/event/tuesday-tunes-chris-peterman-quartet-3/
LOCATION:Lawson’s Finest Taproom\, 155 Carroll Road\, Waitsfield\, Vermont\, 05673
CATEGORIES:At the Brewery,Tuesday Tunes,Vermont
ATTACH;FMTTYPE=image/png:https://mrvvillage.com/wp-content/uploads/2023/07/Screen-Shot-2022-05-23-at-1.08.07-PM-WYCSbV.tmp_-246aq9.tmp_.png
ORGANIZER;CN="Lawson%26%238217%3Bs%20Finest%20Liquids":MAILTO:hello@lawsonsfinest.com
GEO:44.1878437;-72.8352541
X-APPLE-STRUCTURED-LOCATION;VALUE=URI;X-ADDRESS=Lawson’s Finest Taproom 155 Carroll Road Waitsfield Vermont 05673;X-APPLE-RADIUS=500;X-TITLE=155 Carroll Road:geo:-72.8352541,44.1878437
END:VEVENT
BEGIN:VEVENT
DTSTART;TZID=America/New_York:20240526T150000
DTEND;TZID=America/New_York:20240526T170000
DTSTAMP:20260424T013121
CREATED:20240427T032334Z
LAST-MODIFIED:20240526T172308Z
UID:10006091-1716735600-1716742800@mrvvillage.com
SUMMARY:Summer Sundays: Bettenroo
DESCRIPTION:Bettenroo is a dynamic\, versatile musical duo with undeniable vocal strength. Lori Jacobs & Anne Davey‘s flawlessly blended harmony is complemented with instrumental versatility of guitar\, bass\, and occasional percussion. \nBased in Delaware & Vermont\, Bettenroo performs in the US and beyond. They have been featured on Freeman Stage (a host to many national acts like Alison Kraus\, Chicago\, Melissa Etheridge\, etc)\, Milton Theatre\, WBOC’s Delmarva Life\, Florida’s Gulf Coast & Keys\, Ladybug Festival\, New England as well as venues in New Zealand\, Australia\, Ireland\, Costa Rica and Belize. Audiences can’t help but become an integral part of Anne and Lori’s passionate musical delivery. Check out Bettenroo’s CD ‘Live Out Loud‘.
URL:https://mrvvillage.com/event/summer-sundays-bettenroo/
LOCATION:Lawson’s Finest Taproom\, 155 Carroll Road\, Waitsfield\, Vermont\, 05673
CATEGORIES:At the Brewery,Tuesday Tunes,Vermont
ATTACH;FMTTYPE=image/png:https://mrvvillage.com/wp-content/uploads/2024/04/Screen-Shot-2023-04-20-at-4.03.15-PM-e1692196313734-Ypzyg5.tmp_-tP5LCR.tmp_.png
ORGANIZER;CN="Lawson%26%238217%3Bs%20Finest%20Liquids":MAILTO:hello@lawsonsfinest.com
GEO:44.1878437;-72.8352541
X-APPLE-STRUCTURED-LOCATION;VALUE=URI;X-ADDRESS=Lawson’s Finest Taproom 155 Carroll Road Waitsfield Vermont 05673;X-APPLE-RADIUS=500;X-TITLE=155 Carroll Road:geo:-72.8352541,44.1878437
END:VEVENT
BEGIN:VEVENT
DTSTART;TZID=America/New_York:20240528T170000
DTEND;TZID=America/New_York:20240528T190000
DTSTAMP:20260424T013121
CREATED:20240428T033830Z
LAST-MODIFIED:20240528T172334Z
UID:10006092-1716915600-1716922800@mrvvillage.com
SUMMARY:Tuesday Tunes: Bob Recupero
DESCRIPTION:Music for your ears and soul.
URL:https://mrvvillage.com/event/tuesday-tunes-bob-recupero-5/
LOCATION:Lawson’s Finest Taproom\, 155 Carroll Road\, Waitsfield\, Vermont\, 05673
CATEGORIES:At the Brewery,Tuesday Tunes,Vermont
ATTACH;FMTTYPE=image/png:https://mrvvillage.com/wp-content/uploads/2023/05/Screen-Shot-2023-02-20-at-6.18.01-PM-Iaw0Y6.tmp_-RxziU2.tmp_.png
ORGANIZER;CN="Lawson%26%238217%3Bs%20Finest%20Liquids":MAILTO:hello@lawsonsfinest.com
GEO:44.1878437;-72.8352541
X-APPLE-STRUCTURED-LOCATION;VALUE=URI;X-ADDRESS=Lawson’s Finest Taproom 155 Carroll Road Waitsfield Vermont 05673;X-APPLE-RADIUS=500;X-TITLE=155 Carroll Road:geo:-72.8352541,44.1878437
END:VEVENT
END:VCALENDAR