BEGIN:VCALENDAR
VERSION:2.0
PRODID:-//The Mad River Valley Village - ECPv6.0.13//NONSGML v1.0//EN
CALSCALE:GREGORIAN
METHOD:PUBLISH
X-ORIGINAL-URL:https://mrvvillage.com
X-WR-CALDESC:Events for The Mad River Valley Village
REFRESH-INTERVAL;VALUE=DURATION:PT1H
X-Robots-Tag:noindex
X-PUBLISHED-TTL:PT1H
BEGIN:VTIMEZONE
TZID:America/New_York
BEGIN:DAYLIGHT
TZOFFSETFROM:-0500
TZOFFSETTO:-0400
TZNAME:EDT
DTSTART:20250309T070000
END:DAYLIGHT
BEGIN:STANDARD
TZOFFSETFROM:-0400
TZOFFSETTO:-0500
TZNAME:EST
DTSTART:20251102T060000
END:STANDARD
TZID:America/Halifax
BEGIN:DAYLIGHT
TZOFFSETFROM:-0400
TZOFFSETTO:-0300
TZNAME:ADT
DTSTART:20250309T060000
END:DAYLIGHT
BEGIN:STANDARD
TZOFFSETFROM:-0300
TZOFFSETTO:-0400
TZNAME:AST
DTSTART:20251102T050000
END:STANDARD
END:VTIMEZONE
BEGIN:VEVENT
DTSTART;TZID=America/New_York:20250401T170000
DTEND;TZID=America/New_York:20250401T190000
DTSTAMP:20260424T230636
CREATED:20250302T105524Z
LAST-MODIFIED:20250401T163818Z
UID:10007722-1743526800-1743534000@mrvvillage.com
SUMMARY:Tuesday Tunes: Troy Millette and The Fire Below
DESCRIPTION:Witty onstage persona\, imaginative covers\, and heartfelt original songs. One of Vermont’s best folk artists.
URL:https://mrvvillage.com/event/tuesday-tunes-troy-millette-and-the-fire-below-5/
LOCATION:Lawson’s Finest Taproom\, 155 Carroll Road\, Waitsfield\, Vermont\, 05673
CATEGORIES:At the Brewery,Tuesday Tunes,Vermont
ATTACH;FMTTYPE=image/png:https://mrvvillage.com/wp-content/uploads/2025/03/Screen-Shot-2021-08-31-at-12.10.20-PM-4i65ba.tmp_-7hgTsz.tmp_.png
ORGANIZER;CN="Lawson%26%238217%3Bs%20Finest%20Liquids":MAILTO:hello@lawsonsfinest.com
GEO:44.1878437;-72.8352541
X-APPLE-STRUCTURED-LOCATION;VALUE=URI;X-ADDRESS=Lawson’s Finest Taproom 155 Carroll Road Waitsfield Vermont 05673;X-APPLE-RADIUS=500;X-TITLE=155 Carroll Road:geo:-72.8352541,44.1878437
END:VEVENT
BEGIN:VEVENT
DTSTART;TZID=America/Halifax:20250402T120000
DTEND;TZID=America/Halifax:20250402T190000
DTSTAMP:20260424T230636
CREATED:20250303T111025Z
LAST-MODIFIED:20250402T165323Z
UID:10007723-1743595200-1743620400@mrvvillage.com
SUMMARY:Raclette Wednesdays
DESCRIPTION:Weekly Alps-inspired Après featuring melted cheese on top of sausage and potatoes. Leave your boots in the car and cozy up with your favorite Lawson’s Finest brews. $20 a plate.
URL:https://mrvvillage.com/event/raclette-wednesdays-9/
LOCATION:Lawson’s Finest Brewery\, 155 Carroll Road\, Waitsfield\, VT\, 05673\, United States
CATEGORIES:At the Brewery
ATTACH;FMTTYPE=image/jpeg:https://mrvvillage.com/wp-content/uploads/2025/02/Raclette-8.5x11-Updated-CxSlG7.tmp_-giB4Cg.tmp_.jpg
ORGANIZER;CN="Lawson%26%238217%3Bs%20Finest%20Liquids":MAILTO:hello@lawsonsfinest.com
GEO:44.1878437;-72.8352541
X-APPLE-STRUCTURED-LOCATION;VALUE=URI;X-ADDRESS=Lawson’s Finest Brewery 155 Carroll Road Waitsfield VT 05673 United States;X-APPLE-RADIUS=500;X-TITLE=155 Carroll Road:geo:-72.8352541,44.1878437
END:VEVENT
BEGIN:VEVENT
DTSTART;TZID=America/Halifax:20250403T160000
DTEND;TZID=America/Halifax:20250403T190000
DTSTAMP:20260424T230636
CREATED:20250304T112522Z
LAST-MODIFIED:20250403T170817Z
UID:10007727-1743696000-1743706800@mrvvillage.com
SUMMARY:Fresh Catch Thursdays
DESCRIPTION:Join us and Nor’Easter Catering every Thursday from 4:00pm to 7:00pm in the Taproom as they serve up a variety of oysters on the half shell and a rotating menu of seafood dishes like shrimp ceviche\, crab quesadillas\, lobster rolls and more.
URL:https://mrvvillage.com/event/fresh-catch-thursdays-13/
LOCATION:Lawson’s Finest Brewery\, 155 Carroll Road\, Waitsfield\, VT\, 05673\, United States
CATEGORIES:At the Brewery
ATTACH;FMTTYPE=image/jpeg:https://mrvvillage.com/wp-content/uploads/2024/12/FreshCatchThursday_WebImage_1-2548x3300-919050fe-ce72-44ad-8d6d-bb904a6f39fd-scaled-UPbgnL.tmp_-wHybhi.tmp_.jpg
ORGANIZER;CN="Lawson%26%238217%3Bs%20Finest%20Liquids":MAILTO:hello@lawsonsfinest.com
GEO:44.1878437;-72.8352541
X-APPLE-STRUCTURED-LOCATION;VALUE=URI;X-ADDRESS=Lawson’s Finest Brewery 155 Carroll Road Waitsfield VT 05673 United States;X-APPLE-RADIUS=500;X-TITLE=155 Carroll Road:geo:-72.8352541,44.1878437
END:VEVENT
BEGIN:VEVENT
DTSTART;TZID=America/New_York:20250404T160000
DTEND;TZID=America/New_York:20250404T200000
DTSTAMP:20260424T230636
CREATED:20250324T122422Z
LAST-MODIFIED:20250404T172318Z
UID:10007845-1743782400-1743796800@mrvvillage.com
SUMMARY:MRVBC Season Celebration at Lawsons!
DESCRIPTION:What a fantastic winter – and not over yet! \nJoin us for an informal gathering to share some apps\, build community\, make friends\, BC stories\, and get the latest news on all that MRVBC has going on.
URL:https://mrvvillage.com/event/mrvbc-season-celebration-at-lawsons/
LOCATION:Lawson’s Finest Taproom\, 155 Carroll Road\, Waitsfield\, Vermont\, 05673
CATEGORIES:Aprés,At the Brewery,Food & Drink
ATTACH;FMTTYPE=image/jpeg:https://mrvvillage.com/wp-content/uploads/2025/03/2025-MRVBC-happy-hour-vpA0rp.tmp_.jpg
ORGANIZER;CN="Mad%20River%20Valley%20Backcountry%20Coalition%20%28MRVBC%29":MAILTO:info@mrvbc.org
GEO:44.1878437;-72.8352541
X-APPLE-STRUCTURED-LOCATION;VALUE=URI;X-ADDRESS=Lawson’s Finest Taproom 155 Carroll Road Waitsfield Vermont 05673;X-APPLE-RADIUS=500;X-TITLE=155 Carroll Road:geo:-72.8352541,44.1878437
END:VEVENT
BEGIN:VEVENT
DTSTART;TZID=America/Halifax:20250409T120000
DTEND;TZID=America/Halifax:20250409T190000
DTSTAMP:20260424T230636
CREATED:20250310T122526Z
LAST-MODIFIED:20250409T183817Z
UID:10007741-1744200000-1744225200@mrvvillage.com
SUMMARY:Raclette Wednesdays
DESCRIPTION:Weekly Alps-inspired Après featuring melted cheese on top of sausage and potatoes. Leave your boots in the car and cozy up with your favorite Lawson’s Finest brews. $20 a plate.
URL:https://mrvvillage.com/event/raclette-wednesdays-10/
LOCATION:Lawson’s Finest Brewery\, 155 Carroll Road\, Waitsfield\, VT\, 05673\, United States
CATEGORIES:At the Brewery
ATTACH;FMTTYPE=image/jpeg:https://mrvvillage.com/wp-content/uploads/2025/02/Raclette-8.5x11-Updated-CxSlG7.tmp_-giB4Cg.tmp_.jpg
ORGANIZER;CN="Lawson%26%238217%3Bs%20Finest%20Liquids":MAILTO:hello@lawsonsfinest.com
GEO:44.1878437;-72.8352541
X-APPLE-STRUCTURED-LOCATION;VALUE=URI;X-ADDRESS=Lawson’s Finest Brewery 155 Carroll Road Waitsfield VT 05673 United States;X-APPLE-RADIUS=500;X-TITLE=155 Carroll Road:geo:-72.8352541,44.1878437
END:VEVENT
BEGIN:VEVENT
DTSTART;TZID=America/Halifax:20250410T160000
DTEND;TZID=America/Halifax:20250410T190000
DTSTAMP:20260424T230636
CREATED:20250311T124023Z
LAST-MODIFIED:20250410T185320Z
UID:10007751-1744300800-1744311600@mrvvillage.com
SUMMARY:Fresh Catch Thursdays
DESCRIPTION:Join us and Nor’Easter Catering every Thursday from 4:00pm to 7:00pm in the Taproom as they serve up a variety of oysters on the half shell and a rotating menu of seafood dishes like shrimp ceviche\, crab quesadillas\, lobster rolls and more.
URL:https://mrvvillage.com/event/fresh-catch-thursdays-14/
LOCATION:Lawson’s Finest Brewery\, 155 Carroll Road\, Waitsfield\, VT\, 05673\, United States
CATEGORIES:At the Brewery
ATTACH;FMTTYPE=image/jpeg:https://mrvvillage.com/wp-content/uploads/2024/12/FreshCatchThursday_WebImage_1-2548x3300-919050fe-ce72-44ad-8d6d-bb904a6f39fd-scaled-UPbgnL.tmp_-wHybhi.tmp_.jpg
ORGANIZER;CN="Lawson%26%238217%3Bs%20Finest%20Liquids":MAILTO:hello@lawsonsfinest.com
GEO:44.1878437;-72.8352541
X-APPLE-STRUCTURED-LOCATION;VALUE=URI;X-ADDRESS=Lawson’s Finest Brewery 155 Carroll Road Waitsfield VT 05673 United States;X-APPLE-RADIUS=500;X-TITLE=155 Carroll Road:geo:-72.8352541,44.1878437
END:VEVENT
BEGIN:VEVENT
DTSTART;TZID=America/Halifax:20250416T120000
DTEND;TZID=America/Halifax:20250416T190000
DTSTAMP:20260424T230636
CREATED:20250317T135613Z
LAST-MODIFIED:20250416T193817Z
UID:10007817-1744804800-1744830000@mrvvillage.com
SUMMARY:Raclette Wednesdays
DESCRIPTION:Weekly Alps-inspired Après featuring melted cheese on top of sausage and potatoes. Leave your boots in the car and cozy up with your favorite Lawson’s Finest brews. $20 a plate.
URL:https://mrvvillage.com/event/raclette-wednesdays-11/
LOCATION:Lawson’s Finest Brewery\, 155 Carroll Road\, Waitsfield\, VT\, 05673\, United States
CATEGORIES:At the Brewery
ATTACH;FMTTYPE=image/jpeg:https://mrvvillage.com/wp-content/uploads/2025/02/Raclette-8.5x11-Updated-CxSlG7.tmp_-giB4Cg.tmp_.jpg
ORGANIZER;CN="Lawson%26%238217%3Bs%20Finest%20Liquids":MAILTO:hello@lawsonsfinest.com
GEO:44.1878437;-72.8352541
X-APPLE-STRUCTURED-LOCATION;VALUE=URI;X-ADDRESS=Lawson’s Finest Brewery 155 Carroll Road Waitsfield VT 05673 United States;X-APPLE-RADIUS=500;X-TITLE=155 Carroll Road:geo:-72.8352541,44.1878437
END:VEVENT
BEGIN:VEVENT
DTSTART;TZID=America/Halifax:20250417T160000
DTEND;TZID=America/Halifax:20250417T190000
DTSTAMP:20260424T230636
CREATED:20250318T141122Z
LAST-MODIFIED:20250417T193813Z
UID:10007828-1744905600-1744916400@mrvvillage.com
SUMMARY:Fresh Catch Thursdays
DESCRIPTION:Join us and Nor’Easter Catering every Thursday from 4:00pm to 7:00pm in the Taproom as they serve up a variety of oysters on the half shell and a rotating menu of seafood dishes like shrimp ceviche\, crab quesadillas\, lobster rolls and more.
URL:https://mrvvillage.com/event/fresh-catch-thursdays-15/
LOCATION:Lawson’s Finest Brewery\, 155 Carroll Road\, Waitsfield\, VT\, 05673\, United States
CATEGORIES:At the Brewery
ATTACH;FMTTYPE=image/jpeg:https://mrvvillage.com/wp-content/uploads/2024/12/FreshCatchThursday_WebImage_1-2548x3300-919050fe-ce72-44ad-8d6d-bb904a6f39fd-scaled-UPbgnL.tmp_-wHybhi.tmp_.jpg
ORGANIZER;CN="Lawson%26%238217%3Bs%20Finest%20Liquids":MAILTO:hello@lawsonsfinest.com
GEO:44.1878437;-72.8352541
X-APPLE-STRUCTURED-LOCATION;VALUE=URI;X-ADDRESS=Lawson’s Finest Brewery 155 Carroll Road Waitsfield VT 05673 United States;X-APPLE-RADIUS=500;X-TITLE=155 Carroll Road:geo:-72.8352541,44.1878437
END:VEVENT
BEGIN:VEVENT
DTSTART;TZID=America/New_York:20250422T170000
DTEND;TZID=America/New_York:20250422T190000
DTSTAMP:20260424T230636
CREATED:20250323T121049Z
LAST-MODIFIED:20250422T200817Z
UID:10007844-1745341200-1745348400@mrvvillage.com
SUMMARY:Tuesday Tunes: In the Pocket
DESCRIPTION:We’re excited to welcome back Burlington’s In the Pocket Jazz Ensemble. In the Pocket plays jazz and blues standards from the 30’s to the modern day.
URL:https://mrvvillage.com/event/tuesday-tunes-in-the-pocket/
LOCATION:Lawson’s Finest Taproom\, 155 Carroll Road\, Waitsfield\, Vermont\, 05673
CATEGORIES:At the Brewery,Tuesday Tunes,Vermont
ATTACH;FMTTYPE=image/jpeg:https://mrvvillage.com/wp-content/uploads/2025/04/2025-04-22-Lawsons-Gig-with-Taryn-dVo7Wg-K0eHCK.jpg
ORGANIZER;CN="Lawson%26%238217%3Bs%20Finest%20Liquids":MAILTO:hello@lawsonsfinest.com
GEO:44.1878437;-72.8352541
X-APPLE-STRUCTURED-LOCATION;VALUE=URI;X-ADDRESS=Lawson’s Finest Taproom 155 Carroll Road Waitsfield Vermont 05673;X-APPLE-RADIUS=500;X-TITLE=155 Carroll Road:geo:-72.8352541,44.1878437
END:VEVENT
BEGIN:VEVENT
DTSTART;TZID=America/Halifax:20250423T120000
DTEND;TZID=America/Halifax:20250423T190000
DTSTAMP:20260424T230636
CREATED:20250324T122544Z
LAST-MODIFIED:20250423T202313Z
UID:10007846-1745409600-1745434800@mrvvillage.com
SUMMARY:Raclette Wednesdays
DESCRIPTION:Weekly Alps-inspired Après featuring melted cheese on top of sausage and potatoes. Leave your boots in the car and cozy up with your favorite Lawson’s Finest brews. $20 a plate.
URL:https://mrvvillage.com/event/raclette-wednesdays-12/
LOCATION:Lawson’s Finest Brewery\, 155 Carroll Road\, Waitsfield\, VT\, 05673\, United States
CATEGORIES:At the Brewery
ATTACH;FMTTYPE=image/jpeg:https://mrvvillage.com/wp-content/uploads/2025/02/Raclette-8.5x11-Updated-CxSlG7.tmp_-giB4Cg.tmp_.jpg
ORGANIZER;CN="Lawson%26%238217%3Bs%20Finest%20Liquids":MAILTO:hello@lawsonsfinest.com
GEO:44.1878437;-72.8352541
X-APPLE-STRUCTURED-LOCATION;VALUE=URI;X-ADDRESS=Lawson’s Finest Brewery 155 Carroll Road Waitsfield VT 05673 United States;X-APPLE-RADIUS=500;X-TITLE=155 Carroll Road:geo:-72.8352541,44.1878437
END:VEVENT
BEGIN:VEVENT
DTSTART;TZID=America/Halifax:20250424T160000
DTEND;TZID=America/Halifax:20250424T190000
DTSTAMP:20260424T230636
CREATED:20250325T124152Z
LAST-MODIFIED:20250424T203814Z
UID:10007881-1745510400-1745521200@mrvvillage.com
SUMMARY:Fresh Catch Thursdays
DESCRIPTION:Join us and Nor’Easter Catering every Thursday from 4:00pm to 7:00pm in the Taproom as they serve up a variety of oysters on the half shell and a rotating menu of seafood dishes like shrimp ceviche\, crab quesadillas\, lobster rolls and more.
URL:https://mrvvillage.com/event/fresh-catch-thursdays-16/
LOCATION:Lawson’s Finest Brewery\, 155 Carroll Road\, Waitsfield\, VT\, 05673\, United States
CATEGORIES:At the Brewery
ATTACH;FMTTYPE=image/jpeg:https://mrvvillage.com/wp-content/uploads/2024/12/FreshCatchThursday_WebImage_1-2548x3300-919050fe-ce72-44ad-8d6d-bb904a6f39fd-scaled-UPbgnL.tmp_-wHybhi.tmp_.jpg
ORGANIZER;CN="Lawson%26%238217%3Bs%20Finest%20Liquids":MAILTO:hello@lawsonsfinest.com
GEO:44.1878437;-72.8352541
X-APPLE-STRUCTURED-LOCATION;VALUE=URI;X-ADDRESS=Lawson’s Finest Brewery 155 Carroll Road Waitsfield VT 05673 United States;X-APPLE-RADIUS=500;X-TITLE=155 Carroll Road:geo:-72.8352541,44.1878437
END:VEVENT
BEGIN:VEVENT
DTSTART;TZID=America/Halifax:20250426T110000
DTEND;TZID=America/Halifax:20250426T200000
DTSTAMP:20260424T230636
CREATED:20250411T152444Z
LAST-MODIFIED:20250426T210813Z
UID:10007975-1745665200-1745697600@mrvvillage.com
SUMMARY:Après All Day
DESCRIPTION:Come celebrate the end of the ski season with us in style! It’s the height of mud season in Vermont but we’re putting our blinders on and focusing on sunnier days ahead! Lean in to the vibes with summery food specials\, beach balls\, bubble machines\, laid back tunes and a prize wheel sponsored by our friends at Après Hard Seltzer.
URL:https://mrvvillage.com/event/apres-all-day-2/
LOCATION:Lawson’s Finest Brewery\, 155 Carroll Road\, Waitsfield\, VT\, 05673\, United States
CATEGORIES:At the Brewery,Vermont
ATTACH;FMTTYPE=image/jpeg:https://mrvvillage.com/wp-content/uploads/2025/04/ApresAllDay_Poster-pdf-GXx0Qf.tmp_-7QxOuO.tmp_.jpg
ORGANIZER;CN="Lawson%26%238217%3Bs%20Finest%20Liquids":MAILTO:hello@lawsonsfinest.com
GEO:44.1878437;-72.8352541
X-APPLE-STRUCTURED-LOCATION;VALUE=URI;X-ADDRESS=Lawson’s Finest Brewery 155 Carroll Road Waitsfield VT 05673 United States;X-APPLE-RADIUS=500;X-TITLE=155 Carroll Road:geo:-72.8352541,44.1878437
END:VEVENT
BEGIN:VEVENT
DTSTART;TZID=America/New_York:20250429T170000
DTEND;TZID=America/New_York:20250429T190000
DTSTAMP:20260424T230636
CREATED:20250330T132554Z
LAST-MODIFIED:20250429T213813Z
UID:10007907-1745946000-1745953200@mrvvillage.com
SUMMARY:Tuesday Tunes: Shacket
DESCRIPTION:Shacket is the latest project from our friends Sam Crawford and John Billingsley. Enjoy the debut performance of Shacket at our taproom\, with Sam and John on resonator and acoustic guitar.
URL:https://mrvvillage.com/event/tuesday-tunes-shacket/
LOCATION:Lawson’s Finest Taproom\, 155 Carroll Road\, Waitsfield\, Vermont\, 05673
CATEGORIES:At the Brewery,Tuesday Tunes,Vermont
ATTACH;FMTTYPE=image/png:https://mrvvillage.com/wp-content/uploads/2025/03/DSC7965-1400x2100-b1632b52-1446-480c-83bc-6ee6bcbc24d0-JEq9LM.tmp_-j1zIQL.tmp_.png
ORGANIZER;CN="Lawson%26%238217%3Bs%20Finest%20Liquids":MAILTO:hello@lawsonsfinest.com
GEO:44.1878437;-72.8352541
X-APPLE-STRUCTURED-LOCATION;VALUE=URI;X-ADDRESS=Lawson’s Finest Taproom 155 Carroll Road Waitsfield Vermont 05673;X-APPLE-RADIUS=500;X-TITLE=155 Carroll Road:geo:-72.8352541,44.1878437
END:VEVENT
END:VCALENDAR