BEGIN:VCALENDAR
VERSION:2.0
PRODID:-//The Mad River Valley Village - ECPv6.0.13//NONSGML v1.0//EN
CALSCALE:GREGORIAN
METHOD:PUBLISH
X-ORIGINAL-URL:https://mrvvillage.com
X-WR-CALDESC:Events for The Mad River Valley Village
REFRESH-INTERVAL;VALUE=DURATION:PT1H
X-Robots-Tag:noindex
X-PUBLISHED-TTL:PT1H
BEGIN:VTIMEZONE
TZID:America/New_York
BEGIN:DAYLIGHT
TZOFFSETFROM:-0500
TZOFFSETTO:-0400
TZNAME:EDT
DTSTART:20250309T070000
END:DAYLIGHT
BEGIN:STANDARD
TZOFFSETFROM:-0400
TZOFFSETTO:-0500
TZNAME:EST
DTSTART:20251102T060000
END:STANDARD
TZID:America/Halifax
BEGIN:DAYLIGHT
TZOFFSETFROM:-0400
TZOFFSETTO:-0300
TZNAME:ADT
DTSTART:20250309T060000
END:DAYLIGHT
BEGIN:STANDARD
TZOFFSETFROM:-0300
TZOFFSETTO:-0400
TZNAME:AST
DTSTART:20251102T050000
END:STANDARD
END:VTIMEZONE
BEGIN:VEVENT
DTSTART;TZID=America/New_York:20250803T150000
DTEND;TZID=America/New_York:20250803T170000
DTSTAMP:20260424T123802
CREATED:20250705T094228Z
LAST-MODIFIED:20250803T165321Z
UID:10008581-1754233200-1754240400@mrvvillage.com
SUMMARY:Summer Sundays: Chris Peterman Quartet
DESCRIPTION:A wide variety of contemporary and classic jazz in a uniquely melodic style\, and focused on the dialog and interplay that are the heart of jazz. Their repertoire includes compositions by the band as well as reimaginings of the music of Pat Metheny\, Weather Report\, Chick Corea\, and Don Grolnick\, among others.
URL:https://mrvvillage.com/event/summer-sundays-chris-peterman-quartet/
LOCATION:Lawson’s Finest Taproom\, 155 Carroll Road\, Waitsfield\, Vermont\, 05673
CATEGORIES:At the Brewery,Tuesday Tunes,Vermont
ATTACH;FMTTYPE=image/png:https://mrvvillage.com/wp-content/uploads/2025/06/Screen-Shot-2022-05-23-at-1.08.07-PM-WYCSbV.tmp_-u6OfZn.png
ORGANIZER;CN="Lawson%26%238217%3Bs%20Finest%20Liquids":MAILTO:hello@lawsonsfinest.com
GEO:44.1878437;-72.8352541
X-APPLE-STRUCTURED-LOCATION;VALUE=URI;X-ADDRESS=Lawson’s Finest Taproom 155 Carroll Road Waitsfield Vermont 05673;X-APPLE-RADIUS=500;X-TITLE=155 Carroll Road:geo:-72.8352541,44.1878437
END:VEVENT
BEGIN:VEVENT
DTSTART;TZID=America/New_York:20250805T170000
DTEND;TZID=America/New_York:20250805T190000
DTSTAMP:20260424T123802
CREATED:20250707T101222Z
LAST-MODIFIED:20250805T172322Z
UID:10008596-1754413200-1754420400@mrvvillage.com
SUMMARY:Tuesday Tunes: Fun Dip
DESCRIPTION:Bob Brookens brings Fun Dip back to the Taproom!
URL:https://mrvvillage.com/event/tuesday-tunes-fun-dip-4/
LOCATION:Lawson’s Finest Taproom\, 155 Carroll Road\, Waitsfield\, Vermont\, 05673
CATEGORIES:At the Brewery,Tuesday Tunes,Vermont
ATTACH;FMTTYPE=image/jpeg:https://mrvvillage.com/wp-content/uploads/2025/07/IR_CoverExpanded-scaled-ehyu4W-N7RfXG.jpg
ORGANIZER;CN="Lawson%26%238217%3Bs%20Finest%20Liquids":MAILTO:hello@lawsonsfinest.com
GEO:44.1878437;-72.8352541
X-APPLE-STRUCTURED-LOCATION;VALUE=URI;X-ADDRESS=Lawson’s Finest Taproom 155 Carroll Road Waitsfield Vermont 05673;X-APPLE-RADIUS=500;X-TITLE=155 Carroll Road:geo:-72.8352541,44.1878437
END:VEVENT
BEGIN:VEVENT
DTSTART;TZID=America/Halifax:20250807T160000
DTEND;TZID=America/Halifax:20250807T190000
DTSTAMP:20260424T123802
CREATED:20250709T104222Z
LAST-MODIFIED:20250807T175324Z
UID:10008608-1754582400-1754593200@mrvvillage.com
SUMMARY:Fresh Catch Thursday
DESCRIPTION:Every Thursday starting at 4pm we host Nor’Easter Catering for a raw bar pop-up. Come on down and enjoy the freshest oysters you can get your hands on\, and a variety of weekly specials that often include lobster rolls\, shrimp cocktails\, tuna poke bowls\, blue crab quesadillas\, and more!
URL:https://mrvvillage.com/event/fresh-catch-thursday-130/
LOCATION:Lawson’s Finest Brewery\, 155 Carroll Road\, Waitsfield\, VT\, 05673\, United States
CATEGORIES:At the Brewery,Fresh Catch Thursday,Vermont
ATTACH;FMTTYPE=image/jpeg:https://mrvvillage.com/wp-content/uploads/2024/12/FreshCatchThursday_WebImage_1-2548x3300-919050fe-ce72-44ad-8d6d-bb904a6f39fd-scaled-UPbgnL.tmp_-wHybhi.tmp_.jpg
ORGANIZER;CN="Lawson%26%238217%3Bs%20Finest%20Liquids":MAILTO:hello@lawsonsfinest.com
GEO:44.1878437;-72.8352541
X-APPLE-STRUCTURED-LOCATION;VALUE=URI;X-ADDRESS=Lawson’s Finest Brewery 155 Carroll Road Waitsfield VT 05673 United States;X-APPLE-RADIUS=500;X-TITLE=155 Carroll Road:geo:-72.8352541,44.1878437
END:VEVENT
BEGIN:VEVENT
DTSTART;TZID=America/New_York:20250810T150000
DTEND;TZID=America/New_York:20250810T170000
DTSTAMP:20260424T123802
CREATED:20250712T112704Z
LAST-MODIFIED:20250810T183819Z
UID:10008635-1754838000-1754845200@mrvvillage.com
SUMMARY:Summer Sundays: Cooie’s Trio
DESCRIPTION:As a trio\, Cooie\, Adlai & Patti combine their considerable talents and convey a spirit of musical adventure across multiple genres.\nInstrumentally\, Cooie’s steady rhythm guitar\, Adlai’s masterly keyboard accompaniment\, and Patti’s bassline create the perfect foundation for their vocal stylings\, incorporating tight three-part harmonies.
URL:https://mrvvillage.com/event/summer-sundays-cooies-trio/
LOCATION:Lawson’s Finest Taproom\, 155 Carroll Road\, Waitsfield\, Vermont\, 05673
CATEGORIES:At the Brewery,Tuesday Tunes,Vermont
ATTACH;FMTTYPE=image/png:https://mrvvillage.com/wp-content/uploads/2024/09/Screenshot-2024-03-17-at-12.52.42-PM-gSBNxH.tmp_-JCKLMe.tmp_.png
ORGANIZER;CN="Lawson%26%238217%3Bs%20Finest%20Liquids":MAILTO:hello@lawsonsfinest.com
GEO:44.1878437;-72.8352541
X-APPLE-STRUCTURED-LOCATION;VALUE=URI;X-ADDRESS=Lawson’s Finest Taproom 155 Carroll Road Waitsfield Vermont 05673;X-APPLE-RADIUS=500;X-TITLE=155 Carroll Road:geo:-72.8352541,44.1878437
END:VEVENT
BEGIN:VEVENT
DTSTART;TZID=America/New_York:20250812T170000
DTEND;TZID=America/New_York:20250812T190000
DTSTAMP:20260424T123802
CREATED:20250714T115617Z
LAST-MODIFIED:20250812T185322Z
UID:10008641-1755018000-1755025200@mrvvillage.com
SUMMARY:Tuesday Tunes: Ragged Company
DESCRIPTION:Hard rockin’ originals and covers from blues\, alt country\, and rock!
URL:https://mrvvillage.com/event/tuesday-tunes-ragged-trio/
LOCATION:Lawson’s Finest Taproom\, 155 Carroll Road\, Waitsfield\, Vermont\, 05673
CATEGORIES:At the Brewery,Tuesday Tunes,Vermont
ATTACH;FMTTYPE=image/jpeg:https://mrvvillage.com/wp-content/uploads/2025/07/image_6487327-UfP4a5.tmp_-iqE3Kf.jpg
ORGANIZER;CN="Lawson%26%238217%3Bs%20Finest%20Liquids":MAILTO:hello@lawsonsfinest.com
GEO:44.1878437;-72.8352541
X-APPLE-STRUCTURED-LOCATION;VALUE=URI;X-ADDRESS=Lawson’s Finest Taproom 155 Carroll Road Waitsfield Vermont 05673;X-APPLE-RADIUS=500;X-TITLE=155 Carroll Road:geo:-72.8352541,44.1878437
END:VEVENT
BEGIN:VEVENT
DTSTART;TZID=America/Halifax:20250814T160000
DTEND;TZID=America/Halifax:20250814T190000
DTSTAMP:20260424T123802
CREATED:20250716T122628Z
LAST-MODIFIED:20250814T192324Z
UID:10008658-1755187200-1755198000@mrvvillage.com
SUMMARY:Fresh Catch Thursday
DESCRIPTION:Every Thursday starting at 4pm we host Nor’Easter Catering for a raw bar pop-up. Come on down and enjoy the freshest oysters you can get your hands on\, and a variety of weekly specials that often include lobster rolls\, shrimp cocktails\, tuna poke bowls\, blue crab quesadillas\, and more!
URL:https://mrvvillage.com/event/fresh-catch-thursday-131/
LOCATION:Lawson’s Finest Brewery\, 155 Carroll Road\, Waitsfield\, VT\, 05673\, United States
CATEGORIES:At the Brewery,Fresh Catch Thursday,Vermont
ATTACH;FMTTYPE=image/jpeg:https://mrvvillage.com/wp-content/uploads/2024/12/FreshCatchThursday_WebImage_1-2548x3300-919050fe-ce72-44ad-8d6d-bb904a6f39fd-scaled-UPbgnL.tmp_-wHybhi.tmp_.jpg
ORGANIZER;CN="Lawson%26%238217%3Bs%20Finest%20Liquids":MAILTO:hello@lawsonsfinest.com
GEO:44.1878437;-72.8352541
X-APPLE-STRUCTURED-LOCATION;VALUE=URI;X-ADDRESS=Lawson’s Finest Brewery 155 Carroll Road Waitsfield VT 05673 United States;X-APPLE-RADIUS=500;X-TITLE=155 Carroll Road:geo:-72.8352541,44.1878437
END:VEVENT
BEGIN:VEVENT
DTSTART;TZID=America/Halifax:20250817T120000
DTEND;TZID=America/Halifax:20250817T150000
DTSTAMP:20260424T123802
CREATED:20250719T131120Z
LAST-MODIFIED:20250817T200822Z
UID:10008701-1755432000-1755442800@mrvvillage.com
SUMMARY:Bark Park: The Grand Unleashing
DESCRIPTION:Perhaps you’ve seen it\, perhaps you’ve already enjoyed it! But on August 17th\, we’re going to celebrate it! Join us on August 17th in our brand new dog-friendly service area The Bark Park for its Grand Unleashing! Although we should mention that we do ask that your furry friends themselves remain leashed. \nLocated at the entrance of our Taproom grounds\, The Bark Park is a fully fenced in\, lush grassy service area with over 50 seats. When our driveway is closed off\, guests can make themselves comfortable in the Bark Park and then head in to order food and drink at the bar to walk down to the Bark Park. When our driveway is not closed off\, our friendly Taproom staff will safely escort your beverages down to the Bark Park for you after you order at the bar. The Bark Park is open 7 days a week during our Taproom operating hours. \nTo help us celebrate our gorgeous new space we’ve got three incredible local non-profits joining us. Past Sunshine Fund recipient For the Love of Dogs Vermont will have an area in the Bark Park set up with dogs that are up for adoption. Past Sunshine Fund recipient PAWSitive Pantry will be on-site for a pop-up pet food drive. And August Sunshine Fund recipient The Mitzvah Fund will be here with their fully-equipped Mobile Veterinary Surgical and Dental Clinic to talk about their organizations and give tours of their clinic-on-wheels. \nFor your furry family members we’ll have house-made Pup Cups available from our own kitchen\, and for you bipeds we’ve got our terrific selection of fresh cold offerings on draft\, plenty of non-alcoholic options\, and a full summer food menu. We hope you’ll join us for this unique Sunday afternoon yappy\, er- happy- hour!
URL:https://mrvvillage.com/event/bark-park-the-grand-unleashing/
LOCATION:Lawson’s Finest Brewery\, 155 Carroll Road\, Waitsfield\, VT\, 05673\, United States
CATEGORIES:At the Brewery,Vermont
ATTACH;FMTTYPE=image/jpeg:https://mrvvillage.com/wp-content/uploads/2025/07/BarkPark_Social-scaled-OX9hCX-5XUM5o.jpg
ORGANIZER;CN="Lawson%26%238217%3Bs%20Finest%20Liquids":MAILTO:hello@lawsonsfinest.com
GEO:44.1878437;-72.8352541
X-APPLE-STRUCTURED-LOCATION;VALUE=URI;X-ADDRESS=Lawson’s Finest Brewery 155 Carroll Road Waitsfield VT 05673 United States;X-APPLE-RADIUS=500;X-TITLE=155 Carroll Road:geo:-72.8352541,44.1878437
END:VEVENT
BEGIN:VEVENT
DTSTART;TZID=America/New_York:20250817T150000
DTEND;TZID=America/New_York:20250817T170000
DTSTAMP:20260424T123802
CREATED:20250719T131123Z
LAST-MODIFIED:20250817T200822Z
UID:10008702-1755442800-1755450000@mrvvillage.com
SUMMARY:Summer Sundays: Mike Mac
DESCRIPTION:An absolute favorite of the Taproom. Excellent guitarist and vibes that’ll get you out of your seat and moving. \n 
URL:https://mrvvillage.com/event/summer-sundays-mike-mac-2/
LOCATION:Lawson’s Finest Taproom\, 155 Carroll Road\, Waitsfield\, Vermont\, 05673
CATEGORIES:At the Brewery,Tuesday Tunes,Vermont
ATTACH;FMTTYPE=image/png:https://mrvvillage.com/wp-content/uploads/2024/08/Screen-Shot-2023-10-27-at-12.50.02-PM-7fySvF.tmp_-8W2StV.tmp_.png
ORGANIZER;CN="Lawson%26%238217%3Bs%20Finest%20Liquids":MAILTO:hello@lawsonsfinest.com
GEO:44.1878437;-72.8352541
X-APPLE-STRUCTURED-LOCATION;VALUE=URI;X-ADDRESS=Lawson’s Finest Taproom 155 Carroll Road Waitsfield Vermont 05673;X-APPLE-RADIUS=500;X-TITLE=155 Carroll Road:geo:-72.8352541,44.1878437
END:VEVENT
BEGIN:VEVENT
DTSTART;TZID=America/New_York:20250819T170000
DTEND;TZID=America/New_York:20250819T190000
DTSTAMP:20260424T123802
CREATED:20250721T134108Z
LAST-MODIFIED:20250819T203824Z
UID:10008706-1755622800-1755630000@mrvvillage.com
SUMMARY:Tuesday Tunes: John Lackard Blues Duo
DESCRIPTION:Regular Taproom favorite John Lackard brings his blues and rock n’ roll back to the stage. \n 
URL:https://mrvvillage.com/event/tuesday-tunes-john-lackard-blues-duo-9/
LOCATION:Lawson’s Finest Taproom\, 155 Carroll Road\, Waitsfield\, Vermont\, 05673
CATEGORIES:At the Brewery,Tuesday Tunes,Vermont
ATTACH;FMTTYPE=image/jpeg:https://mrvvillage.com/wp-content/uploads/2024/08/Pub-Photo-2020-S-ttlFEO.tmp_-NQUFRB.tmp_.jpg
ORGANIZER;CN="Lawson%26%238217%3Bs%20Finest%20Liquids":MAILTO:hello@lawsonsfinest.com
GEO:44.1878437;-72.8352541
X-APPLE-STRUCTURED-LOCATION;VALUE=URI;X-ADDRESS=Lawson’s Finest Taproom 155 Carroll Road Waitsfield Vermont 05673;X-APPLE-RADIUS=500;X-TITLE=155 Carroll Road:geo:-72.8352541,44.1878437
END:VEVENT
BEGIN:VEVENT
DTSTART;TZID=America/Halifax:20250821T160000
DTEND;TZID=America/Halifax:20250821T190000
DTSTAMP:20260424T123802
CREATED:20250722T214115Z
LAST-MODIFIED:20250821T210825Z
UID:10008711-1755792000-1755802800@mrvvillage.com
SUMMARY:Fresh Catch Thursday
DESCRIPTION:Every Thursday starting at 4pm we host Nor’Easter Catering for a raw bar pop-up. Come on down and enjoy the freshest oysters you can get your hands on\, and a variety of weekly specials that often include lobster rolls\, shrimp cocktails\, tuna poke bowls\, blue crab quesadillas\, and more!
URL:https://mrvvillage.com/event/fresh-catch-thursday-132/
LOCATION:Lawson’s Finest Brewery\, 155 Carroll Road\, Waitsfield\, VT\, 05673\, United States
CATEGORIES:At the Brewery,Fresh Catch Thursday,Vermont
ATTACH;FMTTYPE=image/jpeg:https://mrvvillage.com/wp-content/uploads/2024/12/FreshCatchThursday_WebImage_1-2548x3300-919050fe-ce72-44ad-8d6d-bb904a6f39fd-scaled-UPbgnL.tmp_-wHybhi.tmp_.jpg
ORGANIZER;CN="Lawson%26%238217%3Bs%20Finest%20Liquids":MAILTO:hello@lawsonsfinest.com
GEO:44.1878437;-72.8352541
X-APPLE-STRUCTURED-LOCATION;VALUE=URI;X-ADDRESS=Lawson’s Finest Brewery 155 Carroll Road Waitsfield VT 05673 United States;X-APPLE-RADIUS=500;X-TITLE=155 Carroll Road:geo:-72.8352541,44.1878437
END:VEVENT
BEGIN:VEVENT
DTSTART;TZID=America/New_York:20250824T150000
DTEND;TZID=America/New_York:20250824T170000
DTSTAMP:20260424T123802
CREATED:20250725T222626Z
LAST-MODIFIED:20250824T215321Z
UID:10008724-1756047600-1756054800@mrvvillage.com
SUMMARY:Summer Sundays: Granville Daze
DESCRIPTION:Granville Daze started in July 2021.  John and Victoria Crowne have been married over 33 years and moved with their 2 children\, now grown men\, to Granville Vermont in 2006.  They sing all original music all the time\, written by John.  Their tag line is: Organic music handcrafted and harvested in the Green Mountains of Vermont.  They have been performing around central  Vermont  and Enfield New Hampshire. The goal was to get good enough to play for the neighborhood. They didn’t expect the success and support they have received from the musical community. They sing about Peace\, love\, songs that make a statement about the environment and social activism. They recently submitted a song for NPR’s Tiny Desk Concert Contest. Granville Daze is excited to play for Lawson’s Finest and their friends in Waitsfield and surrounding towns.
URL:https://mrvvillage.com/event/summer-sundays-granville-daze-2/
LOCATION:Lawson’s Finest Taproom\, 155 Carroll Road\, Waitsfield\, Vermont\, 05673
CATEGORIES:At the Brewery,Tuesday Tunes,Vermont
ATTACH;FMTTYPE=image/jpeg:https://mrvvillage.com/wp-content/uploads/2025/07/image_67198465-scaled-HwP35x.tmp_-oqcJeZ.jpg
ORGANIZER;CN="Lawson%26%238217%3Bs%20Finest%20Liquids":MAILTO:hello@lawsonsfinest.com
GEO:44.1878437;-72.8352541
X-APPLE-STRUCTURED-LOCATION;VALUE=URI;X-ADDRESS=Lawson’s Finest Taproom 155 Carroll Road Waitsfield Vermont 05673;X-APPLE-RADIUS=500;X-TITLE=155 Carroll Road:geo:-72.8352541,44.1878437
END:VEVENT
BEGIN:VEVENT
DTSTART;TZID=America/New_York:20250826T170000
DTEND;TZID=America/New_York:20250826T190000
DTSTAMP:20260424T123802
CREATED:20250727T225605Z
LAST-MODIFIED:20250826T222325Z
UID:10008739-1756227600-1756234800@mrvvillage.com
SUMMARY:Tuesday Tunes: Red River North
DESCRIPTION:Jeremiah Strauss and Rick Frauton bring red dirt country covers and originals to the Lawson’s Finest Taproom.
URL:https://mrvvillage.com/event/tuesday-tunes-red-river-north-3/
LOCATION:Lawson’s Finest Taproom\, 155 Carroll Road\, Waitsfield\, Vermont\, 05673
CATEGORIES:At the Brewery,Tuesday Tunes,Vermont
ATTACH;FMTTYPE=image/png:https://mrvvillage.com/wp-content/uploads/2024/08/Screen-Shot-2023-01-19-at-11.42.03-AM-tSgbit.tmp_-CYn1GD.tmp_.png
ORGANIZER;CN="Lawson%26%238217%3Bs%20Finest%20Liquids":MAILTO:hello@lawsonsfinest.com
GEO:44.1878437;-72.8352541
X-APPLE-STRUCTURED-LOCATION;VALUE=URI;X-ADDRESS=Lawson’s Finest Taproom 155 Carroll Road Waitsfield Vermont 05673;X-APPLE-RADIUS=500;X-TITLE=155 Carroll Road:geo:-72.8352541,44.1878437
END:VEVENT
BEGIN:VEVENT
DTSTART;TZID=America/Halifax:20250828T160000
DTEND;TZID=America/Halifax:20250828T190000
DTSTAMP:20260424T123802
CREATED:20250729T232632Z
LAST-MODIFIED:20250828T225322Z
UID:10008779-1756396800-1756407600@mrvvillage.com
SUMMARY:Fresh Catch Thursday
DESCRIPTION:Every Thursday starting at 4pm we host Nor’Easter Catering for a raw bar pop-up. Come on down and enjoy the freshest oysters you can get your hands on\, and a variety of weekly specials that often include lobster rolls\, shrimp cocktails\, tuna poke bowls\, blue crab quesadillas\, and more!
URL:https://mrvvillage.com/event/fresh-catch-thursday-133/
LOCATION:Lawson’s Finest Brewery\, 155 Carroll Road\, Waitsfield\, VT\, 05673\, United States
CATEGORIES:At the Brewery,Fresh Catch Thursday,Vermont
ATTACH;FMTTYPE=image/jpeg:https://mrvvillage.com/wp-content/uploads/2024/12/FreshCatchThursday_WebImage_1-2548x3300-919050fe-ce72-44ad-8d6d-bb904a6f39fd-scaled-UPbgnL.tmp_-wHybhi.tmp_.jpg
ORGANIZER;CN="Lawson%26%238217%3Bs%20Finest%20Liquids":MAILTO:hello@lawsonsfinest.com
GEO:44.1878437;-72.8352541
X-APPLE-STRUCTURED-LOCATION;VALUE=URI;X-ADDRESS=Lawson’s Finest Brewery 155 Carroll Road Waitsfield VT 05673 United States;X-APPLE-RADIUS=500;X-TITLE=155 Carroll Road:geo:-72.8352541,44.1878437
END:VEVENT
BEGIN:VEVENT
DTSTART;TZID=America/New_York:20250831T150000
DTEND;TZID=America/New_York:20250831T170000
DTSTAMP:20260424T123802
CREATED:20250802T121156Z
LAST-MODIFIED:20250831T233819Z
UID:10008792-1756652400-1756659600@mrvvillage.com
SUMMARY:Summer Sundays: Good Gravy
DESCRIPTION:Good Gravy is a bluegrass trio out of Burlington\, VT led by Joe Agnello. And they bring it.
URL:https://mrvvillage.com/event/summer-sundays-good-gravy-10/
LOCATION:Lawson’s Finest Taproom\, 155 Carroll Road\, Waitsfield\, Vermont\, 05673
CATEGORIES:At the Brewery,Tuesday Tunes,Vermont
ATTACH;FMTTYPE=image/jpeg:https://mrvvillage.com/wp-content/uploads/2024/08/DSCF0959-6xRD8G.tmp_-VU2utE.tmp_.jpg
ORGANIZER;CN="Lawson%26%238217%3Bs%20Finest%20Liquids":MAILTO:hello@lawsonsfinest.com
GEO:44.1878437;-72.8352541
X-APPLE-STRUCTURED-LOCATION;VALUE=URI;X-ADDRESS=Lawson’s Finest Taproom 155 Carroll Road Waitsfield Vermont 05673;X-APPLE-RADIUS=500;X-TITLE=155 Carroll Road:geo:-72.8352541,44.1878437
END:VEVENT
END:VCALENDAR