BEGIN:VCALENDAR
VERSION:2.0
PRODID:-//The Mad River Valley Village - ECPv6.0.13//NONSGML v1.0//EN
CALSCALE:GREGORIAN
METHOD:PUBLISH
X-ORIGINAL-URL:https://mrvvillage.com
X-WR-CALDESC:Events for The Mad River Valley Village
REFRESH-INTERVAL;VALUE=DURATION:PT1H
X-Robots-Tag:noindex
X-PUBLISHED-TTL:PT1H
BEGIN:VTIMEZONE
TZID:America/New_York
BEGIN:DAYLIGHT
TZOFFSETFROM:-0500
TZOFFSETTO:-0400
TZNAME:EDT
DTSTART:20230312T070000
END:DAYLIGHT
BEGIN:STANDARD
TZOFFSETFROM:-0400
TZOFFSETTO:-0500
TZNAME:EST
DTSTART:20231105T060000
END:STANDARD
END:VTIMEZONE
BEGIN:VEVENT
DTSTART;TZID=America/New_York:20230608T170000
DTEND;TZID=America/New_York:20230608T190000
DTSTAMP:20260421T190553
CREATED:20230425T223829Z
LAST-MODIFIED:20230516T225346Z
UID:10003725-1686243600-1686250800@mrvvillage.com
SUMMARY:Thursday Tunes: Bettenroo
DESCRIPTION:Bettenroo is a dynamic\, versatile musical duo with undeniable vocal strength. Lori Jacobs & Anne Davey‘s flawlessly blended harmony is complemented with instrumental versatility of guitar\, bass\, and occasional percussion. \nBased in Delaware & Vermont\, Bettenroo performs in the US and beyond. They have been featured on Freeman Stage (a host to many national acts like Alison Kraus\, Chicago\, Melissa Etheridge\, etc)\, Milton Theatre\, WBOC’s Delmarva Life\, Florida’s Gulf Coast & Keys\, Ladybug Festival\, New England as well as venues in New Zealand\, Australia\, Ireland\, Costa Rica and Belize. Audiences can’t help but become an integral part of Anne and Lori’s passionate musical delivery. Check out Bettenroo’s CD ‘Live Out Loud‘.
URL:https://mrvvillage.com/event/thursday-tunes-bettenroo/
LOCATION:Lawson’s Finest Taproom\, 155 Carroll Road\, Waitsfield\, Vermont\, 05673
CATEGORIES:At the Brewery,Tuesday Tunes,Vermont
ATTACH;FMTTYPE=image/png:https://mrvvillage.com/wp-content/uploads/2023/04/Screen-Shot-2023-04-20-at-4.03.15-PM-Xtu8Ga.tmp_.png
ORGANIZER;CN="Lawson%26%238217%3Bs%20Finest%20Liquids":MAILTO:hello@lawsonsfinest.com
GEO:44.1878437;-72.8352541
X-APPLE-STRUCTURED-LOCATION;VALUE=URI;X-ADDRESS=Lawson’s Finest Taproom 155 Carroll Road Waitsfield Vermont 05673;X-APPLE-RADIUS=500;X-TITLE=155 Carroll Road:geo:-72.8352541,44.1878437
END:VEVENT
BEGIN:VEVENT
DTSTART;TZID=America/New_York:20230608T170000
DTEND;TZID=America/New_York:20230608T190000
DTSTAMP:20260421T190553
CREATED:20230510T011232Z
LAST-MODIFIED:20230608T120819Z
UID:10003914-1686243600-1686250800@mrvvillage.com
SUMMARY:Thursday Tunes: Bettenroo
DESCRIPTION:Bettenroo is a dynamic\, versatile musical duo with undeniable vocal strength. Lori Jacobs & Anne Davey‘s flawlessly blended harmony is complemented with instrumental versatility of guitar\, bass\, and occasional percussion. \nBased in Delaware & Vermont\, Bettenroo performs in the US and beyond. They have been featured on Freeman Stage (a host to many national acts like Alison Kraus\, Chicago\, Melissa Etheridge\, etc)\, Milton Theatre\, WBOC’s Delmarva Life\, Florida’s Gulf Coast & Keys\, Ladybug Festival\, New England as well as venues in New Zealand\, Australia\, Ireland\, Costa Rica and Belize. Audiences can’t help but become an integral part of Anne and Lori’s passionate musical delivery. Check out Bettenroo’s CD ‘Live Out Loud‘.
URL:https://mrvvillage.com/event/thursday-tunes-bettenroo-2/
LOCATION:Lawson’s Finest Taproom\, 155 Carroll Road\, Waitsfield\, Vermont\, 05673
CATEGORIES:At the Brewery,Tuesday Tunes,Vermont
ATTACH;FMTTYPE=image/png:https://mrvvillage.com/wp-content/uploads/2023/05/Screen-Shot-2023-04-20-at-4.03.15-PM-UFN6fj.tmp_-o8tHye.tmp_.png
ORGANIZER;CN="Lawson%26%238217%3Bs%20Finest%20Liquids":MAILTO:hello@lawsonsfinest.com
GEO:44.1878437;-72.8352541
X-APPLE-STRUCTURED-LOCATION;VALUE=URI;X-ADDRESS=Lawson’s Finest Taproom 155 Carroll Road Waitsfield Vermont 05673;X-APPLE-RADIUS=500;X-TITLE=155 Carroll Road:geo:-72.8352541,44.1878437
END:VEVENT
END:VCALENDAR