BEGIN:VCALENDAR
VERSION:2.0
PRODID:-//The Mad River Valley Village - ECPv6.0.13//NONSGML v1.0//EN
CALSCALE:GREGORIAN
METHOD:PUBLISH
X-ORIGINAL-URL:https://mrvvillage.com
X-WR-CALDESC:Events for The Mad River Valley Village
REFRESH-INTERVAL;VALUE=DURATION:PT1H
X-Robots-Tag:noindex
X-PUBLISHED-TTL:PT1H
BEGIN:VTIMEZONE
TZID:America/New_York
BEGIN:DAYLIGHT
TZOFFSETFROM:-0500
TZOFFSETTO:-0400
TZNAME:EDT
DTSTART:20230312T070000
END:DAYLIGHT
BEGIN:STANDARD
TZOFFSETFROM:-0400
TZOFFSETTO:-0500
TZNAME:EST
DTSTART:20231105T060000
END:STANDARD
END:VTIMEZONE
BEGIN:VEVENT
DTSTART;TZID=America/New_York:20230801T170000
DTEND;TZID=America/New_York:20230801T190000
DTSTAMP:20260421T213904
CREATED:20230509T223931Z
LAST-MODIFIED:20230516T225422Z
UID:10003909-1690909200-1690916400@mrvvillage.com
SUMMARY:Tuesday Tunes: Chris Peterman Quartet
DESCRIPTION:The Chris Peterman Quartet brings together four of Vermont’s finest and most sought-after musicians\, playing a wide variety of contemporary and classic jazz in a uniquely melodic style\, and focused on the dialog and interplay that are the heart of jazz. Their repertoire includes compositions by the band as well as reimaginings of the music of Pat Metheny\, Weather Report\, Chick Corea\, and Don Grolnick\, among others.
URL:https://mrvvillage.com/event/tuesday-tunes-chris-peterman-quartet/
LOCATION:Lawson’s Finest Taproom\, 155 Carroll Road\, Waitsfield\, Vermont\, 05673
CATEGORIES:At the Brewery,Tuesday Tunes,Vermont
ATTACH;FMTTYPE=image/png:https://mrvvillage.com/wp-content/uploads/2022/12/Screen-Shot-2022-05-23-at-1.08.07-PM-rM4IJs.tmp_.png
ORGANIZER;CN="Lawson%26%238217%3Bs%20Finest%20Liquids":MAILTO:hello@lawsonsfinest.com
GEO:44.1878437;-72.8352541
X-APPLE-STRUCTURED-LOCATION;VALUE=URI;X-ADDRESS=Lawson’s Finest Taproom 155 Carroll Road Waitsfield Vermont 05673;X-APPLE-RADIUS=500;X-TITLE=155 Carroll Road:geo:-72.8352541,44.1878437
END:VEVENT
BEGIN:VEVENT
DTSTART;TZID=America/New_York:20230801T170000
DTEND;TZID=America/New_York:20230801T190000
DTSTAMP:20260421T213904
CREATED:20230703T165634Z
LAST-MODIFIED:20230801T130823Z
UID:10004236-1690909200-1690916400@mrvvillage.com
SUMMARY:Tuesday Tunes: Chris Peterman Quartet
DESCRIPTION:The Chris Peterman Quartet brings together four of Vermont’s finest and most sought-after musicians\, playing a wide variety of contemporary and classic jazz in a uniquely melodic style\, and focused on the dialog and interplay that are the heart of jazz. Their repertoire includes compositions by the band as well as reimaginings of the music of Pat Metheny\, Weather Report\, Chick Corea\, and Don Grolnick\, among others.
URL:https://mrvvillage.com/event/tuesday-tunes-chris-peterman-quartet-2/
LOCATION:Lawson’s Finest Taproom\, 155 Carroll Road\, Waitsfield\, Vermont\, 05673
CATEGORIES:At the Brewery,Tuesday Tunes,Vermont
ATTACH;FMTTYPE=image/png:https://mrvvillage.com/wp-content/uploads/2023/07/Screen-Shot-2022-05-23-at-1.08.07-PM-WYCSbV.tmp_-246aq9.tmp_.png
ORGANIZER;CN="Lawson%26%238217%3Bs%20Finest%20Liquids":MAILTO:hello@lawsonsfinest.com
GEO:44.1878437;-72.8352541
X-APPLE-STRUCTURED-LOCATION;VALUE=URI;X-ADDRESS=Lawson’s Finest Taproom 155 Carroll Road Waitsfield Vermont 05673;X-APPLE-RADIUS=500;X-TITLE=155 Carroll Road:geo:-72.8352541,44.1878437
END:VEVENT
END:VCALENDAR