BEGIN:VCALENDAR
VERSION:2.0
PRODID:-//The Mad River Valley Village - ECPv6.0.13//NONSGML v1.0//EN
CALSCALE:GREGORIAN
METHOD:PUBLISH
X-WR-CALNAME:The Mad River Valley Village
X-ORIGINAL-URL:https://mrvvillage.com
X-WR-CALDESC:Events for The Mad River Valley Village
REFRESH-INTERVAL;VALUE=DURATION:PT1H
X-Robots-Tag:noindex
X-PUBLISHED-TTL:PT1H
BEGIN:VTIMEZONE
TZID:America/New_York
BEGIN:DAYLIGHT
TZOFFSETFROM:-0500
TZOFFSETTO:-0400
TZNAME:EDT
DTSTART:20230312T070000
END:DAYLIGHT
BEGIN:STANDARD
TZOFFSETFROM:-0400
TZOFFSETTO:-0500
TZNAME:EST
DTSTART:20231105T060000
END:STANDARD
END:VTIMEZONE
BEGIN:VEVENT
DTSTART;TZID=America/New_York:20230919T170000
DTEND;TZID=America/New_York:20230919T190000
DTSTAMP:20260422T021738
CREATED:20230831T221246Z
LAST-MODIFIED:20230919T142323Z
UID:10005101-1695142800-1695150000@mrvvillage.com
SUMMARY:Tuesday Tunes: The Corner Junction Bluegrass Band
DESCRIPTION:Corner Junction Bluegrass was created by five guys with a true passion for bluegrass music: Neal Brown on bass\, Allen Gratton on mandolin\, George Seymour on banjo\, Willy Dallas on fiddle\, and Ernie Minetti on guitar. We have previously played in bands such as Hidden Drive Band\, Possum Livin\, New Cross Country\, Steel Rail\, and Bluegrass Revisited.\n\n\n\n\nSince coming together in 2021\, we have been privileged to share our unique take on bluegrass with live performances across Vermont. Our band’s sound draws inspiration from the original Bluegrass bands: \nFlatt and Scruggs\, Jimmy Martin\, Don Reno\, Dillard’s\, and the originator of bluegrass\, Bill Monroe. The Corner Junction Bluegrass Band is all about fast-paced bluegrass music. Our combination of deep harmony\, strong leads\, and bluesy sound creates a musical experience like no other. 
URL:https://mrvvillage.com/event/tuesday-tunes-the-corner-junction-bluegrass-band/
LOCATION:Lawson’s Finest Taproom\, 155 Carroll Road\, Waitsfield\, Vermont\, 05673
CATEGORIES:At the Brewery,Tuesday Tunes,Vermont
ATTACH;FMTTYPE=image/png:https://mrvvillage.com/wp-content/uploads/2023/08/Screen-Shot-2023-08-30-at-11.17.18-AM-9Go2J6.tmp_-3ig01r.tmp_.png
ORGANIZER;CN="Lawson%26%238217%3Bs%20Finest%20Liquids":MAILTO:hello@lawsonsfinest.com
GEO:44.1878437;-72.8352541
X-APPLE-STRUCTURED-LOCATION;VALUE=URI;X-ADDRESS=Lawson’s Finest Taproom 155 Carroll Road Waitsfield Vermont 05673;X-APPLE-RADIUS=500;X-TITLE=155 Carroll Road:geo:-72.8352541,44.1878437
END:VEVENT
END:VCALENDAR