BEGIN:VCALENDAR
VERSION:2.0
PRODID:-//The Mad River Valley Village - ECPv6.0.13//NONSGML v1.0//EN
CALSCALE:GREGORIAN
METHOD:PUBLISH
X-WR-CALNAME:The Mad River Valley Village
X-ORIGINAL-URL:https://mrvvillage.com
X-WR-CALDESC:Events for The Mad River Valley Village
REFRESH-INTERVAL;VALUE=DURATION:PT1H
X-Robots-Tag:noindex
X-PUBLISHED-TTL:PT1H
BEGIN:VTIMEZONE
TZID:America/Halifax
BEGIN:DAYLIGHT
TZOFFSETFROM:-0400
TZOFFSETTO:-0300
TZNAME:ADT
DTSTART:20240310T060000
END:DAYLIGHT
BEGIN:STANDARD
TZOFFSETFROM:-0300
TZOFFSETTO:-0400
TZNAME:AST
DTSTART:20241103T050000
END:STANDARD
END:VTIMEZONE
BEGIN:VEVENT
DTSTART;TZID=America/Halifax:20240928T000000
DTEND;TZID=America/Halifax:20240928T235959
DTSTAMP:20260425T103149
CREATED:20240905T190950Z
LAST-MODIFIED:20240928T233815Z
UID:10007003-1727481600-1727567999@mrvvillage.com
SUMMARY:Oktoberfest
DESCRIPTION:Celebrate Oktoberfest at the Taproom! Enjoy live music\, festive activities\, Oktoberfest-inspired food\, and a keep-the-glass special! Oktoberfest attire is encouraged. \nHouse made bratwurst will be on the menu starting when we open at 11:00 am\,  as well as special hard pretzels from Patrick’s Green Mountain Twisters Pretzels. An all-day stein hoisting competition will be available for guests outside in our beer garden. Send winning pictures and times to mark@lawsonsfinest.com for a chance to win a gift card to the taproom! \nWe’ll have everyone’s favorite alt-rock jug band REDadmiral playing here from 12p to 1:30\, dynamic Vermont musician Mike Mac making a return to the taproom from 3:00p to 4:30\, and hometown favorite Madigan Linnane winding up our slate for the day from 4:30 to 6:00. Come party!
URL:https://mrvvillage.com/event/oktoberfest/
LOCATION:Lawson’s Finest Taproom\, 155 Carroll Road\, Waitsfield\, Vermont\, 05673
CATEGORIES:At the Brewery
ATTACH;FMTTYPE=image/png:https://mrvvillage.com/wp-content/uploads/2024/09/OktoberfestPoster_2_2024-m9uU3l.tmp_-OFIWBm.tmp_.png
ORGANIZER;CN="Lawson%26%238217%3Bs%20Finest%20Liquids":MAILTO:hello@lawsonsfinest.com
GEO:44.1878437;-72.8352541
X-APPLE-STRUCTURED-LOCATION;VALUE=URI;X-ADDRESS=Lawson’s Finest Taproom 155 Carroll Road Waitsfield Vermont 05673;X-APPLE-RADIUS=500;X-TITLE=155 Carroll Road:geo:-72.8352541,44.1878437
END:VEVENT
END:VCALENDAR