BEGIN:VCALENDAR
VERSION:2.0
PRODID:-//The Mad River Valley Village - ECPv6.0.13//NONSGML v1.0//EN
CALSCALE:GREGORIAN
METHOD:PUBLISH
X-WR-CALNAME:The Mad River Valley Village
X-ORIGINAL-URL:https://mrvvillage.com
X-WR-CALDESC:Events for The Mad River Valley Village
REFRESH-INTERVAL;VALUE=DURATION:PT1H
X-Robots-Tag:noindex
X-PUBLISHED-TTL:PT1H
BEGIN:VTIMEZONE
TZID:America/Halifax
BEGIN:DAYLIGHT
TZOFFSETFROM:-0400
TZOFFSETTO:-0300
TZNAME:ADT
DTSTART:20250309T060000
END:DAYLIGHT
BEGIN:STANDARD
TZOFFSETFROM:-0300
TZOFFSETTO:-0400
TZNAME:AST
DTSTART:20251102T050000
END:STANDARD
END:VTIMEZONE
BEGIN:VEVENT
DTSTART;TZID=America/Halifax:20250924T160000
DTEND;TZID=America/Halifax:20250924T200000
DTSTAMP:20260424T123845
CREATED:20250911T014020Z
LAST-MODIFIED:20250924T223819Z
UID:10008981-1758729600-1758744000@mrvvillage.com
SUMMARY:Gotta Jibrew IPA Draft Release and Live Show
DESCRIPTION:Sean Lawson and the Gotta Jibrew Traveling Beer Club brewed up something special together\, and we’re excited to share it with all of you on September 24th. \nCome on down to the taproom for the release of Gotta Jibrew IPA. We’ll be tapping the first keg for the public at 4:00pm. We’ll have the deep grooves bumpin’ in the taproom ahead of a very special performance from electrifying guitarist ANTHONY KRIZAN (Amphibian\, and formerly of the Spin Doctors). \nPut on your dancin’ shoes\, grab your glow sticks\, and come get funky.
URL:https://mrvvillage.com/event/gotta-jibrew-ipa-draft-release-and-live-show/
LOCATION:Lawson’s Finest Brewery\, 155 Carroll Road\, Waitsfield\, VT\, 05673\, United States
CATEGORIES:At the Brewery,Vermont
ATTACH;FMTTYPE=image/png:https://mrvvillage.com/wp-content/uploads/2025/09/GottaJibrewIPA_Release_Poster-fXwrey-97E30H.png
ORGANIZER;CN="Lawson%26%238217%3Bs%20Finest%20Liquids":MAILTO:hello@lawsonsfinest.com
GEO:44.1878437;-72.8352541
X-APPLE-STRUCTURED-LOCATION;VALUE=URI;X-ADDRESS=Lawson’s Finest Brewery 155 Carroll Road Waitsfield VT 05673 United States;X-APPLE-RADIUS=500;X-TITLE=155 Carroll Road:geo:-72.8352541,44.1878437
END:VEVENT
END:VCALENDAR