BEGIN:VCALENDAR
VERSION:2.0
PRODID:-//The Mad River Valley Village - ECPv6.0.13//NONSGML v1.0//EN
CALSCALE:GREGORIAN
METHOD:PUBLISH
X-WR-CALNAME:The Mad River Valley Village
X-ORIGINAL-URL:https://mrvvillage.com
X-WR-CALDESC:Events for The Mad River Valley Village
REFRESH-INTERVAL;VALUE=DURATION:PT1H
X-Robots-Tag:noindex
X-PUBLISHED-TTL:PT1H
BEGIN:VTIMEZONE
TZID:America/Halifax
BEGIN:DAYLIGHT
TZOFFSETFROM:-0400
TZOFFSETTO:-0300
TZNAME:ADT
DTSTART:20250309T060000
END:DAYLIGHT
BEGIN:STANDARD
TZOFFSETFROM:-0300
TZOFFSETTO:-0400
TZNAME:AST
DTSTART:20251102T050000
END:STANDARD
END:VTIMEZONE
BEGIN:VEVENT
DTSTART;TZID=America/Halifax:20250925T000000
DTEND;TZID=America/Halifax:20250925T235959
DTSTAMP:20260424T123845
CREATED:20250904T002509Z
LAST-MODIFIED:20250925T223825Z
UID:10008951-1758758400-1758844799@mrvvillage.com
SUMMARY:The Big Sip Distributor Summit (Taproom Closed\, Retail Open)
DESCRIPTION:On Thursday\, September 25th the Taproom will be closed to the public (our Retail shop will be open normal hours) for our annual Big Sip Distributor Summit. Representatives from each of our distribution partners that carry our beer throughout the Northeast and beyond will be onsite for a full day of immersion into the Lawson’s Finest experience. We quite literally wouldn’t be where we are today without our distribution partners. \nSwing by our Retail shop for beer to go\, and come back on Friday when our Taproom will be back open to the public!
URL:https://mrvvillage.com/event/the-big-sip-distributor-summit-taproom-closed-retail-open/
LOCATION:Lawson’s Finest Brewery\, 155 Carroll Road\, Waitsfield\, VT\, 05673\, United States
CATEGORIES:At the Brewery,Vermont
ATTACH;FMTTYPE=image/jpeg:https://mrvvillage.com/wp-content/uploads/2025/09/TheBigSip_Logo_2025-01-2568x1448-5b732d09-fdf8-489d-bcc8-473289920115-scaled-lIaaza-lG0Dsq.jpg
ORGANIZER;CN="Lawson%26%238217%3Bs%20Finest%20Liquids":MAILTO:hello@lawsonsfinest.com
GEO:44.1878437;-72.8352541
X-APPLE-STRUCTURED-LOCATION;VALUE=URI;X-ADDRESS=Lawson’s Finest Brewery 155 Carroll Road Waitsfield VT 05673 United States;X-APPLE-RADIUS=500;X-TITLE=155 Carroll Road:geo:-72.8352541,44.1878437
END:VEVENT
BEGIN:VEVENT
DTSTART;TZID=America/Halifax:20250925T160000
DTEND;TZID=America/Halifax:20250925T190000
DTSTAMP:20260424T123845
CREATED:20250827T182613Z
LAST-MODIFIED:20250925T223825Z
UID:10008921-1758816000-1758826800@mrvvillage.com
SUMMARY:Fresh Catch Thursday
DESCRIPTION:Every Thursday starting at 4pm we host Nor’Easter Catering for a raw bar pop-up. Come on down and enjoy the freshest oysters you can get your hands on\, and a variety of weekly specials that often include lobster rolls\, shrimp cocktails\, tuna poke bowls\, blue crab quesadillas\, and more!
URL:https://mrvvillage.com/event/fresh-catch-thursday-137/
LOCATION:Lawson’s Finest Brewery\, 155 Carroll Road\, Waitsfield\, VT\, 05673\, United States
CATEGORIES:At the Brewery,Fresh Catch Thursday,Vermont
ATTACH;FMTTYPE=image/jpeg:https://mrvvillage.com/wp-content/uploads/2024/12/FreshCatchThursday_WebImage_1-2548x3300-919050fe-ce72-44ad-8d6d-bb904a6f39fd-scaled-UPbgnL.tmp_-wHybhi.tmp_.jpg
ORGANIZER;CN="Lawson%26%238217%3Bs%20Finest%20Liquids":MAILTO:hello@lawsonsfinest.com
GEO:44.1878437;-72.8352541
X-APPLE-STRUCTURED-LOCATION;VALUE=URI;X-ADDRESS=Lawson’s Finest Brewery 155 Carroll Road Waitsfield VT 05673 United States;X-APPLE-RADIUS=500;X-TITLE=155 Carroll Road:geo:-72.8352541,44.1878437
END:VEVENT
END:VCALENDAR