BEGIN:VCALENDAR
VERSION:2.0
PRODID:-//The Mad River Valley Village - ECPv6.0.13//NONSGML v1.0//EN
CALSCALE:GREGORIAN
METHOD:PUBLISH
X-ORIGINAL-URL:https://mrvvillage.com
X-WR-CALDESC:Events for The Mad River Valley Village
REFRESH-INTERVAL;VALUE=DURATION:PT1H
X-Robots-Tag:noindex
X-PUBLISHED-TTL:PT1H
BEGIN:VTIMEZONE
TZID:America/Halifax
BEGIN:DAYLIGHT
TZOFFSETFROM:-0400
TZOFFSETTO:-0300
TZNAME:ADT
DTSTART:20250309T060000
END:DAYLIGHT
BEGIN:STANDARD
TZOFFSETFROM:-0300
TZOFFSETTO:-0400
TZNAME:AST
DTSTART:20251102T050000
END:STANDARD
END:VTIMEZONE
BEGIN:VEVENT
DTSTART;TZID=America/Halifax:20250929T170000
DTEND;TZID=America/Halifax:20250929T190000
DTSTAMP:20260424T092717
CREATED:20250916T015445Z
LAST-MODIFIED:20250929T233822Z
UID:10008990-1759165200-1759172400@mrvvillage.com
SUMMARY:Artist Spotlight with Sarah Lavoie
DESCRIPTION:The artwork that adorns our Taproom walls rotates monthly with a different Vermont artist. This month we’re spotlighting the photography of Burlington’s Sarah Lavoie. Come join Sarah and the rest of the team on Monday September 29th to take in the art and chat with the artist!
URL:https://mrvvillage.com/event/artist-spotlight-with-sarah-lavoie/
LOCATION:Lawson’s Finest Brewery\, 155 Carroll Road\, Waitsfield\, VT\, 05673\, United States
CATEGORIES:At the Brewery,Tuesday Tunes
ATTACH;FMTTYPE=image/png:https://mrvvillage.com/wp-content/uploads/2025/09/artist-spotlight-6Nb10M-LNge7v.png
ORGANIZER;CN="Lawson%26%238217%3Bs%20Finest%20Liquids":MAILTO:hello@lawsonsfinest.com
GEO:44.1878437;-72.8352541
X-APPLE-STRUCTURED-LOCATION;VALUE=URI;X-ADDRESS=Lawson’s Finest Brewery 155 Carroll Road Waitsfield VT 05673 United States;X-APPLE-RADIUS=500;X-TITLE=155 Carroll Road:geo:-72.8352541,44.1878437
END:VEVENT
END:VCALENDAR