BEGIN:VCALENDAR
VERSION:2.0
PRODID:-//The Mad River Valley Village - ECPv6.0.13//NONSGML v1.0//EN
CALSCALE:GREGORIAN
METHOD:PUBLISH
X-WR-CALNAME:The Mad River Valley Village
X-ORIGINAL-URL:https://mrvvillage.com
X-WR-CALDESC:Events for The Mad River Valley Village
REFRESH-INTERVAL;VALUE=DURATION:PT1H
X-Robots-Tag:noindex
X-PUBLISHED-TTL:PT1H
BEGIN:VTIMEZONE
TZID:America/Halifax
BEGIN:DAYLIGHT
TZOFFSETFROM:-0400
TZOFFSETTO:-0300
TZNAME:ADT
DTSTART:20250309T060000
END:DAYLIGHT
BEGIN:STANDARD
TZOFFSETFROM:-0300
TZOFFSETTO:-0400
TZNAME:AST
DTSTART:20251102T050000
END:STANDARD
END:VTIMEZONE
BEGIN:VEVENT
DTSTART;TZID=America/Halifax:20251019T150000
DTEND;TZID=America/Halifax:20251019T170000
DTSTAMP:20260424T110646
CREATED:20251016T063832Z
LAST-MODIFIED:20251019T143818Z
UID:10009113-1760886000-1760893200@mrvvillage.com
SUMMARY:Sunday Sessions: Robin Gottfried
DESCRIPTION:Joining us for the launch of our year-round Sunday afternoon music is Vermont recording artist\, Robin Gottfried. Come on down for this solo performance Sunday October 19th!
URL:https://mrvvillage.com/event/sunday-sessions-robin-gottfried/
LOCATION:Lawson’s Finest Brewery\, 155 Carroll Road\, Waitsfield\, VT\, 05673\, United States
CATEGORIES:At the Brewery,Vermont
ATTACH;FMTTYPE=image/jpeg:https://mrvvillage.com/wp-content/uploads/2025/10/lawsons-solo-project-poster-pdf-BC0mm8-eUWbii.jpg
ORGANIZER;CN="Lawson%26%238217%3Bs%20Finest%20Liquids":MAILTO:hello@lawsonsfinest.com
GEO:44.1878437;-72.8352541
X-APPLE-STRUCTURED-LOCATION;VALUE=URI;X-ADDRESS=Lawson’s Finest Brewery 155 Carroll Road Waitsfield VT 05673 United States;X-APPLE-RADIUS=500;X-TITLE=155 Carroll Road:geo:-72.8352541,44.1878437
END:VEVENT
END:VCALENDAR