BEGIN:VCALENDAR
VERSION:2.0
PRODID:-//The Mad River Valley Village - ECPv6.0.13//NONSGML v1.0//EN
CALSCALE:GREGORIAN
METHOD:PUBLISH
X-ORIGINAL-URL:https://mrvvillage.com
X-WR-CALDESC:Events for The Mad River Valley Village
REFRESH-INTERVAL;VALUE=DURATION:PT1H
X-Robots-Tag:noindex
X-PUBLISHED-TTL:PT1H
BEGIN:VTIMEZONE
TZID:America/New_York
BEGIN:DAYLIGHT
TZOFFSETFROM:-0500
TZOFFSETTO:-0400
TZNAME:EDT
DTSTART:20230312T070000
END:DAYLIGHT
BEGIN:STANDARD
TZOFFSETFROM:-0400
TZOFFSETTO:-0500
TZNAME:EST
DTSTART:20231105T060000
END:STANDARD
END:VTIMEZONE
BEGIN:VEVENT
DTSTART;TZID=America/New_York:20230604T150000
DTEND;TZID=America/New_York:20230604T170000
DTSTAMP:20260421T215658
CREATED:20230425T223828Z
LAST-MODIFIED:20230516T225345Z
UID:10003724-1685890800-1685898000@mrvvillage.com
SUMMARY:Summer Sundays: Breanna Elaine
DESCRIPTION:Breanna Elaine is a full time musician\, singer/songwriter based out of Vermont. Her first studio album “Seedlings” is currently in progress and is set to be released January 2023. Breanna’s music is dripping with plenty of earthy folk sounds\, but also has undertones of rock\, bluegrass and even punk. She performs a mix of originals as well as a wide array of covers on both guitar and banjo. Comparisons have included singer/songwriter Jewel\, as well as legends Alanis Morissette and Stevie Nicks. Breanna is recognized around Vermont and surrounding areas for her unique sound and songwriting talent. With over 100 original songs that have still yet to be recorded\, this is just the beginning for Breanna Elaine\, a true star on the rise.
URL:https://mrvvillage.com/event/summer-sundays-breanna-elaine/
LOCATION:Lawson’s Finest Taproom\, 155 Carroll Road\, Waitsfield\, Vermont\, 05673
CATEGORIES:At the Brewery,Tuesday Tunes,Vermont
ATTACH;FMTTYPE=image/jpeg:https://mrvvillage.com/wp-content/uploads/2022/12/Breanna-Elaine-128-scaled-WwwIMn.tmp_.jpg
ORGANIZER;CN="Lawson%26%238217%3Bs%20Finest%20Liquids":MAILTO:hello@lawsonsfinest.com
GEO:44.1878437;-72.8352541
X-APPLE-STRUCTURED-LOCATION;VALUE=URI;X-ADDRESS=Lawson’s Finest Taproom 155 Carroll Road Waitsfield Vermont 05673;X-APPLE-RADIUS=500;X-TITLE=155 Carroll Road:geo:-72.8352541,44.1878437
END:VEVENT
BEGIN:VEVENT
DTSTART;TZID=America/New_York:20230604T150000
DTEND;TZID=America/New_York:20230604T170000
DTSTAMP:20260421T215658
CREATED:20230505T165759Z
LAST-MODIFIED:20230604T235313Z
UID:10003869-1685890800-1685898000@mrvvillage.com
SUMMARY:Summer Sundays: Breanna Elaine
DESCRIPTION:Breanna Elaine is a full time musician\, singer/songwriter based out of Vermont. Her first studio album “Seedlings” is currently in progress and is set to be released January 2023. Breanna’s music is dripping with plenty of earthy folk sounds\, but also has undertones of rock\, bluegrass and even punk. She performs a mix of originals as well as a wide array of covers on both guitar and banjo. Comparisons have included singer/songwriter Jewel\, as well as legends Alanis Morissette and Stevie Nicks. Breanna is recognized around Vermont and surrounding areas for her unique sound and songwriting talent. With over 100 original songs that have still yet to be recorded\, this is just the beginning for Breanna Elaine\, a true star on the rise.
URL:https://mrvvillage.com/event/summer-sundays-breanna-elaine-2/
LOCATION:Lawson’s Finest Taproom\, 155 Carroll Road\, Waitsfield\, Vermont\, 05673
CATEGORIES:At the Brewery,Tuesday Tunes,Vermont
ATTACH;FMTTYPE=image/jpeg:https://mrvvillage.com/wp-content/uploads/2023/05/Breanna-Elaine-128-scaled-4u4uap.tmp_-XLhA9z.tmp_.jpg
ORGANIZER;CN="Lawson%26%238217%3Bs%20Finest%20Liquids":MAILTO:hello@lawsonsfinest.com
GEO:44.1878437;-72.8352541
X-APPLE-STRUCTURED-LOCATION;VALUE=URI;X-ADDRESS=Lawson’s Finest Taproom 155 Carroll Road Waitsfield Vermont 05673;X-APPLE-RADIUS=500;X-TITLE=155 Carroll Road:geo:-72.8352541,44.1878437
END:VEVENT
END:VCALENDAR