BEGIN:VCALENDAR
VERSION:2.0
PRODID:-//The Mad River Valley Village - ECPv6.0.13//NONSGML v1.0//EN
CALSCALE:GREGORIAN
METHOD:PUBLISH
X-ORIGINAL-URL:https://mrvvillage.com
X-WR-CALDESC:Events for The Mad River Valley Village
REFRESH-INTERVAL;VALUE=DURATION:PT1H
X-Robots-Tag:noindex
X-PUBLISHED-TTL:PT1H
BEGIN:VTIMEZONE
TZID:America/New_York
BEGIN:DAYLIGHT
TZOFFSETFROM:-0500
TZOFFSETTO:-0400
TZNAME:EDT
DTSTART:20230312T070000
END:DAYLIGHT
BEGIN:STANDARD
TZOFFSETFROM:-0400
TZOFFSETTO:-0500
TZNAME:EST
DTSTART:20231105T060000
END:STANDARD
TZID:America/Halifax
BEGIN:DAYLIGHT
TZOFFSETFROM:-0400
TZOFFSETTO:-0300
TZNAME:ADT
DTSTART:20230312T060000
END:DAYLIGHT
BEGIN:STANDARD
TZOFFSETFROM:-0300
TZOFFSETTO:-0400
TZNAME:AST
DTSTART:20231105T050000
END:STANDARD
END:VTIMEZONE
BEGIN:VEVENT
DTSTART;TZID=America/New_York:20230627T170000
DTEND;TZID=America/New_York:20230627T190000
DTSTAMP:20260421T215658
CREATED:20230425T223839Z
LAST-MODIFIED:20230516T225402Z
UID:10003728-1687885200-1687892400@mrvvillage.com
SUMMARY:Tuesday Tunes: Robin Gottfriend Band
DESCRIPTION:Soulful original rock out of Burlington\, VT!
URL:https://mrvvillage.com/event/tuesday-tunes-robin-gottfriend-band/
LOCATION:Lawson’s Finest Taproom\, 155 Carroll Road\, Waitsfield\, Vermont\, 05673
CATEGORIES:At the Brewery,Tuesday Tunes,Vermont
ATTACH;FMTTYPE=image/png:https://mrvvillage.com/wp-content/uploads/2023/04/Screen-Shot-2021-10-25-at-3.07.31-PM-FmhWKE.tmp_.png
ORGANIZER;CN="Lawson%26%238217%3Bs%20Finest%20Liquids":MAILTO:hello@lawsonsfinest.com
GEO:44.1878437;-72.8352541
X-APPLE-STRUCTURED-LOCATION;VALUE=URI;X-ADDRESS=Lawson’s Finest Taproom 155 Carroll Road Waitsfield Vermont 05673;X-APPLE-RADIUS=500;X-TITLE=155 Carroll Road:geo:-72.8352541,44.1878437
END:VEVENT
BEGIN:VEVENT
DTSTART;TZID=America/Halifax:20230628T120000
DTEND;TZID=America/Halifax:20230628T190000
DTSTAMP:20260421T215658
CREATED:20230607T074021Z
LAST-MODIFIED:20230628T185313Z
UID:10004076-1687953600-1687978800@mrvvillage.com
SUMMARY:Beers & Brats
DESCRIPTION:Join us for 5th Quarter Butchery Beer Brats and $5 pints of Little Sip IPA\, all day long!
URL:https://mrvvillage.com/event/beers-brats-18/
LOCATION:Lawson’s Finest Brewery\, 155 Carroll Road\, Waitsfield\, VT\, 05673\, United States
CATEGORIES:At the Brewery
ATTACH;FMTTYPE=image/jpeg:https://mrvvillage.com/wp-content/uploads/2023/05/LFL_BeersBrats-UPDATED-8.5X11-scaled-vlzP1w.tmp_-ghgJep.tmp_.jpg
ORGANIZER;CN="Lawson%26%238217%3Bs%20Finest%20Liquids":MAILTO:hello@lawsonsfinest.com
GEO:44.1878437;-72.8352541
X-APPLE-STRUCTURED-LOCATION;VALUE=URI;X-ADDRESS=Lawson’s Finest Brewery 155 Carroll Road Waitsfield VT 05673 United States;X-APPLE-RADIUS=500;X-TITLE=155 Carroll Road:geo:-72.8352541,44.1878437
END:VEVENT
BEGIN:VEVENT
DTSTART;TZID=America/New_York:20230702T150000
DTEND;TZID=America/New_York:20230702T170000
DTSTAMP:20260421T215658
CREATED:20230502T223919Z
LAST-MODIFIED:20230516T225403Z
UID:10003790-1688310000-1688317200@mrvvillage.com
SUMMARY:Summer Sundays: Good Gravy
DESCRIPTION:Good Gravy is a bluegrass trio out of Burlington\, VT. Joining us for the very first time!
URL:https://mrvvillage.com/event/summer-sundays-good-gravy/
LOCATION:Lawson’s Finest Taproom\, 155 Carroll Road\, Waitsfield\, Vermont\, 05673
CATEGORIES:At the Brewery,Tuesday Tunes,Vermont
ATTACH;FMTTYPE=image/jpeg:https://mrvvillage.com/wp-content/uploads/2023/05/DSCF0959-8Hrn1U.tmp_.jpg
ORGANIZER;CN="Lawson%26%238217%3Bs%20Finest%20Liquids":MAILTO:hello@lawsonsfinest.com
GEO:44.1878437;-72.8352541
X-APPLE-STRUCTURED-LOCATION;VALUE=URI;X-ADDRESS=Lawson’s Finest Taproom 155 Carroll Road Waitsfield Vermont 05673;X-APPLE-RADIUS=500;X-TITLE=155 Carroll Road:geo:-72.8352541,44.1878437
END:VEVENT
BEGIN:VEVENT
DTSTART;TZID=America/New_York:20230702T150000
DTEND;TZID=America/New_York:20230702T170000
DTSTAMP:20260421T215658
CREATED:20230602T232600Z
LAST-MODIFIED:20230702T195317Z
UID:10004023-1688310000-1688317200@mrvvillage.com
SUMMARY:Summer Sundays: Good Gravy
DESCRIPTION:Good Gravy is a bluegrass trio out of Burlington\, VT. Joining us for the very first time!
URL:https://mrvvillage.com/event/summer-sundays-good-gravy-2/
LOCATION:Lawson’s Finest Taproom\, 155 Carroll Road\, Waitsfield\, Vermont\, 05673
CATEGORIES:At the Brewery,Tuesday Tunes,Vermont
ATTACH;FMTTYPE=image/jpeg:https://mrvvillage.com/wp-content/uploads/2023/06/DSCF0959-6xRD8G.tmp_-tX1oNo.tmp_.jpg
ORGANIZER;CN="Lawson%26%238217%3Bs%20Finest%20Liquids":MAILTO:hello@lawsonsfinest.com
GEO:44.1878437;-72.8352541
X-APPLE-STRUCTURED-LOCATION;VALUE=URI;X-ADDRESS=Lawson’s Finest Taproom 155 Carroll Road Waitsfield Vermont 05673;X-APPLE-RADIUS=500;X-TITLE=155 Carroll Road:geo:-72.8352541,44.1878437
END:VEVENT
END:VCALENDAR