BEGIN:VCALENDAR
VERSION:2.0
PRODID:-//The Mad River Valley Village - ECPv6.0.13//NONSGML v1.0//EN
CALSCALE:GREGORIAN
METHOD:PUBLISH
X-WR-CALNAME:The Mad River Valley Village
X-ORIGINAL-URL:https://mrvvillage.com
X-WR-CALDESC:Events for The Mad River Valley Village
REFRESH-INTERVAL;VALUE=DURATION:PT1H
X-Robots-Tag:noindex
X-PUBLISHED-TTL:PT1H
BEGIN:VTIMEZONE
TZID:America/New_York
BEGIN:DAYLIGHT
TZOFFSETFROM:-0500
TZOFFSETTO:-0400
TZNAME:EDT
DTSTART:20230312T070000
END:DAYLIGHT
BEGIN:STANDARD
TZOFFSETFROM:-0400
TZOFFSETTO:-0500
TZNAME:EST
DTSTART:20231105T060000
END:STANDARD
TZID:America/Halifax
BEGIN:DAYLIGHT
TZOFFSETFROM:-0400
TZOFFSETTO:-0300
TZNAME:ADT
DTSTART:20230312T060000
END:DAYLIGHT
BEGIN:STANDARD
TZOFFSETFROM:-0300
TZOFFSETTO:-0400
TZNAME:AST
DTSTART:20231105T050000
END:STANDARD
END:VTIMEZONE
BEGIN:VEVENT
DTSTART;TZID=America/New_York:20230905T170000
DTEND;TZID=America/New_York:20230905T190000
DTSTAMP:20260422T052931
CREATED:20230831T220938Z
LAST-MODIFIED:20230905T232408Z
UID:10005084-1693933200-1693940400@mrvvillage.com
SUMMARY:Tuesday Tunes: When Dinosaurs Roamed the Earth
DESCRIPTION:A rock trio playing select guitar rock from the 1970’s.  Bands like Jeff Beck\, Santana\, David Bowie\, Billy Cobham\, Led Zeppelin\, The Beatles\, Neil Young and a far out collection of era songs that will feather your hair.
URL:https://mrvvillage.com/event/tuesday-tunes-when-dinosaurs-roamed-the-earth/
LOCATION:Lawson’s Finest Taproom\, 155 Carroll Road\, Waitsfield\, Vermont\, 05673
CATEGORIES:At the Brewery,Tuesday Tunes,Vermont
ATTACH;FMTTYPE=image/jpeg:https://mrvvillage.com/wp-content/uploads/2023/08/Dino@Lawsons-9-5-23-mK74dx.tmp_-ApuZmN.tmp_.jpg
ORGANIZER;CN="Lawson%26%238217%3Bs%20Finest%20Liquids":MAILTO:hello@lawsonsfinest.com
GEO:44.1878437;-72.8352541
X-APPLE-STRUCTURED-LOCATION;VALUE=URI;X-ADDRESS=Lawson’s Finest Taproom 155 Carroll Road Waitsfield Vermont 05673;X-APPLE-RADIUS=500;X-TITLE=155 Carroll Road:geo:-72.8352541,44.1878437
END:VEVENT
BEGIN:VEVENT
DTSTART;TZID=America/Halifax:20230906T120000
DTEND;TZID=America/Halifax:20230906T190000
DTSTAMP:20260422T052931
CREATED:20230831T220942Z
LAST-MODIFIED:20230906T233838Z
UID:10005085-1694001600-1694026800@mrvvillage.com
SUMMARY:Beers & Brats
DESCRIPTION:Join us for 5th Quarter Butchery Beer Brats and $5 pints of Little Sip IPA\, all day long!
URL:https://mrvvillage.com/event/beers-brats/
LOCATION:Lawson’s Finest Brewery\, 155 Carroll Road\, Waitsfield\, VT\, 05673\, United States
CATEGORIES:At the Brewery
ATTACH;FMTTYPE=image/jpeg:https://mrvvillage.com/wp-content/uploads/2023/05/LFL_BeersBrats-UPDATED-8.5X11-scaled-vlzP1w.tmp_-ghgJep.tmp_.jpg
ORGANIZER;CN="Lawson%26%238217%3Bs%20Finest%20Liquids":MAILTO:hello@lawsonsfinest.com
GEO:44.1878437;-72.8352541
X-APPLE-STRUCTURED-LOCATION;VALUE=URI;X-ADDRESS=Lawson’s Finest Brewery 155 Carroll Road Waitsfield VT 05673 United States;X-APPLE-RADIUS=500;X-TITLE=155 Carroll Road:geo:-72.8352541,44.1878437
END:VEVENT
BEGIN:VEVENT
DTSTART;TZID=America/New_York:20230910T150000
DTEND;TZID=America/New_York:20230910T170000
DTSTAMP:20260422T052931
CREATED:20230831T221042Z
LAST-MODIFIED:20230910T122355Z
UID:10005090-1694358000-1694365200@mrvvillage.com
SUMMARY:Summer Sundays: Ryan Sweezey
DESCRIPTION:INFECTIOUS\, EMOTIONAL\, AND MEANINGFUL POP/ROCK AND FOLK – FOR FANS OF MATT NATHANSON\, MATCHBOX TWENTY\, AND GIN BLOSSOMS\n\n“WITH MILLION DOLLAR POP/ROCK SONGS ALL DAY LONG\, KILLER VOICE AND ROCK SOLID GUITAR SKILLS\, RYAN HAS THE POTENTIAL OF A JOHN MAYER TYPE CAREER” – TOM BIANCHI\, 24HOUR MUSIC
URL:https://mrvvillage.com/event/summer-sundays-ryan-sweezey/
LOCATION:Lawson’s Finest Taproom\, 155 Carroll Road\, Waitsfield\, Vermont\, 05673
CATEGORIES:At the Brewery,Tuesday Tunes,Vermont
ATTACH;FMTTYPE=image/jpeg:https://mrvvillage.com/wp-content/uploads/2023/08/286378377_10221797315062220_6324852567880437869_n-9k4gk0.tmp_-bUFP0G.tmp_.jpg
ORGANIZER;CN="Lawson%26%238217%3Bs%20Finest%20Liquids":MAILTO:hello@lawsonsfinest.com
GEO:44.1878437;-72.8352541
X-APPLE-STRUCTURED-LOCATION;VALUE=URI;X-ADDRESS=Lawson’s Finest Taproom 155 Carroll Road Waitsfield Vermont 05673;X-APPLE-RADIUS=500;X-TITLE=155 Carroll Road:geo:-72.8352541,44.1878437
END:VEVENT
END:VCALENDAR