BEGIN:VCALENDAR
VERSION:2.0
PRODID:-//The Mad River Valley Village - ECPv6.0.13//NONSGML v1.0//EN
CALSCALE:GREGORIAN
METHOD:PUBLISH
X-WR-CALNAME:The Mad River Valley Village
X-ORIGINAL-URL:https://mrvvillage.com
X-WR-CALDESC:Events for The Mad River Valley Village
REFRESH-INTERVAL;VALUE=DURATION:PT1H
X-Robots-Tag:noindex
X-PUBLISHED-TTL:PT1H
BEGIN:VTIMEZONE
TZID:America/New_York
BEGIN:DAYLIGHT
TZOFFSETFROM:-0500
TZOFFSETTO:-0400
TZNAME:EDT
DTSTART:20230312T070000
END:DAYLIGHT
BEGIN:STANDARD
TZOFFSETFROM:-0400
TZOFFSETTO:-0500
TZNAME:EST
DTSTART:20231105T060000
END:STANDARD
TZID:America/Halifax
BEGIN:DAYLIGHT
TZOFFSETFROM:-0400
TZOFFSETTO:-0300
TZNAME:ADT
DTSTART:20230312T060000
END:DAYLIGHT
BEGIN:STANDARD
TZOFFSETFROM:-0300
TZOFFSETTO:-0400
TZNAME:AST
DTSTART:20231105T050000
END:STANDARD
END:VTIMEZONE
BEGIN:VEVENT
DTSTART;TZID=America/New_York:20230912T170000
DTEND;TZID=America/New_York:20230912T190000
DTSTAMP:20260422T085123
CREATED:20230831T221101Z
LAST-MODIFIED:20230912T125322Z
UID:10005092-1694538000-1694545200@mrvvillage.com
SUMMARY:Tuesday Tunes: Justin LaPoint
DESCRIPTION:Born and raised in Vermont\, Justin LaPoint is a singer/songwriter armed with a unique voice and style. He draws on elements of his small-town upbringing and the forest surrounding him. With one hand on the wheel and one hand out the window his music makes one look forward to the unknown road ahead and look back at the simple life behind.
URL:https://mrvvillage.com/event/tuesday-tunes-justin-lapoint/
LOCATION:Lawson’s Finest Taproom\, 155 Carroll Road\, Waitsfield\, Vermont\, 05673
CATEGORIES:At the Brewery,Tuesday Tunes,Vermont
ATTACH;FMTTYPE=image/jpeg:https://mrvvillage.com/wp-content/uploads/2023/08/JustinLaPointHeadshots_0010-LQ9rT0.tmp_-G8gk4w.tmp_.jpg
ORGANIZER;CN="Lawson%26%238217%3Bs%20Finest%20Liquids":MAILTO:hello@lawsonsfinest.com
GEO:44.1878437;-72.8352541
X-APPLE-STRUCTURED-LOCATION;VALUE=URI;X-ADDRESS=Lawson’s Finest Taproom 155 Carroll Road Waitsfield Vermont 05673;X-APPLE-RADIUS=500;X-TITLE=155 Carroll Road:geo:-72.8352541,44.1878437
END:VEVENT
BEGIN:VEVENT
DTSTART;TZID=America/Halifax:20230913T120000
DTEND;TZID=America/Halifax:20230913T190000
DTSTAMP:20260422T085123
CREATED:20230831T221118Z
LAST-MODIFIED:20230913T130820Z
UID:10005093-1694606400-1694631600@mrvvillage.com
SUMMARY:Beers & Brats
DESCRIPTION:Join us for 5th Quarter Butchery Beer Brats and $5 pints of Little Sip IPA\, all day long!
URL:https://mrvvillage.com/event/beers-brats-27/
LOCATION:Lawson’s Finest Brewery\, 155 Carroll Road\, Waitsfield\, VT\, 05673\, United States
CATEGORIES:At the Brewery
ATTACH;FMTTYPE=image/jpeg:https://mrvvillage.com/wp-content/uploads/2023/05/LFL_BeersBrats-UPDATED-8.5X11-scaled-vlzP1w.tmp_-ghgJep.tmp_.jpg
ORGANIZER;CN="Lawson%26%238217%3Bs%20Finest%20Liquids":MAILTO:hello@lawsonsfinest.com
GEO:44.1878437;-72.8352541
X-APPLE-STRUCTURED-LOCATION;VALUE=URI;X-ADDRESS=Lawson’s Finest Brewery 155 Carroll Road Waitsfield VT 05673 United States;X-APPLE-RADIUS=500;X-TITLE=155 Carroll Road:geo:-72.8352541,44.1878437
END:VEVENT
END:VCALENDAR