BEGIN:VCALENDAR
VERSION:2.0
PRODID:-//The Mad River Valley Village - ECPv6.0.13//NONSGML v1.0//EN
CALSCALE:GREGORIAN
METHOD:PUBLISH
X-ORIGINAL-URL:https://mrvvillage.com
X-WR-CALDESC:Events for The Mad River Valley Village
REFRESH-INTERVAL;VALUE=DURATION:PT1H
X-Robots-Tag:noindex
X-PUBLISHED-TTL:PT1H
BEGIN:VTIMEZONE
TZID:America/New_York
BEGIN:DAYLIGHT
TZOFFSETFROM:-0500
TZOFFSETTO:-0400
TZNAME:EDT
DTSTART:20240310T070000
END:DAYLIGHT
BEGIN:STANDARD
TZOFFSETFROM:-0400
TZOFFSETTO:-0500
TZNAME:EST
DTSTART:20241103T060000
END:STANDARD
TZID:America/Halifax
BEGIN:DAYLIGHT
TZOFFSETFROM:-0400
TZOFFSETTO:-0300
TZNAME:ADT
DTSTART:20240310T060000
END:DAYLIGHT
BEGIN:STANDARD
TZOFFSETFROM:-0300
TZOFFSETTO:-0400
TZNAME:AST
DTSTART:20241103T050000
END:STANDARD
END:VTIMEZONE
BEGIN:VEVENT
DTSTART;TZID=America/New_York:20240430T170000
DTEND;TZID=America/New_York:20240430T190000
DTSTAMP:20260425T090958
CREATED:20240331T015418Z
LAST-MODIFIED:20240430T145307Z
UID:10006050-1714496400-1714503600@mrvvillage.com
SUMMARY:Tuesday Tunes: John Lackard Blues Duo
DESCRIPTION:Regular Taproom favorite John Lackard brings his blues and rock n’ roll back to the stage. \n 
URL:https://mrvvillage.com/event/tuesday-tunes-john-lackard-blues-duo-2/
LOCATION:Lawson’s Finest Taproom\, 155 Carroll Road\, Waitsfield\, Vermont\, 05673
CATEGORIES:At the Brewery,Tuesday Tunes,Vermont
ATTACH;FMTTYPE=image/jpeg:https://mrvvillage.com/wp-content/uploads/2023/07/Pub-Photo-2020-S-ttlFEO.tmp_-EHTx8l.tmp_.jpg
ORGANIZER;CN="Lawson%26%238217%3Bs%20Finest%20Liquids":MAILTO:hello@lawsonsfinest.com
GEO:44.1878437;-72.8352541
X-APPLE-STRUCTURED-LOCATION;VALUE=URI;X-ADDRESS=Lawson’s Finest Taproom 155 Carroll Road Waitsfield Vermont 05673;X-APPLE-RADIUS=500;X-TITLE=155 Carroll Road:geo:-72.8352541,44.1878437
END:VEVENT
BEGIN:VEVENT
DTSTART;TZID=America/Halifax:20240504T160000
DTEND;TZID=America/Halifax:20240504T200000
DTSTAMP:20260425T090958
CREATED:20240405T022422Z
LAST-MODIFIED:20240504T150808Z
UID:10006063-1714838400-1714852800@mrvvillage.com
SUMMARY:Mad River Luau Dinner With Lawson’s Finest Liquids
DESCRIPTION:Adventure Dinner luau in the heart of the Mad River Valley! \nJoin us for a night of luau adventure\, including behind-the-scenes access to the brewery\, specialty sips\, and a live-fire-cooked meal inspired by the islands. \nYou’ll be greeted with a lei and a heartfelt welcome before adventuring to the private brewery for your first tropical bite. Sip a special cask-aged beer made just for Adventure Dinner—even try it side by side with its uncasked counterpoint and let us know your fave! \nOnce we’ve whet our whistle we’ll make the trek to our long tables set among towers of bright beer cans. A luau feast of surf and turf (and many\, many other secret goodies) will be waiting for you with course-upon course of finger-licking goodness and perfectly paired suds. \nAfter our feast\, we’ll journey to the taproom (after hours!) to relax with a fireside dessert and special nitro beer poured right off the tap. \nTickets are $149 (plus tax) per person and include: \n\n\nPrivate brewery exploration + welcome hour \n\n\n4 courses of a luau feasting \n\n\n5+ pours of deluxe Lawson’s beers including our special Adventure Dinner x Lawson’s Finest cask beer \n\n\nTasty alcohol-free options available upon request \n\n\n*Please note\, for this dinner we cannot offer gluten-free.
URL:https://mrvvillage.com/event/mad-river-luau-dinner-with-lawsons-finest-liquids/
LOCATION:Lawson’s Finest Brewery\, 155 Carroll Road\, Waitsfield\, VT\, 05673\, United States
CATEGORIES:At the Brewery
ORGANIZER;CN="Lawson%26%238217%3Bs%20Finest%20Liquids":MAILTO:hello@lawsonsfinest.com
GEO:44.1878437;-72.8352541
X-APPLE-STRUCTURED-LOCATION;VALUE=URI;X-ADDRESS=Lawson’s Finest Brewery 155 Carroll Road Waitsfield VT 05673 United States;X-APPLE-RADIUS=500;X-TITLE=155 Carroll Road:geo:-72.8352541,44.1878437
END:VEVENT
END:VCALENDAR