BEGIN:VCALENDAR
VERSION:2.0
PRODID:-//The Mad River Valley Village - ECPv6.0.13//NONSGML v1.0//EN
CALSCALE:GREGORIAN
METHOD:PUBLISH
X-ORIGINAL-URL:https://mrvvillage.com
X-WR-CALDESC:Events for The Mad River Valley Village
REFRESH-INTERVAL;VALUE=DURATION:PT1H
X-Robots-Tag:noindex
X-PUBLISHED-TTL:PT1H
BEGIN:VTIMEZONE
TZID:America/New_York
BEGIN:DAYLIGHT
TZOFFSETFROM:-0500
TZOFFSETTO:-0400
TZNAME:EDT
DTSTART:20250309T070000
END:DAYLIGHT
BEGIN:STANDARD
TZOFFSETFROM:-0400
TZOFFSETTO:-0500
TZNAME:EST
DTSTART:20251102T060000
END:STANDARD
TZID:America/Halifax
BEGIN:DAYLIGHT
TZOFFSETFROM:-0400
TZOFFSETTO:-0300
TZNAME:ADT
DTSTART:20250309T060000
END:DAYLIGHT
BEGIN:STANDARD
TZOFFSETFROM:-0300
TZOFFSETTO:-0400
TZNAME:AST
DTSTART:20251102T050000
END:STANDARD
END:VTIMEZONE
BEGIN:VEVENT
DTSTART;TZID=America/New_York:20250909T173000
DTEND;TZID=America/New_York:20250909T193000
DTSTAMP:20260424T140554
CREATED:20250811T142609Z
LAST-MODIFIED:20250909T203817Z
UID:10008826-1757439000-1757446200@mrvvillage.com
SUMMARY:Tuesday Tunes: Bettenroo
DESCRIPTION:Bettenroo is a dynamic\, versatile musical duo with undeniable vocal strength. Lori Jacobs & Anne Davey‘s flawlessly blended harmony is complemented with instrumental versatility of guitar\, bass\, and occasional percussion. \nBased in Delaware & Vermont\, Bettenroo performs in the US and beyond. They have been featured on Freeman Stage (a host to many national acts like Alison Kraus\, Chicago\, Melissa Etheridge\, etc)\, Milton Theatre\, WBOC’s Delmarva Life\, Florida’s Gulf Coast & Keys\, Ladybug Festival\, New England as well as venues in New Zealand\, Australia\, Ireland\, Costa Rica and Belize. Audiences can’t help but become an integral part of Anne and Lori’s passionate musical delivery. Check out Bettenroo’s CD ‘Live Out Loud‘.
URL:https://mrvvillage.com/event/tuesday-tunes-bettenroo-9/
LOCATION:Lawson’s Finest Taproom\, 155 Carroll Road\, Waitsfield\, Vermont\, 05673
CATEGORIES:At the Brewery,Tuesday Tunes,Vermont
ATTACH;FMTTYPE=image/png:https://mrvvillage.com/wp-content/uploads/2024/08/Screen-Shot-2023-04-20-at-4.03.15-PM-e1692196313734-Ypzyg5.tmp_-o2eDTn.tmp_.png
ORGANIZER;CN="Lawson%26%238217%3Bs%20Finest%20Liquids":MAILTO:hello@lawsonsfinest.com
GEO:44.1878437;-72.8352541
X-APPLE-STRUCTURED-LOCATION;VALUE=URI;X-ADDRESS=Lawson’s Finest Taproom 155 Carroll Road Waitsfield Vermont 05673;X-APPLE-RADIUS=500;X-TITLE=155 Carroll Road:geo:-72.8352541,44.1878437
END:VEVENT
BEGIN:VEVENT
DTSTART;TZID=America/Halifax:20250910T180000
DTEND;TZID=America/Halifax:20250910T200000
DTSTAMP:20260424T140554
CREATED:20250813T145645Z
LAST-MODIFIED:20250910T205325Z
UID:10008864-1757527200-1757534400@mrvvillage.com
SUMMARY:Beer Pairing Dinner with Chef Andy Landry
DESCRIPTION:For the third installment of our 2025 beer pairing dinner series we’ve teamed up with local chef\, Andy Landry of Nor’easter Catering\, to provide a menu that explores the bounty of both land and sea\, inspired by the flavors of summer and paired expertly with the latest offerings from the Lawson’s Finest brewery and taproom. \nGuests will meet in the brewery at 6:00pm for a welcome beverage\, and then make their way to a private seating in our taproom retail space for a 4-course dinner from 6:30 to 8:00. \nSeating is very limited\, and tickets can be purchased here.
URL:https://mrvvillage.com/event/beer-pairing-dinner-with-chef-andy-landry/
LOCATION:Lawson’s Finest Brewery\, 155 Carroll Road\, Waitsfield\, VT\, 05673\, United States
CATEGORIES:At the Brewery,Vermont
ATTACH;FMTTYPE=image/jpeg:https://mrvvillage.com/wp-content/uploads/2025/08/BeerPairingDinner_September_Social-scaled-H7gOdT-s8MSQN.jpg
ORGANIZER;CN="Lawson%26%238217%3Bs%20Finest%20Liquids":MAILTO:hello@lawsonsfinest.com
GEO:44.1878437;-72.8352541
X-APPLE-STRUCTURED-LOCATION;VALUE=URI;X-ADDRESS=Lawson’s Finest Brewery 155 Carroll Road Waitsfield VT 05673 United States;X-APPLE-RADIUS=500;X-TITLE=155 Carroll Road:geo:-72.8352541,44.1878437
END:VEVENT
BEGIN:VEVENT
DTSTART;TZID=America/Halifax:20250911T160000
DTEND;TZID=America/Halifax:20250911T190000
DTSTAMP:20260424T140554
CREATED:20250813T145647Z
LAST-MODIFIED:20250911T210818Z
UID:10008866-1757606400-1757617200@mrvvillage.com
SUMMARY:Fresh Catch Thursday
DESCRIPTION:Every Thursday starting at 4pm we host Nor’Easter Catering for a raw bar pop-up. Come on down and enjoy the freshest oysters you can get your hands on\, and a variety of weekly specials that often include lobster rolls\, shrimp cocktails\, tuna poke bowls\, blue crab quesadillas\, and more!
URL:https://mrvvillage.com/event/fresh-catch-thursday-135/
LOCATION:Lawson’s Finest Brewery\, 155 Carroll Road\, Waitsfield\, VT\, 05673\, United States
CATEGORIES:At the Brewery,Fresh Catch Thursday,Vermont
ATTACH;FMTTYPE=image/jpeg:https://mrvvillage.com/wp-content/uploads/2024/12/FreshCatchThursday_WebImage_1-2548x3300-919050fe-ce72-44ad-8d6d-bb904a6f39fd-scaled-UPbgnL.tmp_-wHybhi.tmp_.jpg
ORGANIZER;CN="Lawson%26%238217%3Bs%20Finest%20Liquids":MAILTO:hello@lawsonsfinest.com
GEO:44.1878437;-72.8352541
X-APPLE-STRUCTURED-LOCATION;VALUE=URI;X-ADDRESS=Lawson’s Finest Brewery 155 Carroll Road Waitsfield VT 05673 United States;X-APPLE-RADIUS=500;X-TITLE=155 Carroll Road:geo:-72.8352541,44.1878437
END:VEVENT
END:VCALENDAR