BEGIN:VCALENDAR
VERSION:2.0
PRODID:-//The Mad River Valley Village - ECPv6.0.13//NONSGML v1.0//EN
CALSCALE:GREGORIAN
METHOD:PUBLISH
X-WR-CALNAME:The Mad River Valley Village
X-ORIGINAL-URL:https://mrvvillage.com
X-WR-CALDESC:Events for The Mad River Valley Village
REFRESH-INTERVAL;VALUE=DURATION:PT1H
X-Robots-Tag:noindex
X-PUBLISHED-TTL:PT1H
BEGIN:VTIMEZONE
TZID:America/New_York
BEGIN:DAYLIGHT
TZOFFSETFROM:-0500
TZOFFSETTO:-0400
TZNAME:EDT
DTSTART:20250309T070000
END:DAYLIGHT
BEGIN:STANDARD
TZOFFSETFROM:-0400
TZOFFSETTO:-0500
TZNAME:EST
DTSTART:20251102T060000
END:STANDARD
TZID:America/Halifax
BEGIN:DAYLIGHT
TZOFFSETFROM:-0400
TZOFFSETTO:-0300
TZNAME:ADT
DTSTART:20250309T060000
END:DAYLIGHT
BEGIN:STANDARD
TZOFFSETFROM:-0300
TZOFFSETTO:-0400
TZNAME:AST
DTSTART:20251102T050000
END:STANDARD
END:VTIMEZONE
BEGIN:VEVENT
DTSTART;TZID=America/New_York:20251104T173000
DTEND;TZID=America/New_York:20251104T193000
DTSTAMP:20260424T110540
CREATED:20251005T045508Z
LAST-MODIFIED:20251104T175324Z
UID:10009077-1762277400-1762284600@mrvvillage.com
SUMMARY:Tuesday Tunes: Sammy B
DESCRIPTION:Sammy Blanchette\, aka Sammy B\, is a New England based singer/songwriter multi-instrumentalist who’s career spans nearly two decades. His performance career began primarily out of Southern Connecticut and has since found a primary home in Southern Vermont in the Okemo Valley as of 2018. Like most start up musicians\, Sammy began playing out in bars and nightclubs at age 13 as well as sitting in with multiple Southern CT bands\, including Hubinger St. which he became the full time bass player from 2010 to 2018. His style of work on electric and acoustic guitar ranges from a broad mix of rock\, jazz\, reggae\, blues and jam band styles.
URL:https://mrvvillage.com/event/tuesday-tunes-sammy-b-5/
LOCATION:Lawson’s Finest Taproom\, 155 Carroll Road\, Waitsfield\, Vermont\, 05673
CATEGORIES:At the Brewery,Tuesday Tunes,Vermont
ATTACH;FMTTYPE=image/png:https://mrvvillage.com/wp-content/uploads/2024/09/Screenshot-2024-03-17-at-12.40.40-PM-EAhDOb.tmp_-hekI4q.tmp_.png
ORGANIZER;CN="Lawson%26%238217%3Bs%20Finest%20Liquids":MAILTO:hello@lawsonsfinest.com
GEO:44.1878437;-72.8352541
X-APPLE-STRUCTURED-LOCATION;VALUE=URI;X-ADDRESS=Lawson’s Finest Taproom 155 Carroll Road Waitsfield Vermont 05673;X-APPLE-RADIUS=500;X-TITLE=155 Carroll Road:geo:-72.8352541,44.1878437
END:VEVENT
BEGIN:VEVENT
DTSTART;TZID=America/Halifax:20251106T160000
DTEND;TZID=America/Halifax:20251106T190000
DTSTAMP:20260424T110540
CREATED:20251007T052513Z
LAST-MODIFIED:20251106T180825Z
UID:10009082-1762444800-1762455600@mrvvillage.com
SUMMARY:Fresh Catch Thursday
DESCRIPTION:Every Thursday starting at 4pm we host Nor’Easter Catering for a raw bar pop-up. Come on down and enjoy the freshest oysters you can get your hands on\, and a variety of weekly specials that often include lobster rolls\, shrimp cocktails\, tuna poke bowls\, blue crab quesadillas\, and more!
URL:https://mrvvillage.com/event/fresh-catch-thursday-143/
LOCATION:Lawson’s Finest Brewery\, 155 Carroll Road\, Waitsfield\, VT\, 05673\, United States
CATEGORIES:At the Brewery,Fresh Catch Thursday,Vermont
ATTACH;FMTTYPE=image/jpeg:https://mrvvillage.com/wp-content/uploads/2024/12/FreshCatchThursday_WebImage_1-2548x3300-919050fe-ce72-44ad-8d6d-bb904a6f39fd-scaled-UPbgnL.tmp_-wHybhi.tmp_.jpg
ORGANIZER;CN="Lawson%26%238217%3Bs%20Finest%20Liquids":MAILTO:hello@lawsonsfinest.com
GEO:44.1878437;-72.8352541
X-APPLE-STRUCTURED-LOCATION;VALUE=URI;X-ADDRESS=Lawson’s Finest Brewery 155 Carroll Road Waitsfield VT 05673 United States;X-APPLE-RADIUS=500;X-TITLE=155 Carroll Road:geo:-72.8352541,44.1878437
END:VEVENT
BEGIN:VEVENT
DTSTART;TZID=America/Halifax:20251109T150000
DTEND;TZID=America/Halifax:20251109T170000
DTSTAMP:20260424T110540
CREATED:20251016T063933Z
LAST-MODIFIED:20251109T182324Z
UID:10009116-1762700400-1762707600@mrvvillage.com
SUMMARY:Sunday Sessions: Andrew Richards
DESCRIPTION:Vocalist and songwriter Andrew Richards is a Vermont-born jazz musician brings his distinctive baritone to “an endeavor to transcribe the human experience into song.” We are thrilled to welcome Andrew Richards to the Lawson’s Finest taproom for the very first time on Sunday November 9th.
URL:https://mrvvillage.com/event/sunday-sessions-andrew-richards/
LOCATION:Lawson’s Finest Brewery\, 155 Carroll Road\, Waitsfield\, VT\, 05673\, United States
CATEGORIES:At the Brewery,Vermont
ATTACH;FMTTYPE=image/png:https://mrvvillage.com/wp-content/uploads/2025/10/Screenshot-2025-10-15-at-9.55.46-AM-IHRhEV-Iqr9ny.png
ORGANIZER;CN="Lawson%26%238217%3Bs%20Finest%20Liquids":MAILTO:hello@lawsonsfinest.com
GEO:44.1878437;-72.8352541
X-APPLE-STRUCTURED-LOCATION;VALUE=URI;X-ADDRESS=Lawson’s Finest Brewery 155 Carroll Road Waitsfield VT 05673 United States;X-APPLE-RADIUS=500;X-TITLE=155 Carroll Road:geo:-72.8352541,44.1878437
END:VEVENT
END:VCALENDAR