BEGIN:VCALENDAR
VERSION:2.0
PRODID:-//The Mad River Valley Village - ECPv6.0.13//NONSGML v1.0//EN
CALSCALE:GREGORIAN
METHOD:PUBLISH
X-WR-CALNAME:The Mad River Valley Village
X-ORIGINAL-URL:https://mrvvillage.com
X-WR-CALDESC:Events for The Mad River Valley Village
REFRESH-INTERVAL;VALUE=DURATION:PT1H
X-Robots-Tag:noindex
X-PUBLISHED-TTL:PT1H
BEGIN:VTIMEZONE
TZID:America/New_York
BEGIN:DAYLIGHT
TZOFFSETFROM:-0500
TZOFFSETTO:-0400
TZNAME:EDT
DTSTART:20250309T070000
END:DAYLIGHT
BEGIN:STANDARD
TZOFFSETFROM:-0400
TZOFFSETTO:-0500
TZNAME:EST
DTSTART:20251102T060000
END:STANDARD
TZID:America/Halifax
BEGIN:DAYLIGHT
TZOFFSETFROM:-0400
TZOFFSETTO:-0300
TZNAME:ADT
DTSTART:20250309T060000
END:DAYLIGHT
BEGIN:STANDARD
TZOFFSETFROM:-0300
TZOFFSETTO:-0400
TZNAME:AST
DTSTART:20251102T050000
END:STANDARD
END:VTIMEZONE
BEGIN:VEVENT
DTSTART;TZID=America/New_York:20251111T173000
DTEND;TZID=America/New_York:20251111T193000
DTSTAMP:20260424T041616
CREATED:20251012T055438Z
LAST-MODIFIED:20251111T185324Z
UID:10009106-1762882200-1762889400@mrvvillage.com
SUMMARY:Tuesday Tunes: Bob Recupero
DESCRIPTION:Music for your ears and soul.
URL:https://mrvvillage.com/event/tuesday-tunes-bob-recupero-15/
LOCATION:Lawson’s Finest Taproom\, 155 Carroll Road\, Waitsfield\, Vermont\, 05673
CATEGORIES:At the Brewery,Tuesday Tunes,Vermont
ATTACH;FMTTYPE=image/png:https://mrvvillage.com/wp-content/uploads/2024/08/Screen-Shot-2023-02-20-at-6.18.01-PM-Iaw0Y6.tmp_-0yX1G4.tmp_.png
ORGANIZER;CN="Lawson%26%238217%3Bs%20Finest%20Liquids":MAILTO:hello@lawsonsfinest.com
GEO:44.1878437;-72.8352541
X-APPLE-STRUCTURED-LOCATION;VALUE=URI;X-ADDRESS=Lawson’s Finest Taproom 155 Carroll Road Waitsfield Vermont 05673;X-APPLE-RADIUS=500;X-TITLE=155 Carroll Road:geo:-72.8352541,44.1878437
END:VEVENT
BEGIN:VEVENT
DTSTART;TZID=America/Halifax:20251113T160000
DTEND;TZID=America/Halifax:20251113T190000
DTSTAMP:20260424T041616
CREATED:20251014T062426Z
LAST-MODIFIED:20251113T190828Z
UID:10009107-1763049600-1763060400@mrvvillage.com
SUMMARY:Fresh Catch Thursday
DESCRIPTION:Every Thursday starting at 4pm we host Nor’Easter Catering for a raw bar pop-up. Come on down and enjoy the freshest oysters you can get your hands on\, and a variety of weekly specials that often include lobster rolls\, shrimp cocktails\, tuna poke bowls\, blue crab quesadillas\, and more!
URL:https://mrvvillage.com/event/fresh-catch-thursday-144/
LOCATION:Lawson’s Finest Brewery\, 155 Carroll Road\, Waitsfield\, VT\, 05673\, United States
CATEGORIES:At the Brewery,Fresh Catch Thursday,Vermont
ATTACH;FMTTYPE=image/jpeg:https://mrvvillage.com/wp-content/uploads/2024/12/FreshCatchThursday_WebImage_1-2548x3300-919050fe-ce72-44ad-8d6d-bb904a6f39fd-scaled-UPbgnL.tmp_-wHybhi.tmp_.jpg
ORGANIZER;CN="Lawson%26%238217%3Bs%20Finest%20Liquids":MAILTO:hello@lawsonsfinest.com
GEO:44.1878437;-72.8352541
X-APPLE-STRUCTURED-LOCATION;VALUE=URI;X-ADDRESS=Lawson’s Finest Brewery 155 Carroll Road Waitsfield VT 05673 United States;X-APPLE-RADIUS=500;X-TITLE=155 Carroll Road:geo:-72.8352541,44.1878437
END:VEVENT
BEGIN:VEVENT
DTSTART;TZID=America/Halifax:20251114T180000
DTEND;TZID=America/Halifax:20251114T200000
DTSTAMP:20260424T041616
CREATED:20251008T054013Z
LAST-MODIFIED:20251114T192323Z
UID:10009086-1763143200-1763150400@mrvvillage.com
SUMMARY:Songs to Fill the Air feat. Zach Nugent
DESCRIPTION:A new monthly series at the Lawson’s Finest Taproom for music fans in the Valley and beyond. One Friday a month. \nWe’ll be kicking this series off on Friday\, November 14th with an acoustic Grateful Dead set from Zach Nugent. \nGlasses glowing with the gold of Sunshine
URL:https://mrvvillage.com/event/songs-to-fill-the-air/
LOCATION:Lawson’s Finest Brewery\, 155 Carroll Road\, Waitsfield\, VT\, 05673\, United States
CATEGORIES:At the Brewery,Vermont
ATTACH;FMTTYPE=image/jpeg:https://mrvvillage.com/wp-content/uploads/2025/10/Nugent-SongsToFill-8.5x11-Updated-pdf-zfSn29-EDeqDI.jpg
ORGANIZER;CN="Lawson%26%238217%3Bs%20Finest%20Liquids":MAILTO:hello@lawsonsfinest.com
GEO:44.1878437;-72.8352541
X-APPLE-STRUCTURED-LOCATION;VALUE=URI;X-ADDRESS=Lawson’s Finest Brewery 155 Carroll Road Waitsfield VT 05673 United States;X-APPLE-RADIUS=500;X-TITLE=155 Carroll Road:geo:-72.8352541,44.1878437
END:VEVENT
BEGIN:VEVENT
DTSTART;TZID=America/Halifax:20251116T150000
DTEND;TZID=America/Halifax:20251116T170000
DTSTAMP:20260424T041616
CREATED:20251017T065446Z
LAST-MODIFIED:20251116T195321Z
UID:10009118-1763305200-1763312400@mrvvillage.com
SUMMARY:Sunday Sessions: Remember Baker
DESCRIPTION:Remember Baker is joining the Lawson’s Finest taproom for the first time on November 16th\, bringing their blend of old time music\, bluegrass\, and New Orleans jazz.
URL:https://mrvvillage.com/event/sunday-sessions-remember-baker/
LOCATION:Lawson’s Finest Brewery\, 155 Carroll Road\, Waitsfield\, VT\, 05673\, United States
CATEGORIES:At the Brewery,Vermont
ATTACH;FMTTYPE=image/jpeg:https://mrvvillage.com/wp-content/uploads/2025/11/Taproom_WeeklyEvents-01-1-scaled-SF7dPf-tU7N32.jpg
ORGANIZER;CN="Lawson%26%238217%3Bs%20Finest%20Liquids":MAILTO:hello@lawsonsfinest.com
GEO:44.1878437;-72.8352541
X-APPLE-STRUCTURED-LOCATION;VALUE=URI;X-ADDRESS=Lawson’s Finest Brewery 155 Carroll Road Waitsfield VT 05673 United States;X-APPLE-RADIUS=500;X-TITLE=155 Carroll Road:geo:-72.8352541,44.1878437
END:VEVENT
END:VCALENDAR