BEGIN:VCALENDAR
VERSION:2.0
PRODID:-//The Mad River Valley Village - ECPv6.0.13//NONSGML v1.0//EN
CALSCALE:GREGORIAN
METHOD:PUBLISH
X-WR-CALNAME:The Mad River Valley Village
X-ORIGINAL-URL:https://mrvvillage.com
X-WR-CALDESC:Events for The Mad River Valley Village
REFRESH-INTERVAL;VALUE=DURATION:PT1H
X-Robots-Tag:noindex
X-PUBLISHED-TTL:PT1H
BEGIN:VTIMEZONE
TZID:America/Halifax
BEGIN:DAYLIGHT
TZOFFSETFROM:-0400
TZOFFSETTO:-0300
TZNAME:ADT
DTSTART:20250309T060000
END:DAYLIGHT
BEGIN:STANDARD
TZOFFSETFROM:-0300
TZOFFSETTO:-0400
TZNAME:AST
DTSTART:20251102T050000
END:STANDARD
TZID:America/New_York
BEGIN:DAYLIGHT
TZOFFSETFROM:-0500
TZOFFSETTO:-0400
TZNAME:EDT
DTSTART:20250309T070000
END:DAYLIGHT
BEGIN:STANDARD
TZOFFSETFROM:-0400
TZOFFSETTO:-0500
TZNAME:EST
DTSTART:20251102T060000
END:STANDARD
END:VTIMEZONE
BEGIN:VEVENT
DTSTART;TZID=America/Halifax:20251124T120000
DTEND;TZID=America/Halifax:20251124T200000
DTSTAMP:20260424T041615
CREATED:20251115T112406Z
LAST-MODIFIED:20251124T203828Z
UID:10009270-1763985600-1764014400@mrvvillage.com
SUMMARY:MadLove Mondays
DESCRIPTION:Every Monday at Lawson’s Finest Liquids! \n\n$5 pours of all our draft beers all day\nMac and cheese specials\nDouble your Toast loyalty points\n20% off cases of beer in our retail shop\nOur favorite recorded live shows over the speakers. Have a favorite? Let us know!\nAlso! Monthly artist spotlights and community features\n\n 
URL:https://mrvvillage.com/event/madlove-mondays-2/
LOCATION:Lawson’s Finest Brewery\, 155 Carroll Road\, Waitsfield\, VT\, 05673\, United States
CATEGORIES:At the Brewery,Vermont
ATTACH;FMTTYPE=image/jpeg:https://mrvvillage.com/wp-content/uploads/2025/11/Taproom_WeeklyEvents-02-scaled-71FmaW-wWZCVE.jpg
ORGANIZER;CN="Lawson%26%238217%3Bs%20Finest%20Liquids":MAILTO:hello@lawsonsfinest.com
GEO:44.1878437;-72.8352541
X-APPLE-STRUCTURED-LOCATION;VALUE=URI;X-ADDRESS=Lawson’s Finest Brewery 155 Carroll Road Waitsfield VT 05673 United States;X-APPLE-RADIUS=500;X-TITLE=155 Carroll Road:geo:-72.8352541,44.1878437
END:VEVENT
BEGIN:VEVENT
DTSTART;TZID=America/New_York:20251125T173000
DTEND;TZID=America/New_York:20251125T193000
DTSTAMP:20260424T041615
CREATED:20251026T082459Z
LAST-MODIFIED:20251125T205330Z
UID:10009181-1764091800-1764099000@mrvvillage.com
SUMMARY:Tuesday Tunes: The Dale & Darcy Band
DESCRIPTION:The Dale and Darcy band is composed of veteran acoustic musicians who play together at farmer’s markets\, fairs\, fes­tivals\, weddings\, in bars and taverns and anywhere people appreciate a lively tune. \nTheir music is clean\, crisp and clear. They have entertained guests every Saturday at The Von Trapp Family Brewery and Bakery for the past five summers and it is during that time that they developed the sweet harmonies  and uncomplicated tunes you will find on their album. The tenor banjo\, fiddles\, mandolin\, guitar and vocals create a sound that is pleasing to listen to\, to dance to or to have playing quietly in the background. While some of the tunes are familiar favorites\, others are simply their favorites\, the tunes that have made a lasting impression on us all.
URL:https://mrvvillage.com/event/tuesday-tunes-the-dale-darcy-band-4/
LOCATION:Lawson’s Finest Taproom\, 155 Carroll Road\, Waitsfield\, Vermont\, 05673
CATEGORIES:At the Brewery,Tuesday Tunes,Vermont
ATTACH;FMTTYPE=image/jpeg:https://mrvvillage.com/wp-content/uploads/2025/11/Taproom_WeeklyEvents-16-scaled-8n4gU4-YZ7es0.jpg
ORGANIZER;CN="Lawson%26%238217%3Bs%20Finest%20Liquids":MAILTO:hello@lawsonsfinest.com
GEO:44.1878437;-72.8352541
X-APPLE-STRUCTURED-LOCATION;VALUE=URI;X-ADDRESS=Lawson’s Finest Taproom 155 Carroll Road Waitsfield Vermont 05673;X-APPLE-RADIUS=500;X-TITLE=155 Carroll Road:geo:-72.8352541,44.1878437
END:VEVENT
BEGIN:VEVENT
DTSTART;TZID=America/Halifax:20251126T120000
DTEND;TZID=America/Halifax:20251126T200000
DTSTAMP:20260424T041615
CREATED:20251115T112419Z
LAST-MODIFIED:20251126T210825Z
UID:10009271-1764158400-1764187200@mrvvillage.com
SUMMARY:Sunshine Brat Wednesdays
DESCRIPTION:This ain’t your grandpa’s beer and a bratwurst. \nEvery Wednesday come to Lawson’s Finest Liquids for some big time flavor: A massive jalapeño cheddar beer bratwurst made with Sip of Sunshine by our friends at 5th Quarter Butcher\, served on a pretzel bun made by none other than Patrick from Green Mountain Twisters Pretzels\, comes with a side of crispy greens and a side of German potato salad\, and your choice of draft beer! All of this for just $20! Are we kidding?! Never. We’re all business\, baby.
URL:https://mrvvillage.com/event/sunshine-brat-wednesdays-2/
LOCATION:Lawson’s Finest Brewery\, 155 Carroll Road\, Waitsfield\, VT\, 05673\, United States
CATEGORIES:At the Brewery,Vermont
ATTACH;FMTTYPE=image/jpeg:https://mrvvillage.com/wp-content/uploads/2025/11/Taproom_WeeklyEvents-04-scaled-8Zlxlu-RgxnqM.jpg
ORGANIZER;CN="Lawson%26%238217%3Bs%20Finest%20Liquids":MAILTO:hello@lawsonsfinest.com
GEO:44.1878437;-72.8352541
X-APPLE-STRUCTURED-LOCATION;VALUE=URI;X-ADDRESS=Lawson’s Finest Brewery 155 Carroll Road Waitsfield VT 05673 United States;X-APPLE-RADIUS=500;X-TITLE=155 Carroll Road:geo:-72.8352541,44.1878437
END:VEVENT
BEGIN:VEVENT
DTSTART;TZID=America/Halifax:20251127T160000
DTEND;TZID=America/Halifax:20251127T190000
DTSTAMP:20260424T041615
CREATED:20251028T085458Z
LAST-MODIFIED:20251127T210824Z
UID:10009187-1764259200-1764270000@mrvvillage.com
SUMMARY:Fresh Catch Thursday
DESCRIPTION:Every Thursday starting at 4pm we host Nor’Easter Catering for a raw bar pop-up. Come on down and enjoy the freshest oysters you can get your hands on\, and a variety of weekly specials that often include lobster rolls\, shrimp cocktails\, tuna poke bowls\, blue crab quesadillas\, and more!
URL:https://mrvvillage.com/event/fresh-catch-thursday-146/
LOCATION:Lawson’s Finest Brewery\, 155 Carroll Road\, Waitsfield\, VT\, 05673\, United States
CATEGORIES:At the Brewery,Fresh Catch Thursday,Vermont
ATTACH;FMTTYPE=image/jpeg:https://mrvvillage.com/wp-content/uploads/2024/12/FreshCatchThursday_WebImage_1-2548x3300-919050fe-ce72-44ad-8d6d-bb904a6f39fd-scaled-UPbgnL.tmp_-wHybhi.tmp_.jpg
ORGANIZER;CN="Lawson%26%238217%3Bs%20Finest%20Liquids":MAILTO:hello@lawsonsfinest.com
GEO:44.1878437;-72.8352541
X-APPLE-STRUCTURED-LOCATION;VALUE=URI;X-ADDRESS=Lawson’s Finest Brewery 155 Carroll Road Waitsfield VT 05673 United States;X-APPLE-RADIUS=500;X-TITLE=155 Carroll Road:geo:-72.8352541,44.1878437
END:VEVENT
BEGIN:VEVENT
DTSTART;TZID=America/Halifax:20251129T110000
DTEND;TZID=America/Halifax:20251129T150000
DTSTAMP:20260424T041615
CREATED:20251030T090958Z
LAST-MODIFIED:20251129T212326Z
UID:10009190-1764414000-1764428400@mrvvillage.com
SUMMARY:Maker’s Market November 29th
DESCRIPTION:It’s back! November 29th (and then again on December 13th) we’ll feature over 20 local vendors at the Lawson’s Finest Taproom in Waitsfield\, VT. Come get all your holiday shopping done in one fell swoop\, while supporting the best artists and producers in the Valley. Do it all while sipping on one of our fresh maple beers or IPAs\, or transport yourself to the winter markets of Germany with a glass of delicious mulled wine. End your loop in our retail store\, where we’ll be offering free gift wrapping on any of our merchandise or apparel\, with new items joining us just in time for the holidays.
URL:https://mrvvillage.com/event/makers-market-november-29th/
LOCATION:Lawson’s Finest Brewery\, 155 Carroll Road\, Waitsfield\, VT\, 05673\, United States
CATEGORIES:At the Brewery,Vermont
ATTACH;FMTTYPE=image/jpeg:https://mrvvillage.com/wp-content/uploads/2025/10/MakersMarket_Poster_2025-pdf-Hf6AyB-UmfNa4.jpg
ORGANIZER;CN="Lawson%26%238217%3Bs%20Finest%20Liquids":MAILTO:hello@lawsonsfinest.com
GEO:44.1878437;-72.8352541
X-APPLE-STRUCTURED-LOCATION;VALUE=URI;X-ADDRESS=Lawson’s Finest Brewery 155 Carroll Road Waitsfield VT 05673 United States;X-APPLE-RADIUS=500;X-TITLE=155 Carroll Road:geo:-72.8352541,44.1878437
END:VEVENT
BEGIN:VEVENT
DTSTART;TZID=America/New_York:20251130T150000
DTEND;TZID=America/New_York:20251130T170000
DTSTAMP:20260424T041615
CREATED:20251031T092455Z
LAST-MODIFIED:20251130T142325Z
UID:10009196-1764514800-1764522000@mrvvillage.com
SUMMARY:Sunday Sessions: Ryan Sweezey
DESCRIPTION:Fresh off his new album\, Maybe Magic\, and a nomination for Songwriter of the Year by the New England Music Awards\, we are thrilled to welcome Vermont’s Ryan Sweezey back to the Lawson’s Finest taproom. 
URL:https://mrvvillage.com/event/sunday-sessions-ryan-sweezey/
LOCATION:Lawson’s Finest Taproom\, 155 Carroll Road\, Waitsfield\, Vermont\, 05673
CATEGORIES:At the Brewery,Vermont
ATTACH;FMTTYPE=image/jpeg:https://mrvvillage.com/wp-content/uploads/2025/11/Taproom_WeeklyEvents-08-1-scaled-e30HSs-ioeQx9.jpg
ORGANIZER;CN="Lawson%26%238217%3Bs%20Finest%20Liquids":MAILTO:hello@lawsonsfinest.com
GEO:44.1878437;-72.8352541
X-APPLE-STRUCTURED-LOCATION;VALUE=URI;X-ADDRESS=Lawson’s Finest Taproom 155 Carroll Road Waitsfield Vermont 05673;X-APPLE-RADIUS=500;X-TITLE=155 Carroll Road:geo:-72.8352541,44.1878437
END:VEVENT
END:VCALENDAR